Workbook

Sheet Cover page

Sheet Mõisted
B3: Mõisted ja lühendid
B6: Mõiste | C6: Selgitus
B7: Kaitseväärtus | C7: Ala kaitse alla võtmise määruses/kaitse-eeskirjas nimetatud kaitstav loodusväärtus (kaitse-eesmärk).
B8: Kaitse-eesmärk | C8: Kaitseväärtuse soovitud seisund.
B9: Kava | C9: Kaitstava loodusobjekti kaitsekorralduse aluseks olev tegevuskava: kaitsekorralduskava, liigi kaitse tegevuskava, elupaiga tegevuskava.
B10: KKK | C10: Kaitstava loodusobjekti kaitsekorralduskava.
B11: Kaitsekorraldusperiood | C11: Esmakordsel hindamisel ja ajakohase (s.t kava sisu on olnud üldjoontes jätkuvalt asjakohane) kava olemasolul on hinnatava kaitsekorraldusperioodi alguseks kava algus/koostamise aeg ja perioodi lõpuks hindamise aeg. Kava puudumisel ja/või korduval hindamisel saab kaitsekorraldusperioodiks arvestada hindamistsükli pikkust/eelmise hindamise läbi viimise aega (vastavalt hindamise korraldusele 10 või 12 aastat).
B12: Survetegur | C12: Kaitseväärtuse soodsa seisundi säilimist või saavutamist negatiivselt mõjutav tegur (nt reostuskoormus, häiringud, maaparanduse mõju, intensiivne maakasutus, võõrliikide surve jm)
B13: Kaitsekorralduslikud meetmed | C13: Tegevused, mida tuleb rakendada kaitse-eesmärkide saavutamiseks, sh eesmärkide saavutamist ohustavate mõjutegurite ohjamine. Kaitsekorralduslike meetmete hulka kuulub elupaikade kaitsmine, säilitamine, loomine, taastamine, majandamine. Käesoleva hindamise kontekstis on eristatatud: - looduskaitseseadusest ja/või ala kaitse-eeskirjast tulenev kaitsekord (õigusaktidega kehtestatud piirangud); - kaitseala n-ö aktiivne majandamine ehk täiendavate tegevuste planeerimine läbi tegevuskavade, tööplaanide, toetusprogrammide (nt elupaikade taastamine ja hooldamine, külastustaristu rajamine). N-ö aktiivsete meetmete puhul on omakorda eristatud: - looduskaitsemeetmed/otseselt kaitseväärtustele suunatud meetmed ehk tegevused, mille rakendamisest võib oodata otsest kasu liikide või elupaikade seisundile (nt elupaiga taastamine, elupaiga hooldamine, võõrliigi tõrje). - toetavad meetmed ehk tegevused, mille kasu kaitseväärtustele on kaudne (nt seire seisundi tuvastamiseks, kava koostamine ja tulemuslikkuse hindamine tegevuste planeerimiseks, haridusprogrammid teadlikkuse tõstmiseks, kaitseala tähistamine piirangute rakendamiseks jm)
B14: SMART | C14: Mõistet SMART (specific, measurable, achievable, relevant, time-bound) kasutatakse siinkohal kaitse-eesmärkide ja meetmete kontekstis. "SMART" mudelile vastav eesmärk või meede on konkreetne, mõõdetav, saavutatav, asjakohane ja ajaliselt määratletud.
B15: Väljund (rakendatud tegevus) | C15: Väljunditeks on ellu viidud tegevused ja nende mõõdetavad näitajad: nt taastatud või hooldatud alade pindala, rajatud külastustaristu pikkus, kontrollkäikude arv vms.
B16: Tulemus (saavutatud seisund) | C16: Tulemus on ellu viidud tegevuste abil saavutatud olukord, mis võib olla kirjeldatud läbi liikide ja elupaikade seisundi.
B19: Survetegurite kategooriad | C19: Selgitus
... B36: kliimamuutused | C36: põuad, üleujutused, veerežiimi muutused, liikide levikuareaali muutumine jm kliimamuutuste mõjul
B37: muu
B41: Loodusdirektiivi aruande hinnangud | C41: Selgitus
B42: soodne | C42: favourable = FV
B43: ebapiisav | C43: unfavourable-inadequate= U1
B44: halb | C44: unfavourable-bad = U2
B45: teadmata | C45: unknown=XX

Sheet Üldinfo
B3: Üldinfo
B5: Küsimus | C5: Vastus
B6: Kaitstava loodusobjekti nimi | C6: Reiu jõe hoiuala
B7: KKR kood | C7: KLO2000294
B8: Asukoht (maakonnad) | C8: Pärnu maakond
B9: Kaitse alla võtmise aeg (ala moodustamise aasta) | C9: 2007
B10: Vöönd(id): | C10: hoiuala
B11: loodusreservaatide arv | C11: ei kohaldu
B12: loodusreservaatide kogupindala | C12: ei kohaldu
B13: sihtkaitsevööndite arv | C13: ei kohaldu
B14: sihtkaitsevööndite kogupindala | C14: ei kohaldu
B15: piiranguvööndite arv | C15: ei kohaldu
B16: piiranguvööndite kogupindala | C16: ei kohaldu
B17: IUCN kategooria(d) | C17: VI
B18: Natura 2000 võrgustiku alad | C18: Reiu jõe loodusala
B19: Kaitseala valitseja | C19: Keskkonnaamet
B20: Kogupindala (ha) | C20: 105,4 ha
B21: Maismaa pindala (ha) | C21: 10,1 ha
... B25: Tulemuslikkuse hindaja nimi | C25: Kirsi Loide
B26: Tulemuslikkuse hindamise kuupäev (pp.kk.aaaa) | C26: 45743
B27: Eelmise hindamise aeg (pp.kk.aaaa), s.h METT hindamine
B28: Loodusobjekti esile tõstmist vääriv tähtsus või eripära piirkonna, Eesti või Euroopa kontekstis* (*täita asjakohasusel)

Sheet Hindamistabel
A1: Valdkond | B1: Teema | C1: Nr | D1: Küsimus | E1: Suunised vastamiseks | F1: Vastuse liik | G1: Võimalikud andmeallikad | H1: Vastusevariandid | I1: Skoor | K1: Vastus (sobiva vastusevariandi reale märkida skoor kõrvaltulbast, kirjeldava vastuse korral kirjutada lahtrisse oma vastus) | L1: Vastamisel kasutatud andmeallikas | M1: Selgitused, lisainfo/ vastuse põhjendus
A2: üldine | B2: üldine | C2: 0 | D2: Kas alal on (ajakohane) kava? | E2: Kavana mõistetakse siinkohal vastavalt kohaldumisele eri tüüpi kavasid: kaitsekorralduskava, liigi kaitse tegevuskava, elupaiga tegevuskava. Vastusevariant "pole asjakohane" kohaldub kaitstavatele objektidele, mille puhul on jõutud otsusele, et tegevuskava ei ole vajalik - ala kaitseks piisab õigusaktidest tulenevast kaitsekorrast. Juhul, kui kava(d) on selgelt vananenud, s.t need ei ole hinnataval perioodil ja/või hindamise hetkel olnud kasutatavad kaitsekorralduse planeerimiseks, tuleb valida vastus "ei". Ajakohasuse määramisel ei ole siinkohal ette antud kava kindlat vanust, vaid vastamisel tuleks kasutada enda hinnangut, kas kava sisu (s.h eesmärgid ja meetmed) on olnud üldjoontes jätkuvalt asjakohane. Juhul, kui kava on üldjoontes asjakohane, kuid vahepeal on toimunud kaitse-eeskirja muutmine, selguvad kitsaskohad järgnevate küsimustega ning kava ei pea siin küsimuses aegunuks lugema. Kui on olemas KKK, mis katab osa ala territooriumist ja/või kaitseväärtustest (nt jääb kaitseala osaliselt loodusala territooriumile, millele on koostatud KKK), tuleb valida osalise katvuse vastusevariant. Koostamisetapis olevaid kaitsekorralduskavasid mitte arvestada. Liigikaitsekavasid ja elupaiga tegevuskavasid sisaldava vastusevariandi valimisel võib lähtuda EELISes sisalduvatest seostest. Küsimuses soovitakse eelkõige selgitada alapõhise tegevuskava olemasolu ning täiendavate kavade välja toomine tulemust otseselt ei mõjuta. | F2: Hindamisskaala/ valikvastus | G2: kava(d), EELIS | H2: Ei (jäta küsimused 2, 4-8, 12, 13 vahele) | I2: 0 | J2: =IF(K2<>"",TRUE,FALSE) -> FALSE
H3: Alapõhine kaitsekorralduskava puudub, kuid ala olulisematele kaitseväärtustele kohalduvad liigikaitsekava(d) ja/või elupaiga tegevuskava(d) | I3: 1 | J3: =IF(K3<>"",TRUE,FALSE) -> FALSE
H4: Jah, kuid alapõhine kaitsekorralduskava (lühikava või täiskava) katab vaid osa ala territooriumist | I4: 1 | J4: =IF(K4<>"",TRUE,FALSE) -> FALSE
H5: Jah, lihtsustatud alapõhine kaitsekorralduskava (lühikava) | I5: 2 | J5: =IF(K5<>"",TRUE,FALSE) -> FALSE
H6: Jah, lihtsustatud alapõhine kaitsekorralduskava (lühikava), lisaks kohalduvad liigikaitsekava(d) ja/või elupaiga tegevuskava(d) | I6: 2 | J6: =IF(K6<>"",TRUE,FALSE) -> FALSE
H7: Jah, alapõhine kaitsekorralduskava | I7: 3 | J7: =IF(K7<>"",TRUE,FALSE) -> FALSE
H8: Jah, alapõhine kaitsekorralduskava, lisaks kohalduvad liigikaitsekava(d) ja/või elupaiga tegevuskava(d) | I8: 3 | J8: =IF(K8<>"",TRUE,FALSE) -> TRUE | K8: 3 | L8: EELIS | M8: KKK, lisaks kohaldub jõesilmule LTK
H9: Pole asjakohane (alal pole kava vajalik; jäta küsimused 2, 4-8, 12, 13 vahele) | I9: ei kohaldu | J9: =IF(K9<>"",TRUE,FALSE) -> FALSE
A10: planeerimine | B10: seisund | C10: 1.a | D10: Kas kõikide ala kaitseväärtuseks olevate liikide esinemise/seisundi info oli kaitsekorraldusperioodi alguses kindlaks tehtud? | E10: Kaitseväärtustele eesmärkide (ehk soovitud saavutatava seisundi) määramiseks ja eesmärkide suunas liikumise hindamiseks on vajalik selge ülevaade kõigi kaitseväärtuste seisundist kaitstaval loodusobjektil. Kaitseväärtusena mõeldakse siinkohal (ja edaspidi) kehtivas kaitse-eeskirjas nimetatud kaitstavat loodusväärtust. Vastamisel arvestada, kas info liigi olukorrast alal oli teada ja n-ö lähteolukorrana esitatud. Antud küsimuses ei ole oluline keskenduda esitatud andmete mõõdetavusele ja kvaliteedile, s.t. piisavaks saab lugeda nt ka info, et liiki ei esine või liik esineb. Piisavaks ei saa lugeda nt infot, et "käesoleval perioodil teave puudub, kuid varasemast on olnud teada liigi pesitsemine", sest see ei anna selgust liigi esinemise osas käsitletaval perioodil. Kaitsekorraldusperioodi algusena saab esmakordsel hindamisel arvestada kaitsekorralduskava koostamise või uuendamise aega, edaspidi eelmist hindamist. Kava puudumisel saab kaitsekorraldusperioodiks arvestada hindamise tsükli pikkust (10 või 12 aastat). Kava olemasolul saab vaadata, kas kõikide kaitseväärtuste esinemine või seisund on kavas kirjeldatud. Kava puudumisel võib arvestada ala kaitseväärtuste seisundi tervikliku ülevaate esitamist mõnes muus protsessis/dokumendis (nt ala kaitse alla võtmisel, Natura standardandmebaasis) hinnatava perioodi algul. Küsimus 1.a juures on oodatud vastus ainult liikidele ja 1.b juures ainult elupaikadele (kooslustele). | F10: Hindamisskaala/ valikvastus | G10: kava(d), EELIS, KESE, inventuurid | H10: Seisund ei olnud määratud (jäta 1.c vahele) | I10: 0 | J10: =IF(K10<>"",TRUE,FALSE) -> FALSE
H11: Seisund oli määratud <50% väärtustest | I11: 1 | J11: =IF(K11<>"",TRUE,FALSE) -> FALSE
H12: Seisund oli määratud 50-90% väärtustest | I12: 2 | J12: =IF(K12<>"",TRUE,FALSE) -> FALSE
H13: Seisund oli määratud ≥90% väärtustele | I13: 3 | J13: =IF(K13<>"",TRUE,FALSE) -> TRUE | K13: 3 | L13: KKK
H14: Pole asjakohane (liigid ei ole kaitse-eesmärgiks) | I14: ei kohaldu | J14: =IF(K14<>"",TRUE,FALSE) -> FALSE
A15: planeerimine | B15: seisund | C15: 1.b | D15: Kas kõikide ala kaitseväärtuseks (kaitse-eesmärgiks) olevate elupaikade seisund oli kaitsekorraldusperioodi alguses kindlaks tehtud? | E15: Kaitseväärtustele kaitse-eesmärkide määramiseks ja eesmärkide suunas liikumise hindamiseks on vajalik selge ülevaade kõigi kaitseväärtuste seisundist. Kaitse-eesmärgina/kaitseväärtusena mõeldakse siinkohal kehtivas kaitse-eeskirjas nimetatud kaitstavat loodusväärtust. Antud küsimuse kontekstis võib keskenduda üksnes loodusdirektiivi elupaigatüüpidele, s.t elupaikadele, mille tunnused, piirid ja seisund on üheselt määratletavad. Arvestama ei pea üldisemaid määratlusi (nt "metsakooslused (metsaökosüsteemid)") Vastamisel arvestada, kas info iga elupaigatüübi olukorrast alal oli teada ja n-ö lähteolukorrana esitatud. Antud küsimuses ei ole oluline keskenduda esitatud andmete kvaliteedile - piisavaks saab lugeda nt ka info, kui esitatud on elupaigatüübi pindalaline ulatus, kuid esinduslikkus/seisund on määramata. Kaitsekorraldusperioodi algusena saab esmakordsel hindamisel arvestada kaitsekorralduskava koostamise või uuendamise aega, edaspidi eelmist hindamist. Kava puudumisel saab kaitsekorraldusperioodiks arvestada hindamise tsükli pikkust (10 või 12 aastat). Kava olemasolul saab vaadata, kas kõikide kaitseväärtuste esinemine või seisund on kavas kirjeldatud. Kava puudumisel võib arvestada ala kaitseväärtuste seisundi tervikliku ülevaate esitamist mõnes muus protsessis/dokumendis (nt ala kaitse alla võtmisel, Natura standardandmebaasis) hinnatava perioodi algul. Küsimus 1.a juures on oodatud vastus ainult liikidele ja 1.b juures ainult elupaikadele (kooslustele). | F15: Hindamisskaala/ valikvastus | G15: kava(d), EELIS | H15: Seisundit ei olnud määratud (jäta 1.d vahele) | I15: 0 | J15: =IF(K15<>"",TRUE,FALSE) -> FALSE
H16: Seisund oli määratud <50% väärtustest | I16: 1 | J16: =IF(K16<>"",TRUE,FALSE) -> FALSE
H17: Seisund oli määratud 50-90% väärtustest | I17: 2 | J17: =IF(K17<>"",TRUE,FALSE) -> FALSE
H18: Seisund oli määratud ≥90% väärtustele | I18: 3 | J18: =IF(K18<>"",TRUE,FALSE) -> TRUE | K18: 3 | L18: KKK
H19: Pole asjakohane (elupaigad ei ole kaitse-eesmärgiks) | I19: ei kohaldu | J19: =IF(K19<>"",TRUE,FALSE) -> FALSE
A20: planeerimine | B20: seisund | C20: 1.c. | D20: Milline on liikide seisundi andmete usaldusväärsus ja kvaliteet? | E20: Kaitse-eesmärkide suunas liikumise hindamiseks on vajalikud usaldusväärsed, (tegevuskava koostamise ajal) ajakohased, mõõdetavad ja võrreldavad alusandmed (inventuurid, seired, vaatlused). Küsimusega soovitakse selgitada, millistel alustel on seisundi hinnangud esitatud ja kas see on esitatud mõõdetavana. Kui seisundi kirjelduse põhjal ei ole võimalik selgitada, millele seisundi hinnang tugineb, valida esimene vastusevariant ("halb"). Osakaalude arvutamisel arvestada sisse ka need liigid, mille seisundit ei ole üldse määratud (liigituvad puudulike alusandmetega gruppi). | F20: Hindamisskaala/ valikvastus | G20: kava(d), EELIS | H20: Halb - puudub informatsioon alusandmete kohta ja/või seisund on esitatud üldise/täpsustamata hinnanguna | I20: 0 | J20: =IF(K20<>"",TRUE,FALSE) -> FALSE
H21: Kesine - <50% seisundi hinnangutest põhineb ajakohastel kvantitatiivsetel andmetel (uuringud, seired, inventuurid, vaatlused) | I21: 1 | J21: =IF(K21<>"",TRUE,FALSE) -> FALSE
H22: Hea - 50-90% seisundi hinnangutest põhineb ajakohastel kvantitatiivsetel andmetel (uuringud, seired, inventuurid, vaatlused) | I22: 2 | J22: =IF(K22<>"",TRUE,FALSE) -> FALSE
H23: Väga hea - ≥90% seisundi hinnangutest põhineb ajakohastel kvantitatiivsetel andmetel (uuringud, seired, inventuurid, vaatlused) | I23: 3 | J23: =IF(K23<>"",TRUE,FALSE) -> TRUE | K23: 3 | L23: KKK | M23: kõikide liikide kohta on kavas kirjeldatud, kas uuringute või inventuuride käigus on leitud või mitte (jõgede hüdrobioloogilised seired)
H24: Pole asjakohane | I24: ei kohaldu | J24: =IF(K24<>"",TRUE,FALSE) -> FALSE
A25: planeerimine | B25: seisund | C25: 1.d. | D25: Milline on elupaikade seisundiandmete usaldusväärsus ja kvaliteet? | E25: Kaitse-eesmärkide suunas liikumise hindamiseks on vajalikud usaldusväärsed, (tegevuskava koostamise ajal) ajakohased, mõõdetavad ja võrreldavad alusandmed (inventuurid, seired, vaatlused). Küsimusega soovitakse selgitada, millistel alustel on seisundi hinnangud esitatud ja kas see on esitatud mõõdetavana. Kui seisundi kirjelduse põhjal ei ole võimalik selgitada, millele seisundi hinnang tugineb, valida esimene vastusevariant ("halb"). Osakaalude arvutamisel arvestada sisse ka need elupaigad, mille seisundit ei ole üldse määratud (liigituvad puudulike alusandmetega gruppi). | F25: Hindamisskaala/ valikvastus | G25: kava(d), EELIS | H25: Halb - puudub informatsioon alusandmete kohta ja/või seisund on esitatud üldise/umbmäärase hinnanguna | I25: 0 | J25: =IF(K25<>"",TRUE,FALSE) -> FALSE
H26: Kesine - <50% seisundi hinnangutest põhineb ajakohastel kvantitatiivsetel andmetel (uuringud, seired, inventuurid, vaatlused) | I26: 1 | J26: =IF(K26<>"",TRUE,FALSE) -> FALSE
H27: Hea - 50-90% seisundi hinnangutest põhineb ajakohastel kvantitatiivsetel andmetel (uuringud, seired, inventuurid, vaatlused) | I27: 2 | J27: =IF(K27<>"",TRUE,FALSE) -> FALSE
H28: Väga hea - ≥90% seisundi hinnangutest põhineb ajakohastel kvantitatiivsetel andmetel (uuringud, seired, inventuurid, vaatlused) | I28: 3 | J28: =IF(K28<>"",TRUE,FALSE) -> TRUE | K28: 3 | L28: KKK | M28: seisund on kirjeldatud läbi karakterliikide esinemise ja veekogu hüdrobioloogilise seisundi hinnangu
H29: Pole asjakohane | I29: ei kohaldu | J29: =IF(K29<>"",TRUE,FALSE) -> FALSE
A30: planeerimine | B30: seisund | C30: 2.a | D30: Kas eelmisel kaitsekorraldusperioodil/selle kaitsekorraldusperioodi algul tuvastati andmelünki, mis takistasid lähteolukorra (kaitseväärtuste seisundi) kindlaks määramist? | E30: Selleks, et tagada, et iga uus kaitsekorraldusperiood täiendaks/parandaks eelmist, on oluline välja selgitada puudused, mis tekivad lähteolukorra hindamisel ja näha ette tegevused oluliste andmelünkade täitmiseks. Küsimusele vastates peab välja tooma, kas andmelünkadele on kavas aktiivselt tähelepanu juhitud. | F30: Hindamisskaala/ valikvastus | G30: kava(d), EELIS | H30: Andmelünkasid ei ole analüüsitud/kavas(-des) kajastatud | I30: 0 | J30: =IF(K30<>"",TRUE,FALSE) -> FALSE
H31: On tuvastatud mõned andmelüngad, kuid nende lünkade täitmise vajadus ei ole selgelt välja toodud. | I31: 1 | J31: =IF(K31<>"",TRUE,FALSE) -> FALSE
H32: Andmelüngad on põhjalikult kaardistatud ning andmelünkade täitmiseks vajalikud tegevused on selgelt välja toodud. | I32: 2 | J32: =IF(K32<>"",TRUE,FALSE) -> TRUE | K32: 2 | L32: KKK | M32: ettenähtud täiendavate andmete kogumine liikide ja elupaikade tulemuslikkuse hindamiseks
H33: Olulised andmelüngad puuduvad/ei ole asjakohane (jäta 2.b vahele) | I33: 3 | J33: =IF(K33<>"",TRUE,FALSE) -> FALSE
A34: planeerimine | B34: seisund | C34: 2.b | D34: Kas tuvastatud andmelüngad on kaitsekorraldusperioodil täidetud? | E34: Küsimuses 2.a välja toodud andmelünkade osas, tuleb antud vastuses anda ülevaade sellest, kui suures ulatuses on tuvastatud andmelünki kaitsekorraldusperioodil likvideeritud. | F34: Hindamisskaala/ valikvastus | G34: EELIS, KESE | H34: Tuvastatud andmelünki ei ole täidetud | I34: 0 | J34: =IF(K34<>"",TRUE,FALSE) -> FALSE
H35: Vähem kui pooled andmelüngad (<50%) on täidetud, kuid siiski on veel märkimisväärseid puuduseid alusandmetes. | I35: 1 | J35: =IF(K35<>"",TRUE,FALSE) -> FALSE
H36: Pool või enam (50%-<100%) tuvastatud andmelünki on täidetud. | I36: 2 | J36: =IF(K36<>"",TRUE,FALSE) -> TRUE | K36: 2 | L36: KKK, KESE, KIRKE
H37: Kõik tuvastatud andmelüngad on täidetud. | I37: 3 | J37: =IF(K37<>"",TRUE,FALSE) -> FALSE
A38: planeerimine | B38: survetegurid | C38: 3.a | D38: Kas ala kõigi kaitseväärtuste osas on survetegurid (otsesed negatiivsed mõjutegurid) tuvastatud? | E38: Survetegur on negatiivne mõjutegur, mis mõjutab kaitseväärtuse seisundit ja/või kaitse-eesmärkide saavutamist. Seetõttu on vajalik survetegurite kaardistamine ja nende mõju analüüsimine konkreetse asukoha tasemel. Survetegurid on näiteks maa- ja merekasutuse muutused, otsene liigi või elupaiga kahjustamine, kliimamuutused, reostus, võõrliigid jm. Juhul, kui on teada ja/või selgitatud, et kaitseväärtusel märkimist väärivad survetegurid puuduvad, ei ole see puuduseks, vaid sel juhul tuleb kaitseväärtust arvestada samaväärselt väärtustega, mille survetegurid on tuvastatud. | F38: Hindamisskaala/ valikvastus | G38: kava(d), EELIS | H38: Ala survetegureid ei ole kindlaks määratud (jäta 3.b ja 4 vahele) | I38: 0 | J38: =IF(K38<>"",TRUE,FALSE) -> FALSE
H39: Survetegurid on määratletud riigi tasemel (nt liigi ohustatuse hindamisel, liigi või elupaiga tegevuskavas vm), alapõhiseid survetegureid ei ole kaardistatud/hinnatud. | I39: 1 | J39: =IF(K39<>"",TRUE,FALSE) -> FALSE
H40: Survetegurid on kindlaks määratud vähem kui pooltele (<50%) kaitseväärtustele | I40: 1 | J40: =IF(K40<>"",TRUE,FALSE) -> FALSE
H41: Survetegurid on kindlaks määratud pooltele või enamale (50% - <100%) kaitseväärtustest | I41: 2 | J41: =IF(K41<>"",TRUE,FALSE) -> FALSE
H42: Survetegurid on kindlaks määratud kõigile (100%) kaitseväärtustele (kui asjakohane) | I42: 3 | J42: =IF(K42<>"",TRUE,FALSE) -> TRUE | K42: 3 | L42: KKK
A43: planeerimine | B43: survetegurid | C43: 3.b | D43: Kas iga (küsimuses 3.a käsitletud) surveteguri olulisus ja ulatus on kindlaks määratud? | E43: Surveteguri olulisust hinnatakse kaitse-eesmärkide ohustamise vaates - nt kas survetegur mõjutab kaitseväärtust vaid veidi või võib kaasa tuua väärtuse hävinemise. Selleks tuleb survetegurite olulisust hinnata kaitseväärtuste kaupa. Surveteguri ulatust hinnatakse selle ruumilise ulatuse ja/või intensiivsuse osas. Kuni ühtlustatud survetegurite määratlemise metoodika välja töötamiseni saab piisavaks lugeda üldiseid kirjeldavaid hinnanguid. Surveteguri olulisuse ja ulatuse saab määratuks lugeda, kui on üldjoontes teada kus asukohas ja/või milliseid kaitseväärtuseid survetegur mõjutab (nt kas survetegur on oluline kogu kaitsealal või ainult mingis kindlas piirkonnas) ning selle põhimõtteline tähtsus ala või väärtuse kontekstis (nt kas sellega tegelemine on primaarne). | F43: Hindamisskaala/ valikvastus | G43: kava(d), EELIS | H43: Survetegurite ulatus ja olulisus ei ole kindlaks määratud | I43: 0 | J43: =IF(K43<>"",TRUE,FALSE) -> FALSE
H44: Survetegurite ulatus ja olulisus on kindlaks määratud vähem kui poolte (<50%) kaitseväärtuste puhul ja/või vaid mõne surveteguri puhul | I44: 1 | J44: =IF(K44<>"",TRUE,FALSE) -> FALSE
H45: Survetegurite ulatus ja olulisus on kindlaks määratud poolte või enama (50% - <100%) kaitseväärtuste ja survetegurite puhul | I45: 2 | J45: =IF(K45<>"",TRUE,FALSE) -> FALSE
H46: Survetegurite ulatus ja olulisus on kindlaks määratud kõikide kaitseväärtuste ja survetegurite puhul | I46: 3 | J46: =IF(K46<>"",TRUE,FALSE) -> TRUE | K46: 3 | L46: KKK
A47: planeerimine | B47: survetegurid | C47: 3.c | D47: Nimeta ala kõige olulisemad survetegurid? | E47: Nimeta ala viis kõige olulisemat survetegurit (kui alal on vähem kui viis olulist survetegurit, nimeta need kõik). Vali surveteguri tüüp rippmenüüst ning vajadusel täpsusta valikut selgituste lahtris. Surveteguri kategooriate selgitus on mõistete lehel. Valides vastuseks "muu", lisa selgitus selgituste lahtris. Kui kavas ei ole survetegurite olulisust määratud või see ei võimalda valiku tegemist, kasuta enda hinnangut. Hinnangu andmisel võib vajadusel/asjakohasusel nimetada ka survetegureid, mida kavas ei ole nimetatud, kuid mis on vastaja teadmiste kohaselt või muude andmeallikate põhjal oluliseks surveteguriks (nt on tegu uue surveteguriga). Vastamisel märkida andmeallika lahtrisse, kas kasutatud on kava, muud andmeallikat, eksperthinnangut vm. Kui survetegur ei ole kavas üldse nimetatud, märkida see info lisaks selgituste lahtrisse. Valiku tegemisel võta arvesse nii surveteguri mõju üksikutele kaitseväärtustele (nt kas surveteguri jätkuv mõju võib viia mingi populatsiooni hääbumiseni või elupaigatüübi degradeerumiseni) kui ulatust (nt kas survetegur mõjutab paljusid kaitseväärtusi). | F47: Valikvastus | G47: kava(d), EELIS | H47: põllumajandus; rohumaade hülgamine; metsandus; kuivendamine; kaevandamine; energiatootmine; transport; ehitustegevus ja asustus; elusorganismide kasutus; militaartegevus ja häiringud inimtegevusest; reostus; invasiivsed ja võõrliigid; veerežiimi muutmine; looduslikud protsessid; loodusõnnetused; kliimamuutused; muu | I47: ei kohaldu | J47: =IF(K47<>"",TRUE,FALSE) -> TRUE | K47: inimtekkelised veerežiimi muutused
I48: ei kohaldu | J48: =IF(K48<>"",TRUE,FALSE) -> TRUE | K48: looduslikud protsessid
I49: ei kohaldu | J49: =IF(K49<>"",TRUE,FALSE) -> TRUE | K49: muu | L49: KKK | M49: info puudumine elupaikade seisundi kohta
I50: ei kohaldu | J50: =IF(K50<>"",TRUE,FALSE) -> FALSE
I51: ei kohaldu | J51: =IF(K51<>"",TRUE,FALSE) -> FALSE
A52: planeerimine | B52: survetegurid | C52: 4 | D52: Kas arvesse on võetud ka väljastpoolt kaitseala tulenevaid survetegureid? | E52: Survetegurid ei eksisteeri vaid kaitseala piirides. Paljud survetegurid pärinevad väljastpoolt kaitseala ja võivad sellele vaatamata avaldada märkimisväärset survet alale. Seepärast on oluline nende survetegurite kindlaks määramine ja kaitseväärtustele avaldatava mõju analüüsimine. | F52: Hindamisskaala/ valikvastus | G52: kava(d), EELIS | H52: Kaitseala piiridest väljaspoolt tulenevaid survetegureid ei ole arvestatud või puudub vastav informatsioon | I52: 0 | J52: =IF(K52<>"",TRUE,FALSE) -> FALSE
H53: Kaitseala piiridest väljaspoolt tulenevaid survetegureid on arvestatud osaliselt. | I53: 2 | J53: =IF(K53<>"",TRUE,FALSE) -> FALSE
H54: Kaitseala piiridest väljaspoolt tulenevaid survetegureid on arvestatud ammendavalt või on selgitatud, et selliseid survetegureid ei esine. | I54: 3 | J54: =IF(K54<>"",TRUE,FALSE) -> TRUE | K54: 3 | L54: KKK | M54: punktreostusallikad (nende olulisust on kirjeldatud ja selgitatud, kuidas mõju avaldavad, tegevusi pole ettenähtud, sest mõju ei ole selline, et oleks vaja midagi ette võtta)
A55: planeerimine | B55: eesmärgid | C55: 5.a | D55: Kas ala elurikkusega seotud kaitseväärtustele on seatud kaitse-eesmärgid? | E55: Igale ala (kaitse-eeskirjas nimetatud) kaitseväärtusele on oluline seada konkreetne kaitse-eesmärk, et jälgida kaitsekorralduse tulemuslikkust ning töötada välja vajalikud meetmed. Seejuures võtavad alapõhised kaitse-eesmärgid kohalikke tegureid ja lähteolukorda tõenäoliselt paremini arvesse kui riiklikud eesmärgid. Antud küsimuses tuleb anda ülevaade, kas ala elurikkusega seotud kaitseväärtustele (liigid, elupaigad/kooslused) on kaitsekorralduskavas või tegevuskavades seatud täpsustatud eesmärgid. Siinkohal ei ole oluline keskenduda eesmärkide mõõdetavusele ja kvaliteedile - seda käsitleb eraldi küsimus. Muid kaitseväärtusi (nt kultuuripärand, maastikuvormid) on käsitletud eraldi küsimuses. | F55: Jah/Ei | G55: kava(d), EELIS | H55: Kaitse-eesmärke ei ole seatud (jäta 5.b vahele) | I55: 0 | J55: =IF(K55<>"",TRUE,FALSE) -> FALSE
H56: Riiklikud või piirkondlikud kaitse-eesmärgid on seatud (nt liigi või elupaiga tegevuskavas vm), kuid ala-spetsiifilisi eesmärke ei ole määratud. (jäta 5.b vahele) | I56: 1 | J56: =IF(K56<>"",TRUE,FALSE) -> FALSE
H57: Ala-spetsiifilised kaitse-eesmärgid on seatud vähem kui pooltele (<50%) kaitseväärtusele | I57: 1 | J57: =IF(K57<>"",TRUE,FALSE) -> FALSE
H58: Ala-spetsiifilised kaitse-eesmärgid on seatud pooltele või enamale (50% - <100%) kaitseväärtustest | I58: 2 | J58: =IF(K58<>"",TRUE,FALSE) -> FALSE
H59: Ala-spetsiifilised kaitse-eesmärgid on seatud kõikidele kaitseväärtustele | I59: 3 | J59: =IF(K59<>"",TRUE,FALSE) -> TRUE | K59: 3 | L59: KKK
A60: planeerimine | B60: eesmärgid | C60: 5.b. | D60: Kas kaitseväärtuste kaitse-eesmärgid määratlevad elupaikade ja liikide soovitava seisundi? | E60: Selleks, et hinnata, kui tõhusalt ala valitsetakse, on oluline jälgida kaitse-eesmärkide saavutamise suunas tehtavaid edusamme. Edusammude jälgimiseks on oluline, et kaitseväärtuste kaitse-eesmärgid oleksid "SMART", s.t saavutatavad, konkreetsed (s.h ajaliselt), üheselt mõistetavad ja objektiivselt hinnatavad/mõõdetavad. Nt võib koosluse kaitse-eesmärk olla sõnastatud elupaigatüübi pindala ja seisundiklassiga. | F60: Hindamisskaala/ valikvastus | G60: kava(d), EELIS | H60: Kaitse-eesmärgid ei täpsusta elupaikade/liikide soovitavat seisundit | I60: 0 | J60: =IF(K60<>"",TRUE,FALSE) -> FALSE
H61: Kaitse-eesmärkidega täpsustati elupaikade/liikide soovitavat seisundit, kuid kaitse-eesmärkide sihtväärtused ei ole kvantifitseeritud ega ajaliselt piiritletud. / Konkreetsed eesmärgid on vähem kui pooltel (<50%) kaitseväärtustel. | I61: 1 | J61: =IF(K61<>"",TRUE,FALSE) -> FALSE
H62: Kaitse-eesmärkidega täpsustati elupaikade/liikide soovitavat seisundit. Sihtväärtused on kas kvantifitseeritud või ajaliselt piiritletud. / Konkreetsed eesmärgid on pooltel või enamal (50% - <100%) kaitseväärtustest. | I62: 2 | J62: =IF(K62<>"",TRUE,FALSE) -> FALSE
H63: Kaitse-eesmärkidega täpsustati kõigi elupaikade/liikide soovitavat seisundit. Sihtväärtused on nii kvantifitseeritud kui ajaliselt piiritletud. | I63: 3 | J63: =IF(K63<>"",TRUE,FALSE) -> TRUE | K63: 3 | L63: KKK
A64: planeerimine | B64: eesmärgid | C64: 5.c. | D64: Kas kaitse-eesmärgid on seatud ka muudele kaitseväärtustele kui otseselt elurikkust puudutavatele kaitseväärtustele? | E64: Kaitse-eesmärke võidakse seada ka väärtustele, mis ei ole nn loodusväärtused, nt sotsiaalsed, kultuurilised ja majanduslikud väärtused. Küsimus on oluline eeskätt rahvusparkide ja maastikukaitsealadele, mille erinevatele kaitseväärtustele tuleks seada asjakohased kaitse-eesmärgid. Kui seda ei ole tehtud, tuleb valida vastusevariant "ei". | F64: Jah/Ei | G64: kava(d), EELIS | H64: Ei ole asjakohane (alal puuduvad vastavad kaitseväärtused) | I64: ei kohaldu | J64: =IF(K64<>"",TRUE,FALSE) -> FALSE
H65: Ei | I65: 0 | J65: =IF(K65<>"",TRUE,FALSE) -> TRUE | K65: 0 | L65: KKK
H66: Jah | I66: 3 | J66: =IF(K66<>"",TRUE,FALSE) -> FALSE
A67: planeerimine | B67: eesmärgid | C67: 5.d. | D67: Kas kaitse-eesmärke on seatud ka sellistele hüvedele/väärtustele, mis ei ole määrusega ala kaitseväärtuseks seatud? | E67: Kaitsealade kaitsekorralduskavades võib kaitse-eesmärke seada ka sellistele hüvedele või väärtustele, mida ei ole määrusega ala kaitseväärtuseks seatud. Siin küsimuses arvestada ka neid kaitse-eesmärkidega liike või elupaiku, mille osas on kavas tehtud ettepanek kaitse-eeskirja lisamiseks, kuid vastav muudatus ei ole veel jõustunud. Vastavad hüved/väärtused võib loetleda lisainfo lahtris. | F67: Jah/Ei | G67: kava(d), EELIS | H67: Ei ole asjakohane (alal puuduvad vastavad kaitseväärtused) | I67: ei kohaldu | J67: =IF(K67<>"",TRUE,FALSE) -> FALSE
H68: Ei | I68: 1 | J68: =IF(K68<>"",TRUE,FALSE) -> TRUE | K68: 1 | L68: KKK | M68: kirjeldatud on teised väärtused, kuid eesmärke seatud ei ole
H69: Jah | I69: 3 | J69: =IF(K69<>"",TRUE,FALSE) -> FALSE
A70: planeerimine | B70: meetmed | C70: 6.a. | D70: Kas kaitsealal on vaja aktiivseid kaitsekorralduslikke tegevusi (lisaks LKS alusel kohalduvale kaitsekorrale/piirangutele)? | E70: Küsimuse eesmärk on selgitada, kas alal on vajalik n-ö aktiivsete kaitsekorralduslike tegevuste kavandamine ja rakendamine. Mõned kaitstavad loodusobjektid ei vaja aktiivset majandamist ning kaitse-eesmärkide tagamiseks võib piisata õigusaktidest tulenevast kaitsekorrast - nt jäetakse ala läbi rangete piirangute looduslikule arengule. Sellises olukorras ei ole kaitsekorralduslike meetmete ploki küsimustele vastamine vajalik. Küsimus on suunatud ainult n-ö aktiivsetele kaitsemeetmetele. Aktiivseks majandamiseks on nt elupaikade taastamine, hooldus, probleemliigi tõrje, taristu rajamine jm. Aktiivseteks kaitsemeetmeteks ei loeta siinkohal ala kaitsekorda/kaitse-eeskirjast tulenevaid piiranguid, õigusaktidest tulenevaid kooskõlastus- ja loakohustusi, kaitsekorra muutmist, kavade koostamist, tulemuslikkuse hindamist jm sarnast. Samuti ei pea siin küsimuses arvestama seiret, inventuure, uuringuid. tegevuste vajadust tuleb siinkohal käsitleda hinnatava perioodi vaates (alates eelmisest hindamisest; esmakordsel hindamisel KKK algus või 10/12 a). "Jah" vastus tuleb valida ka juhul, kui hindaja tänaste teadmiste põhjal ei ole täiendav sekkumine vajalik, kuid alal on hinnataval perioodil olnud kava, milles sisaldub tegevuskava (tööplaan). See viitab, et hindamisperioodi algul on aktiivsete meetmete rakendamine vajalikuks loetud. Samuti tuleb "jah" vastus valida juhul, kui alal ei ole aktiivseid meetmeid planeeritud, kuid hindaja teadmiste põhjal on täiendav sekkumine siiski vajalik (nt on ala kaitseväärtuste hulgas hooldust vajavad pärandniidud). | F70: Jah/Ei | G70: kava(d), EELIS | H70: Jah, täiendav sekkumine on vajalik - jätka meetmete ploki küsimuste täitmisega | I70: ei kohaldu | J70: =IF(K70<>"",TRUE,FALSE) -> TRUE | K70: JAH | L70: KKK | M70: paisutuse eemaldamine või kalapääsu rajamine, voolutakistuste eemaldamine
H71: Ei, täiendav sekkumine ei ole vajalik - esita selgitused, jäta meetmete ploki küsimused (6) vahele | I71: ei kohaldu | J71: =IF(K71<>"",TRUE,FALSE) -> FALSE
A72: planeerimine | B72: meetmed | C72: 6.b. | D72: Kas kõikide kaitseala kaitse-eesmärkide saavutamiseks kavandati vajalikud meetmed/tegevused? | E72: Iga püstitatud kaitse-eesmärgi (nii liigid, elupaigad kui muud kaitseväärtused) puhul tuleks kavandada tegevused nende eesmärkide saavutamiseks, v.a kui aktiivseid meetmeid pole vaja (nt jäetakse kooslus looduslikule arengule). Tegevused peavad olema konkreetsed, mõõdetatavad, saavutatavad, asjakohased ja ajaliselt piiritletud (nn SMART meetmed). Meetmed/tegevused võib seega lugeda SMART meetmeteks, kui need on kantud tööplaani ning nende ellu viimise põhimõtted, asukoht, aeg ja maksumus on määratletud. Kavas võivad kaitseväärtuste juures olla nimetatud ka sellised üldisemad meetmed, mida ei ole täpsemate tegevustena tööplaani kantud (nt "järelevalve", "optimaalse külastuskoormuse hoidmine"). Sellisel juhul arvestada vastamisel, et meede on seatud, kuid see ei ole SMART. Kui kaitse-eesmärgi puhul ei ole tuvastatud selle saavutamist takistavaid survetegureid, andmelünkasid vm lahendamist vajavaid probleeme, ei ole tegevuse puudumine antud küsimuse kontekstis puudus ning vastavat kaitse-eesmärki ei pea siinkohal arvestama. S.t. kui osadele kaitseväärtustele on tegevused määratud ja teiste puhul on välja toodud, et tegevusi pole vaja, tuleb valida vastusevariant, et kõigile asjakohastele kaitse-eesmärkidele on meetmed seatud. Kaitse-eesmärgid, mille puhul saavutamist toetavad meetmed puuduvad, nimeta selgituste lahtris. | F72: Hindamisskaala/ valikvastus | G72: kava(d), EELIS | H72: Meetmeid ei ole seatud (jäta 6.c, 6.d vahele) | I72: 0 | J72: =IF(K72<>"",TRUE,FALSE) -> FALSE
H73: Meetmed on seatud mõnedele (<100%) asjakohastele kaitse-eesmärkidele. | I73: 1 | J73: =IF(K73<>"",TRUE,FALSE) -> FALSE
H74: Kaitsekorralduslikud meetmed on seatud kõikidele asjakohastele kaitse-eesmärkidele, kuid kõik meetmed ei ole SMART | I74: 2 | J74: =IF(K74<>"",TRUE,FALSE) -> FALSE
H75: Kaitsekorralduslikud meetmed on seatud kõikidele asjakohastele kaitse-eesmärkidele. Kõik meetmed on SMART. | I75: 3 | J75: =IF(K75<>"",TRUE,FALSE) -> TRUE | K75: 3 | L75: KKK | M75: kõikide liikide vajalikud tegevused on kirjeldatud läbi elupaiga parandamise, ehk siis elupaigatüübi vajalikud tegevused kohalduvad ka liikidele
A76: planeerimine | B76: meetmed | C76: 6.c | D76: Kas määratud meetmed näevad ette tegevusi väljaspool kaitseala piire? | E76: Käesolevas küsimuses keskendutakse tegevustele, mis toimuvad väljaspool kaitseala piire. Vastaja peab kirjeldama, kas kasutusele on võetud meetmeid kaitseala piiridest väljaspool. Sellisted tegevused võivad olla nt väljaspool kaitseala piire asuvate maaparandussüsteemide mõju vähendamisega, juurdepääsuteede korrastamisega elupaikade hoolduse võimaldamiseks vm. Selliseks tegevuseks võib lugeda ka kaitseala piiride laiendamise. Kui on põhjendatult selge, et meetmed väljaspool kaitseala ei ole vajalikud (nt on kõik olulisemad survetegurid kaitseala sisesed ja ümbritsevalt alalt olulist koormust tule), vali "ei kohaldu". Kui pole selge, kas olulised survetegurid paiknevad ja/või ette nähtud meetmed kohalduvad ka väljaspool kaitseala, vali "info puudub". "Ei" saab valida juhul, kui piiriüleseid tegevusi pole ette nähtud, kuid hindajal on teavet, et need on tegelikult vajalikud. Selliseks olukorraks saab näiteks lugeda ka juhu, kus kaitsealast väljaspool asub liigi elupaik, mille lisamine kaitseala hulka võimaldaks populatsioonil paremini säilida, kuid kaitseala laiendamist ei ole tegevusena ette nähtud. | F76: Jah/Ei | G76: kava(d), EELIS | H76: Ei ole asjakohane (teadaolevalt puudub vajadus tegevusteks väljaspool piire) | I76: ei kohaldu | J76: =IF(K76<>"",TRUE,FALSE) -> TRUE | K76: ei kohaldu | L76: KKK | M76: räägitud on punktreostusallikatest väljaspool kaitseala aga ei ole ettenähtud tegeuvsi, kuna mõju ei ole arvatud oluliseks
H77: Info puudub/ei oska vastata (tegevuskavas ja hindajal puudub teave tegevuste ulatuse ja/või piiriüleste tegevuste vajaduse kohta) | I77: 0 | J77: =IF(K77<>"",TRUE,FALSE) -> FALSE
H78: Ei (teadaolevalt on vajadus tegevusteks väljaspool piire, kuid neid ei ole kavandatud) | I78: 0 | J78: =IF(K78<>"",TRUE,FALSE) -> FALSE
H79: Jah | I79: 3 | J79: =IF(K79<>"",TRUE,FALSE) -> FALSE
A80: planeerimine | B80: meetmed | C80: 6.d | D80: Kas tegevused käsitlesid kõiki kaitsealal tuvastatud ja kaitseväärtusi mõjutavaid survetegureid? | E80: Kõigi küsimuses 3 käsitletud peamiste surveteguritega tegelemiseks tuleb vastavalt vajadusele välja töötada vastavad meetmed. | F80: Hindamisskaala/ valikvastus | G80: kava(d), EELIS | H80: Survetegurid ja meetmed ei ole selgelt seotud./Meetmed ei ole seotud peamiste surveteguritega | I80: 0 | J80: =IF(K80<>"",TRUE,FALSE) -> FALSE
H81: Vähem kui pooltel (<50%) peamistel surveteguritel on vastav meede | I81: 1 | J81: =IF(K81<>"",TRUE,FALSE) -> FALSE
H82: Pooltel või enamal (50% - <100%) peamistest surveteguritest on vastav meede | I82: 2 | J82: =IF(K82<>"",TRUE,FALSE) -> FALSE
H83: Kõikidel peamistel surveteguritel on vastav meede. | I83: 3 | J83: =IF(K83<>"",TRUE,FALSE) -> TRUE | K83: 3 | L83: KKK | M83: paisutuse eemaldamine või kalapääsu rajamine, voolutakistuste eemaldamine, andmete täpsustamine
A84: rakendamine | B84: sisendid | C84: 7 | D84: Kas saab välja tuua muid puudujääke ala kaitsekorraldusega seotud teadmistes/alusinfos (peale seisundiandmete puudujääkide, mida on käsitletud küsimuses 2)? | E84: Puudujäägid teadmistes/olemasolevas alusinfos võivad piirata ala tulemuslikku majandamist, takistades muuhulgas meetmete väljatöötamist ja rakendamist konkreetsete survetegurite osas või takistades meetmete/majandamise tõhususe hindamist. Nt võivad olla vajalikud täiendavad teadmised parimate praktikate kohta elupaikade taastamisel ja hooldamisel (erinevate tegevuste mõju), konkreetsete liikide elupaigavajaduste kohta, survetegurite mõju kohta, puudulikud andmed meetmete ellu viimise seisu või nende tõhususe kohta jm. Siinkohal ei tule arvestada kaitseväärtuste seisundiandmete puudulikkust, mille kohta on küsimus 2. Küsimusele vastamisel võib arvestada nii neid puudujääke, mis on kirjeldatud kaitsekorralduskavas ja mida teadaolevalt ei ole seni kaetud, kui ka neid, mis on tekkinud kaitsekorralduslike meetmete rakendamise käigus vm seotud protsessis. Vastavalt lisada selgitus andmeallika lahtrisse. Vastates küsimusele "jah", nimeta selgituste lahtris, mis need puudjääägid on. | F84: Jah/Ei | H84: Ei, kaitsekorraldusperioodil ei ole selgunud olulisi puudujääke teadmistes | I84: 3 | J84: =IF(K84<>"",TRUE,FALSE) -> TRUE | K84: 3 | L84: EELIS, KIRKE
H85: Jah, välja saab tuua puudujääke ala kaitsekorraldusega seotud teadmistes. (Nimeta need puudused selgituste lahtris). | I85: 1 | J85: =IF(K85<>"",TRUE,FALSE) -> FALSE
A86: rakendamine | B86: sisendid | C86: 8.a | D86: Kas teostatud seire, inventuurid ja/või uuringud annavad piisava teabe, et hinnata ellu viidud tegevuste edukust ja kaitse-eesmärkide saavutamist või nende suunas liikumist? | E86: Kaitsekorralduse tulemuslikkuse hindamiseks on vaja jälgida tegevuste ellu viimist ja nende tulemusi, kaitseväärtuste seisundit ja/või muutusi survetegurites. Antud küsimuses soovitakse teada, kas seiretest, inventuuridest ja uuringutest koondatav info annab piisava info, et hinnata seatud kaitse-eesmärkide suunas liikumist/saavutamist ja nende saavutamiseks vajalike tegevuste tulemuslikkust. Küsimusele vastamisel saab asjakohasusel lähtuda kava tulemuslikkuse hindamise tabelis ette nähtud hindamismeetodist/andmete kogumise viisist, hindamissammust ja/või tegevusplaanis ette nähtud seirest/inventuuridest/uuringutest. Kui tulemuslikkuse hindamiseks vajalikud seired, uuringud ja inventuurid on teostatud, saab eeldatavalt vastata jaatavalt. Kui hindamine toimub kaitsekorraldusperioodi keskel mitte lõpus/uue alguses, saab aluseks võtta, kas piisav info on olemas ja/või teadaolevalt planeeritud koguda seni ellu viidud tegevuste kohta ning kas kaitseväärtuste kohta ammendava info kogumine on piisava kindlusega ette nähtud. Kui seired ja inventuurid on ette nähtud perioodi lõpus ning nende teostamise ja sisu osas on hinnangu andmiseks liiga suured ebaselgused, saab valida vastusevariandi "ei ole võimalik vastata". | F86: Jah/Ei | H86: Küsimusele ei ole võimalik kaitsekorraldusperioodi antud etapis vastata (jäta 8.b vahele) | I86: ei kohaldu | J86: =IF(K86<>"",TRUE,FALSE) -> FALSE
H87: Ei - teostatud ja/või planeeritud seire/inventuurid/uuringud ei ole piisavad, et hinnata, kas tegevused olid tulemuslikud/kaitse-eesmärgid on saavutatud | I87: 0 | J87: =IF(K87<>"",TRUE,FALSE) -> FALSE
H88: Seire, inventuurid, uuringud võimaldab hinnata vähem kui poolte (<50%) tegevuste tulemuslikkust/kaitse-eesmärkide saavutatust | I88: 1 | J88: =IF(K88<>"",TRUE,FALSE) -> FALSE
H89: Seire võimaldab hinnata poolte või enama (50%-<100%) tegevuste tulemuslikkust/kaitse-eesmärkide saavutatust | I89: 2 | J89: =IF(K89<>"",TRUE,FALSE) -> FALSE
H90: Jah - seire on piisav, et hinnata, kas kõik tegevused olid tulemuslikud/kaitse-eesmärgid on saavutatud (jäta 8.b vahele) | I90: 3 | J90: =IF(K90<>"",TRUE,FALSE) -> TRUE | K90: 3 | L90: EELIS, KESE, KIRKE, KKK, Keskkonnamportaal | M90: kalastiku ja elupaikade uuring, jõgede hürdobioloogilised seired
A91: rakendamine | B91: sisendid | C91: 8.b | D91: Kui vastasite küsimusele 8.a "ei", siis mida tuleb teha, et puudujääke lahendada? | E91: Vastaja peab kirjeldama, millised on lüngad kogutavates andmetes ja kuidas need takistavad kaitse-eesmärkide saavutamise jälgimist. | F91: kirjeldav | I91: ei kohaldu | J91: =IF(K91<>"",TRUE,FALSE) -> TRUE | K91: ei kohaldu
A92: rakendamine | B92: sisendid | C92: 9 | D92: Kas seire-, inventuuride ja/või uuringute tulemusi kasutati ala kaitsekorralduse kohandamiseks? | E92: Küsimusega hinnatakse, kas ala seire, inventuuride ja uuringute tulemused on integreeritud ala kaitse korraldamisesse. Seire ja hindamine, mis ei anna otsest sisendit kaitsekorralduslikesse otsustesse, ei panusta ala kaitse korralduse tulemuslikkuse suurenemisesse ja/või kaitse-eesmärkide saavutamisesse. | F92: Jah/Ei | H92: Ei - seire tulemused ei ole olnud sisendiks kaitsekorralduslikele tegevustele | I92: 0 | J92: =IF(K92<>"",TRUE,FALSE) -> TRUE | K92: 0 | L92: KIRKE, KKK | M92: ei ole tehtud vahehindamist ega kaitsekorra muutmist, kava ei ole ette näinud kaitsekorra muutmist
H93: Seiretulemusi on vähesel määral/üksikjuhtumitel kasutatud ala kaitse korralduse/meetmete kohandamiseks | I93: 1 | J93: =IF(K93<>"",TRUE,FALSE) -> FALSE
H94: Seiretulemusi on suures osas kasutatud ala kaitse korralduse/meetmete kohandamiseks | I94: 2 | J94: =IF(K94<>"",TRUE,FALSE) -> FALSE
H95: Jah - seiretulemusi kasutatakse regulaarselt, et kohandada ala kaitse korraldust/meetmeid | I95: 3 | J95: =IF(K95<>"",TRUE,FALSE) -> FALSE
A96: rakendamine | B96: protsess | C96: 10.a | D96: Kas huvirühmasid kaasati kaitsekorralduse/tegevuskava planeerimise etapis? | E96: Soovitud kaitse-eesmärkide saavutamiseks on oluline teha koostööd erinevate huvirühmadega, kes mõjutavad kaitsealade majandamist ja/või kellel on teadmised kaitseala väärtustest. Antud küsimuse kontekstis mõeldakse huvirühmadena ühelt poolt neid osapooli, kes on otseselt seotud ala kaitse korraldamisega või oskavad valdkonnas pädevana sellesse sisuliselt panustada, nt: teadusasutused, mittetulundusühendused, RMK, omavalitsused. Samuti on huvirühmadeks mõjutatud/huvitattud osapooled, nt: maaomanikud, ettevõtjad, kohalik kogukond. Valides vastusevariandi, et osad asjakohased huvirühmad jäid kaasamata, tuleb vastavad osapooled märkida selgituste lahtrisse. Kaasamine võib aidata selgitada, kus tekivad konfliktid, kuidas neid konflikte vältida ja kus on võimalik saavutada koostöö, et hõlbustada kava rakendamist. Siinkohal on kaasamise all mõeldud otsest pöördumist huvirühmade poole ja nendega konsulteerimist (s.t enamat kui informeerimine nt avaliku arutelu toimumisest). Huvirühmade kaasamine võib toimuda mitmes erinevas tegevuste planeerimise ja ellu viimise etapis. Küsimusele vastamisel võivad abiks olla kavale lisatud arutelude protokollid. Variant "ei ole asjakohane" valida juhul, kui ala ja selle kaitsekorralduse iseloom ei vaja sisulist huvirühmade kaasamist. Lühikavade (lihtsustatud kaitsekorralduskavade) koostmisel, mille puhul kaasamine ei ole nõutav, tuleb valida vastusevariant "ei", kuna küsimuse eesmärk ei ole saada ülevaade menetlusprotsesside nõuete täitmisest, vaid kaitsekorralduslike otsuste tegemise sisulisest viisist. | F96: Jah/Ei | G96: kava(d) | H96: Ei ole asjakohane | I96: ei kohaldu | J96: =IF(K96<>"",TRUE,FALSE) -> FALSE
H97: Ei - huvirühmi ei kaasatud | I97: 0 | J97: =IF(K97<>"",TRUE,FALSE) -> FALSE
H98: Jah, huvirühmi kaasati, kuid osad asjakohased huvirühmad jäid kaasamata ja/või kaasamine toimus pigem informeerimise mitte konsulteerimise tasemel | I98: 1 | J98: =IF(K98<>"",TRUE,FALSE) -> FALSE
H99: Jah - huvirühmi kaasati | I99: 3 | J99: =IF(K99<>"",TRUE,FALSE) -> TRUE | K99: 3 | L99: KKK, KIRKE | M99: Kaasatud maaomanikud, vallad, RMK, korraldati avalik koosolek, KKK muutmisettepanekuid ei esitatud
A100: rakendamine | B100: protsess | C100: 10.b | D100: Kas kaitseala väärtuste ja kaitsekorralduse valdkonnas pädevaid huvirühmasid kaasati kaitsekorralduse/tegevuskava rakendamisse? | E100: Soovitud kaitse-eesmärkide saavutamiseks on oluline teha koostööd huvirühmadega, kes mõjutavad kaitsealade majandamist ja/või kellel on teadmised kaitseala väärtustest. Antud küsimuse kontekstis mõeldakse huvirühmadena eelkõige neid osapooli, kes on otseselt seotud ala kaitse korraldamisega (sh RMK). Kaasamine võib aidata selgitada, kus tekivad konfliktid, kuidas neid konflikte vältida ja kus on võimalik saavutada koostöö, et hõlbustada kava rakendamist. Siinkohal on kaasamise all mõeldud otsest pöördumist huvirühmade poole ja nendega konsulteerimist (s.t enamat kui informeerimine nt avaliku arutelu toimumisest). Huvirühmade kaasamine võib toimuda mitmes erinevas tegevuste planeerimise ja ellu viimise etapis. | F100: Jah/Ei | H100: Ei ole asjakohane | I100: ei kohaldu | J100: =IF(K100<>"",TRUE,FALSE) -> FALSE
...

Sheet skoor
A1: Küsimuse nr | B1: Valdkond | C1: Teema | D1: Küsimus | E1: Max skoor | F1: Hindamise skoor
A2: 0 | B2: üldine | C2: üldine | D2: Kas alal on (ajakohane) kava? | E2: =IF(F2="pole asjakohane","",3) -> 3 | F2: =IF(Hindamistabel!J2=TRUE,0,IF(Hindamistabel!J3=TRUE,1,IF(Hindamistabel!J4=TRUE,1,IF(Hindamistabel!J5=TRUE,2,IF(Hindamistabel!J6=TRUE,2,IF(Hindamistabel!J7=TRUE,3,IF(Hindamistabel!J8=TRUE,3,IF(Hindamistabel!J9=TRUE,"pole asjakohane","")))))))) -> 3
A3: 1.a | B3: planeerimine | C3: seisund | D3: Kas kõikide ala kaitseväärtuseks olevate liikide esinemise/seisundi info oli kaitsekorraldusperioodi alguses kindlaks tehtud? | E3: =IF(F3="pole asjakohane","",3) -> 3 | F3: =IF(Hindamistabel!J10=TRUE,0,IF(Hindamistabel!J11=TRUE,1,IF(Hindamistabel!J12=TRUE,2,IF(Hindamistabel!J13=TRUE,3,IF(Hindamistabel!J14=TRUE,"pole asjakohane",""))))) -> 3
A4: 1.b | B4: planeerimine | C4: seisund | D4: Kas kõikide ala kaitseväärtuseks (kaitse-eesmärgiks) olevate elupaikade seisund oli kaitsekorraldusperioodi alguses kindlaks tehtud? | E4: =IF(F4="pole asjakohane","",3) -> 3 | F4: =IF(Hindamistabel!J15=TRUE,0,IF(Hindamistabel!J16=TRUE,1,IF(Hindamistabel!J17=TRUE,2,IF(Hindamistabel!J18=TRUE,3,IF(Hindamistabel!J19=TRUE,"pole asjakohane",""))))) -> 3
A5: 1.c. | B5: planeerimine | C5: seisund | D5: Milline on liikide seisundi andmete usaldusväärsus ja kvaliteet? | E5: =IF(OR(F5="pole asjakohane",Hindamistabel!J10=TRUE,Hindamistabel!J14=TRUE),"",3) -> 3 | F5: =IF(Hindamistabel!J20=TRUE,0,IF(Hindamistabel!J21=TRUE,1,IF(Hindamistabel!J22=TRUE,2,IF(Hindamistabel!J23=TRUE,3,IF(Hindamistabel!J24=TRUE,"pole asjakohane",""))))) -> 3
A6: 1.d. | B6: planeerimine | C6: seisund | D6: Milline on elupaikade seisundiandmete usaldusväärsus ja kvaliteet? | E6: =IF(OR(F6="pole asjakohane",Hindamistabel!J15=TRUE,Hindamistabel!J19=TRUE),"",3) -> 3 | F6: =IF(Hindamistabel!J25=TRUE,0,IF(Hindamistabel!J26=TRUE,1,IF(Hindamistabel!J27=TRUE,2,IF(Hindamistabel!J28=TRUE,3,IF(Hindamistabel!J29=TRUE,"pole asjakohane",""))))) -> 3
A7: 2.a | B7: planeerimine | C7: seisund | D7: Kas eelmisel kaitsekorraldusperioodil/selle kaitsekorraldusperioodi algul tuvastati andmelünki, mis takistasid lähteolukorra (kaitseväärtuste seisundi) kindlaks määramist? | E7: =IF(OR(F7="pole asjakohane", Hindamistabel!J2=TRUE,Hindamistabel!J9=TRUE),"",3) -> 3 | F7: =IF(Hindamistabel!J30=TRUE,0,IF(Hindamistabel!J31=TRUE,1,IF(Hindamistabel!J32=TRUE,2,IF(Hindamistabel!J33=TRUE,3,"")))) -> 2
A8: 2.b | B8: planeerimine | C8: seisund | D8: Kas tuvastatud andmelüngad on kaitsekorraldusperioodil täidetud? | E8: =IF(OR(F8="pole asjakohane",Hindamistabel!J2=TRUE,Hindamistabel!J9=TRUE,Hindamistabel!J33=TRUE),"",3) -> 3 | F8: =IF(Hindamistabel!J34=TRUE,0,IF(Hindamistabel!J35=TRUE,1,IF(Hindamistabel!J36=TRUE,2,IF(Hindamistabel!J37=TRUE,3,"")))) -> 2
A9: 3.a | B9: planeerimine | C9: survetegurid | D9: Kas ala kõigi kaitseväärtuste osas on survetegurid (otsesed negatiivsed mõjutegurid) tuvastatud? | E9: =IF(F9="pole asjakohane","",3) -> 3 | F9: =IF(Hindamistabel!J38=TRUE,0,IF(Hindamistabel!J39=TRUE,1,IF(Hindamistabel!J40=TRUE,1,IF(Hindamistabel!J41=TRUE,2,IF(Hindamistabel!J42=TRUE,3,""))))) -> 3
A10: 3.b | B10: planeerimine | C10: survetegurid | D10: Kas iga (küsimuses 3.a käsitletud) surveteguri olulisus ja ulatus on kindlaks määratud? | E10: =IF(OR(F10="pole asjakohane",Hindamistabel!J38=TRUE),"",3) -> 3 | F10: =IF(Hindamistabel!J43=TRUE,0,IF(Hindamistabel!J44=TRUE,1,IF(Hindamistabel!J45=TRUE,2,IF(Hindamistabel!J46=TRUE,3,"")))) -> 3
A11: 3.c | B11: planeerimine | C11: survetegurid | D11: Nimeta ala kõige olulisemad survetegurid? | E11: ei kohaldu | F11: ei kohaldu
A12: 4 | B12: planeerimine | C12: survetegurid | D12: Kas arvesse on võetud ka väljastpoolt kaitseala tulenevaid survetegureid? | E12: =IF(OR(F12="pole asjakohane",Hindamistabel!J9=TRUE,Hindamistabel!J2=TRUE),"",3) -> 3 | F12: =IF(Hindamistabel!J52=TRUE,0,IF(Hindamistabel!J53=TRUE,2,IF(Hindamistabel!J54=TRUE,3,""))) -> 3
A13: 5.a | B13: planeerimine | C13: eesmärgid | D13: Kas ala elurikkusega seotud kaitseväärtustele on seatud kaitse-eesmärgid? | E13: =IF(OR(F13="pole asjakohane",Hindamistabel!J9=TRUE,Hindamistabel!J2=TRUE),"",3) -> 3 | F13: =IF(Hindamistabel!J55=TRUE,0,IF(Hindamistabel!J56=TRUE,1,IF(Hindamistabel!J57=TRUE,1,IF(Hindamistabel!J58=TRUE,2,IF(Hindamistabel!J59=TRUE,3,""))))) -> 3
A14: 5.b. | B14: planeerimine | C14: eesmärgid | D14: Kas kaitseväärtuste kaitse-eesmärgid määratlevad elupaikade ja liikide soovitava seisundi? | E14: =IF(OR(F14="pole asjakohane",Hindamistabel!J9=TRUE,Hindamistabel!J2=TRUE,Hindamistabel!J55=TRUE,Hindamistabel!J56=TRUE),"",3) -> 3 | F14: =IF(Hindamistabel!J60=TRUE,0,IF(Hindamistabel!J61=TRUE,1,IF(Hindamistabel!J62=TRUE,2,IF(Hindamistabel!J63=TRUE,3,"")))) -> 3
A15: 5.c. | B15: planeerimine | C15: eesmärgid | D15: Kas kaitse-eesmärgid on seatud ka muudele kaitseväärtustele kui otseselt elurikkust puudutavatele kaitseväärtustele? | E15: =IF(OR(F15="pole asjakohane",Hindamistabel!J9=TRUE,Hindamistabel!J2=TRUE),"",3) -> 3 | F15: =IF(Hindamistabel!J64=TRUE,"pole asjakohane",IF(Hindamistabel!J65=TRUE,0,IF(Hindamistabel!J66=TRUE,3,""))) -> 0
A16: 5.d. | B16: planeerimine | C16: eesmärgid | D16: Kas kaitse-eesmärke on seatud ka sellistele hüvedele/väärtustele, mis ei ole määrusega ala kaitseväärtuseks seatud? | E16: =IF(OR(F16="pole asjakohane",Hindamistabel!J9=TRUE,Hindamistabel!J2=TRUE),"",3) -> 3 | F16: =IF(Hindamistabel!J67=TRUE,"pole asjakohane",IF(Hindamistabel!J68=TRUE,1,IF(Hindamistabel!J69=TRUE,3,""))) -> 1
A17: 6.a. | B17: planeerimine | C17: meetmed | D17: Kas kaitsealal on vaja aktiivseid kaitsekorralduslikke tegevusi (lisaks LKS alusel kohalduvale kaitsekorrale/piirangutele)? | E17: ei kohaldu | F17: ei kohaldu
A18: 6.b. | B18: planeerimine | C18: meetmed | D18: Kas kõikide kaitseala kaitse-eesmärkide saavutamiseks kavandati vajalikud meetmed/tegevused? | E18: =IF(OR(F18="pole asjakohane",Hindamistabel!J9=TRUE,Hindamistabel!J2=TRUE,Hindamistabel!J71=TRUE),"",3) -> 3 | F18: =IF(Hindamistabel!J72=TRUE,0,IF(Hindamistabel!J73=TRUE,1,IF(Hindamistabel!J74=TRUE,2,IF(Hindamistabel!J75=TRUE,3,"")))) -> 3
A19: 6.c | B19: planeerimine | C19: meetmed | D19: Kas määratud meetmed näevad ette tegevusi väljaspool kaitseala piire? | E19: =IF(OR(F19="pole asjakohane",Hindamistabel!J9=TRUE,Hindamistabel!J2=TRUE,Hindamistabel!J71=TRUE,Hindamistabel!J72=TRUE),"",3) | F19: =IF(Hindamistabel!J76=TRUE,"pole asjakohane",IF(Hindamistabel!J77=TRUE,0,IF(Hindamistabel!J78=TRUE,0,IF(Hindamistabel!J79=TRUE,3,"")))) -> pole asjakohane
A20: 6.d | B20: planeerimine | C20: meetmed | D20: Kas tegevused käsitlesid kõiki kaitsealal tuvastatud ja kaitseväärtusi mõjutavaid survetegureid? | E20: =IF(OR(F20="pole asjakohane",Hindamistabel!J9=TRUE,Hindamistabel!J2=TRUE,Hindamistabel!J71=TRUE,Hindamistabel!J72=TRUE),"",3) -> 3 | F20: =IF(Hindamistabel!J80=TRUE,0,IF(Hindamistabel!J81=TRUE,1,IF(Hindamistabel!J82=TRUE,2,IF(Hindamistabel!J83=TRUE,3,"")))) -> 3
A21: 7 | B21: rakendamine | C21: sisendid | D21: Kas saab välja tuua muid puudujääke ala kaitsekorraldusega seotud teadmistes/alusinfos (peale seisundiandmete puudujääkide, mida on käsitletud küsimuses 2)? | E21: =IF(OR(F21="pole asjakohane",Hindamistabel!J9=TRUE,Hindamistabel!J2=TRUE),"",3) -> 3 | F21: =IF(Hindamistabel!J84=TRUE,3,IF(Hindamistabel!J85=TRUE,1,"")) -> 3
A22: 8.a | B22: rakendamine | C22: sisendid | D22: Kas teostatud seire, inventuurid ja/või uuringud annavad piisava teabe, et hinnata ellu viidud tegevuste edukust ja kaitse-eesmärkide saavutamist või nende suunas liikumist? | E22: =IF(OR(F22="pole asjakohane",Hindamistabel!J9=TRUE,Hindamistabel!J2=TRUE),"",3) -> 3 | F22: =IF(Hindamistabel!J86=TRUE,"pole asjakohane",IF(Hindamistabel!J87=TRUE,0,IF(Hindamistabel!J88=TRUE,1,IF(Hindamistabel!J89=TRUE,2,IF(Hindamistabel!J90=TRUE,3,""))))) -> 3
A23: 8.b | B23: rakendamine | C23: sisendid | D23: Kui vastasite küsimusele 8.a "ei", siis mida tuleb teha, et puudujääke lahendada? | E23: ei kohaldu | F23: ei kohaldu
A24: 9 | B24: rakendamine | C24: sisendid | D24: Kas seire-, inventuuride ja/või uuringute tulemusi kasutati ala kaitsekorralduse kohandamiseks? | E24: =IF(F24="pole asjakohane","",3) -> 3 | F24: =IF(Hindamistabel!J92=TRUE,0,IF(Hindamistabel!J93=TRUE,1,IF(Hindamistabel!J94=TRUE,2,IF(Hindamistabel!J95=TRUE,3,"")))) -> 0
A25: 10.a | B25: rakendamine | C25: protsess | D25: Kas huvirühmasid kaasati kaitsekorralduse/tegevuskava planeerimise etapis? | E25: =IF(F25="pole asjakohane","",3) -> 3 | F25: =IF(Hindamistabel!J96=TRUE,"pole asjakohane",IF(Hindamistabel!J97=TRUE,0,IF(Hindamistabel!J98=TRUE,1,IF(Hindamistabel!J99=TRUE,3,"")))) -> 3
A26: 10.b | B26: rakendamine | C26: protsess | D26: Kas kaitseala väärtuste ja kaitsekorralduse valdkonnas pädevaid huvirühmasid kaasati kaitsekorralduse/tegevuskava rakendamisse? | E26: =IF(F26="pole asjakohane","",3) -> 3 | F26: =IF(Hindamistabel!J100=TRUE,"pole asjakohane",IF(Hindamistabel!J101=TRUE,0,IF(Hindamistabel!J102=TRUE,1,IF(Hindamistabel!J103=TRUE,3,"")))) -> 3
A27: 11.a | B27: rakendamine | C27: protsess | D27: Kas konsultatsioonide või tegevuste koordineerimise käigus tekkis teadaolevaid konflikte (vastasseise)? | E27: ei kohaldu | F27: ei kohaldu
A28: 11.b | B28: rakendamine | C28: protsess | D28: Kui vastasite küsimusele 11.a "jah", nimetage olulisemad konfliktkohad | E28: ei kohaldu | F28: ei kohaldu
A29: 12.a | B29: väljundid | C29: meetmed | D29: Milline on kavas määratud pool-looduslike koosluste (niiduelupaikade) taastamistööde ellu viimise seis? | E29: =IF(OR(F29="pole asjakohane",Hindamistabel!J9=TRUE,Hindamistabel!J2=TRUE),"",3) | F29: =IF(Hindamistabel!J114=TRUE,"pole asjakohane",IF(Hindamistabel!J115=TRUE,3,IF(Hindamistabel!J116=TRUE,2,IF(Hindamistabel!J117=TRUE,1,IF(Hindamistabel!J118=TRUE,0,""))))) -> pole asjakohane
A30: 12.b | B30: väljundid | C30: meetmed | D30: Milline on kavas määratud märgaladega ja veekogudega (sooelupaigad, jõed, järved) seotud taastamistööde ellu viimise seis? | E30: =IF(OR(F30="pole asjakohane",Hindamistabel!J9=TRUE,Hindamistabel!J2=TRUE),"",3) -> 3 | F30: =IF(Hindamistabel!J119=TRUE,"pole asjakohane",IF(Hindamistabel!J120=TRUE,3,IF(Hindamistabel!J121=TRUE,2,IF(Hindamistabel!J122=TRUE,1,IF(Hindamistabel!J123=TRUE,0,""))))) -> 0
A31: 12.c | B31: väljundid | C31: meetmed | D31: Milline on koosluste hooldamistööde ellu viimise seis? | E31: =IF(OR(F31="pole asjakohane",Hindamistabel!J9=TRUE,Hindamistabel!J2=TRUE),"",3) | F31: =IF(Hindamistabel!J124=TRUE,"pole asjakohane",IF(Hindamistabel!J125=TRUE,3,IF(Hindamistabel!J126=TRUE,2,IF(Hindamistabel!J127=TRUE,1,IF(Hindamistabel!J128=TRUE,0,""))))) -> pole asjakohane
A32: 12.d | B32: väljundid | C32: meetmed | D32: Milline on kavas määratud liigikaitsetööde ellu viimise seis? | E32: =IF(OR(F32="pole asjakohane",Hindamistabel!J9=TRUE,Hindamistabel!J2=TRUE),"",3) -> 3 | F32: =IF(Hindamistabel!J129=TRUE,"pole asjakohane",IF(Hindamistabel!J130=TRUE,3,IF(Hindamistabel!J131=TRUE,2,IF(Hindamistabel!J132=TRUE,1,IF(Hindamistabel!J133=TRUE,0,""))))) -> 0
A33: 12.e | B33: väljundid | C33: meetmed | D33: Milline on kavas määratud muude otseselt kaitseväärtustele suunatud meetmete (hooldus-, taastamis- ja ohjamismeetmed jms) ellu viimise seis? | E33: =IF(OR(F33="pole asjakohane",Hindamistabel!J9=TRUE,Hindamistabel!J2=TRUE),"",3) | F33: =IF(Hindamistabel!J134=TRUE,"pole asjakohane",IF(Hindamistabel!J135=TRUE,3,IF(Hindamistabel!J136=TRUE,2,IF(Hindamistabel!J137=TRUE,1,IF(Hindamistabel!J138=TRUE,0,""))))) -> pole asjakohane
A34: 12.f | B34: väljundid | C34: meetmed | D34: Millised I ja II prioriteediga meetmed on tähtajaks rakendamata ja miks? | E34: ei kohaldu | F34: ei kohaldu
A35: 13.a | B35: väljundid | C35: meetmed | D35: Kas I ja II prioriteediga inventuurid, seire ja uuringud on ellu viidud? | E35: =IF(OR(F35="pole asjakohane",Hindamistabel!J9=TRUE,Hindamistabel!J2=TRUE),"",3) -> 3 | F35: =IF(Hindamistabel!J140=TRUE,3,IF(Hindamistabel!J141=TRUE,2,IF(Hindamistabel!J142=TRUE,1,IF(Hindamistabel!J143=TRUE,0,IF(Hindamistabel!J144=TRUE,"pole asjakohane",""))))) -> 3
A36: 13.b | B36: väljundid | C36: meetmed | D36: Kas I ja II prioriteediga ala valitsemisega seotud meetmed (kavad, kaitse-eeskirjad jms) on ellu viidud? | E36: =IF(OR(F36="pole asjakohane",Hindamistabel!J9=TRUE,Hindamistabel!J2=TRUE),"",3) -> 3 | F36: =IF(Hindamistabel!J145=TRUE,3,IF(Hindamistabel!J146=TRUE,2,IF(Hindamistabel!J147=TRUE,1,IF(Hindamistabel!J148=TRUE,0,IF(Hindamistabel!J149=TRUE,"pole asjakohane",""))))) -> 1
A37: 13.c | B37: väljundid | C37: meetmed | D37: Kas I ja II prioriteediga rekreatsiooni ja keskkonnaharidusega seotud meetmed on ellu viidud? | E37: =IF(OR(F37="pole asjakohane",Hindamistabel!J9=TRUE,Hindamistabel!J2=TRUE),"",3) | F37: =IF(Hindamistabel!J150=TRUE,3,IF(Hindamistabel!J151=TRUE,2,IF(Hindamistabel!J152=TRUE,1,IF(Hindamistabel!J153=TRUE,0,IF(Hindamistabel!J154=TRUE,"pole asjakohane",""))))) -> pole asjakohane
A38: 13.d | B38: väljundid | C38: meetmed | D38: Kas hinnataval perioodil on lisaks ellu viidud sellised kaitse-eesmärke toetavaid tegevusi, mis ei ole ette nähtud kavaga? | E38: ei kohaldu | F38: ei kohaldu
A39: 14.a | B39: väljundid | C39: tulemused | D39: Milline on nende liikide seisund, mille kaitseks ala on määratud? | E39: =IF(F39="pole asjakohane","",3) -> 3 | F39: =IF(Hindamistabel!J156=TRUE,3,IF(Hindamistabel!J157=TRUE,2,IF(Hindamistabel!J158=TRUE,1,IF(Hindamistabel!J159=TRUE,0,IF(Hindamistabel!J160=TRUE,"pole asjakohane",""))))) -> 2
A40: 14.b | B40: väljundid | C40: tulemused | D40: Kui vastasite küsimuses 14.a, et ≥90% liikide seisund on stabiilne või paranenud, siis palun tooge välja peamised edutegurid? | E40: ei kohaldu | F40: ei kohaldu
A41: 14.c | B41: väljundid | C41: tulemused | D41: Kui asjakohane (vastavalt 14.a vastusele), siis palun tooge välja, milliste väärtuste seisund on halvenenud? | E41: ei kohaldu | F41: ei kohaldu
A42: 14.d | B42: väljundid | C42: tulemused | D42: Kui vastasite küsimuses 14.a, et alla 90% liikide seisund on stabiilne või paranenud, siis palun tooge välja liikide seisundi halvenemise põhjused ja/või, millised tegevused on teie arvates vajalikud, et saavutada paremaid tulemusi? | E42: ei kohaldu | F42: ei kohaldu
A43: 15.a | B43: väljundid | C43: tulemused | D43: Milline on nende elupaikade seisund, mille kaitseks ala on määratud? | E43: =IF(F43="pole asjakohane","",3) -> 3 | F43: =IF(Hindamistabel!J164=TRUE,3,IF(Hindamistabel!J165=TRUE,2,IF(Hindamistabel!J166=TRUE,1,IF(Hindamistabel!J167=TRUE,0,IF(Hindamistabel!J168=TRUE,"pole asjakohane",""))))) -> 2
A44: 15.b | B44: väljundid | C44: tulemused | D44: Kui vastasite küsimuses 15.a, et ≥90% elupaikade seisund on sama või paranenud, siis palun tooge välja peamised edutegurid? | E44: ei kohaldu | F44: ei kohaldu
A45: 15.c | B45: väljundid | C45: tulemused | D45: Kui asjakohane (vastavalt 15.a vastusele), siis palun tooge välja, milliste elupaikade seisund on halvenenud? | E45: ei kohaldu | F45: ei kohaldu
A46: 15.d | B46: väljundid | C46: tulemused | D46: Kui vastasite küsimuses 15.a, et alla 90% elupaikade seisund on stabiilne või paranenud, siis palun tooge välja elupaikade seisundi halvenemise põhjused ja/või millised tegevused on teie arvates vajalikud, et saavutada paremaid tulemusi? | E46: ei kohaldu | F46: ei kohaldu
A47: 16 | B47: väljundid | C47: tulemused | D47: Milline on ala kaitsekorralduse mõju ökosüsteemi teenustele? | E47: =IF(F47="pole asjakohane","",3) -> 3 | F47: =IF(Hindamistabel!J172=TRUE,3,IF(Hindamistabel!J173=TRUE,2,IF(Hindamistabel!J174=TRUE,1,IF(Hindamistabel!J175=TRUE,0,"")))) -> 0
A48: 17 | B48: väljundid | C48: tulemused | D48: Millised on olnud muutused ala ökoloogilises sidususes? | E48: =IF(F48="pole asjakohane","",3) -> 3 | F48: =IF(Hindamistabel!J176=TRUE,3,IF(Hindamistabel!J177=TRUE,2,IF(Hindamistabel!J178=TRUE,1,IF(Hindamistabel!J179=TRUE,0,"")))) -> 0
A49: 18.a | B49: väljundid | C49: tulemused | D49: Kas on tuvastatud ala kaitsekorra rikkumisi? | E49: =IF(F49="pole asjakohane","",3) | F49: =IF(Hindamistabel!J180=TRUE,0,IF(Hindamistabel!J181=TRUE,"pole asjakohane",IF(Hindamistabel!J182=TRUE,3,""))) -> pole asjakohane
A50: 18.b | B50: väljundid | C50: tulemused | D50: Kas tuvastatud ala kaitsekorra rikkumistel võib olla (oluline) mõju ala kaitseväärtustele? | E50: =IF(OR(F50="pole asjakohane",Hindamistabel!J180=TRUE,Hindamistabel!J182=TRUE),"",2) -> 2 | F50: =IF(Hindamistabel!J183=TRUE,1,IF(Hindamistabel!J184=TRUE,0,IF(Hindamistabel!J185=TRUE,2,""))) -> 0
A51: 19.a | B51: väljundid | C51: tulemused | D51: Kas teie hinnangul on ala kaitsekord olnud sobiv ja piisavalt tõhus kaitse-eesmärkide saavutamise toetamiseks? | E51: =IF(F51="ei kohaldu","",3) -> 3 | F51: =IF(Hindamistabel!J186=TRUE,3,IF(Hindamistabel!J187=TRUE,2,IF(Hindamistabel!J188=TRUE,1,IF(Hindamistabel!J189=TRUE,0,IF(Hindamistabel!J190=TRUE,"ei kohaldu",""))))) -> 3
A52: uue vormi küsimus | B52: väljundid | C52: tulemused | D52: Kui vastasite küsimusele 19.a eitavalt, siis millised muudatused oleksid vajalikud? | E52: ei kohaldu | F52: ei kohaldu
A53: 19.b | B53: väljundid | C53: tulemused | D53: Kas määruses nimetatud ala kaitseväärtused on asjakohased ja piisavad? | E53: =IF(F53="ei kohaldu","",3) -> 3 | F53: =IF(Hindamistabel!J192=TRUE,3,IF(Hindamistabel!J193=TRUE,2,IF(Hindamistabel!J194=TRUE,1,IF(Hindamistabel!J195=TRUE,0,IF(Hindamistabel!J196=TRUE,"ei kohaldu",""))))) -> 3
A54: 19.c | B54: väljundid | C54: tulemused | D54: Kui vastasite küsimusele 19.c eitavalt, siis millised muudatused oleksid vajalikud? | E54: ei kohaldu | F54: ei kohaldu
A55: 20 | B55: muu | C55: muu | D55: Muud tähelepanekud ja kommentaarid, mida soovite lisada | E55: ei kohaldu | F55: ei kohaldu
E56: =SUM(Tabel12[Max skoor]) -> 95 | F56: =SUM(Tabel12[Hindamise skoor]) -> 67
B57: Max skoor | C57: Hindamise skoor | D57: %
A58: Üldskoor: | B58: =SUM(Tabel12[Max skoor]) -> 95 | C58: =SUM(Tabel12[Hindamise skoor]) -> 67 | D58: =C58/B58 -> 0.70526316
A59: üldine | B59: =SUM(E2) -> 3 | C59: =SUM(F2) -> 3 | D59: =C59/B59 -> 1
A60: seisund (planeerimine) | B60: =SUM(E3:E8) -> 18 | C60: =SUM(F3:F8) -> 16 | D60: =C60/B60 -> 0.88888889
A61: survetegurid (planeerimine) | B61: =SUM(E9:E12) -> 9 | C61: =SUM(F9:F12) -> 9 | D61: =C61/B61 -> 1
A62: eesmärgid (planeerimine) | B62: =SUM(E13:E16) -> 12 | C62: =SUM(F13:F16) -> 7 | D62: =C62/B62 -> 0.58333333
A63: meetmed (planeerimine) | B63: =SUM(E17:E20) -> 6 | C63: =SUM(F17:F20) -> 6 | D63: =C63/B63 -> 1
A64: sisendid (rakendamine) | B64: =SUM(E21:E24) -> 9 | C64: =SUM(F21:F24) -> 6 | D64: =C64/B64 -> 0.66666667
A65: protsess (rakendamine) | B65: =SUM(E25:E28) -> 6 | C65: =SUM(F25:F28) -> 6 | D65: =C65/B65 -> 1
A66: meetmed (väljundid) | B66: =SUM(E29:E38) -> 12 | C66: =SUM(F29:F38) -> 4 | D66: =C66/B66 -> 0.33333333
A67: tulemused (väljundid) | B67: =SUM(E39:E54) -> 20 | C67: =SUM(F39:F54) -> 10 | D67: =C67/B67 -> 0.5
A69: Üldine | B69: =SUM(E12) -> 3 | C69: =SUM(F2) -> 3 | D69: =C69/B69 -> 1
A70: Planeerimine | B70: =SUM(E3:E20) -> 45 | C70: =SUM(F3:F20) -> 38 | D70: =C70/B70 -> 0.84444444
A71: rakendamine | B71: =SUM(E21:E28) -> 15 | C71: =SUM(F21:F28) -> 12 | D71: =C71/B71 -> 0.8
A72: väljundid | B72: =SUM(E29:E54) -> 32 | C72: =SUM(F29:F54) -> 14 | D72: =C72/B72 -> 0.4375
