Workbook

Sheet Cover page

Sheet Mõisted
B3: Mõisted ja lühendid
B6: Mõiste | C6: Selgitus
B7: Kaitseväärtus | C7: Ala kaitse alla võtmise määruses/kaitse-eeskirjas nimetatud kaitstav loodusväärtus (kaitse-eesmärk).
B8: Kaitse-eesmärk | C8: Kaitseväärtuse soovitud seisund.
B9: Kava | C9: Kaitstava loodusobjekti kaitsekorralduse aluseks olev tegevuskava: kaitsekorralduskava, liigi kaitse tegevuskava, elupaiga tegevuskava.
B10: KKK | C10: Kaitstava loodusobjekti kaitsekorralduskava.
B11: Kaitsekorraldusperiood | C11: Esmakordsel hindamisel ja ajakohase (s.t kava sisu on olnud üldjoontes jätkuvalt asjakohane) kava olemasolul on hinnatava kaitsekorraldusperioodi alguseks kava algus/koostamise aeg ja perioodi lõpuks hindamise aeg. Kava puudumisel ja/või korduval hindamisel saab kaitsekorraldusperioodiks arvestada hindamistsükli pikkust/eelmise hindamise läbi viimise aega (vastavalt hindamise korraldusele 10 või 12 aastat).
B12: Survetegur | C12: Kaitseväärtuse soodsa seisundi säilimist või saavutamist negatiivselt mõjutav tegur (nt reostuskoormus, häiringud, maaparanduse mõju, intensiivne maakasutus, võõrliikide surve jm)
B13: Kaitsekorralduslikud meetmed | C13: Tegevused, mida tuleb rakendada kaitse-eesmärkide saavutamiseks, sh eesmärkide saavutamist ohustavate mõjutegurite ohjamine. Kaitsekorralduslike meetmete hulka kuulub elupaikade kaitsmine, säilitamine, loomine, taastamine, majandamine. Käesoleva hindamise kontekstis on eristatatud: - looduskaitseseadusest ja/või ala kaitse-eeskirjast tulenev kaitsekord (õigusaktidega kehtestatud piirangud); - kaitseala n-ö aktiivne majandamine ehk täiendavate tegevuste planeerimine läbi tegevuskavade, tööplaanide, toetusprogrammide (nt elupaikade taastamine ja hooldamine, külastustaristu rajamine). N-ö aktiivsete meetmete puhul on omakorda eristatud: - looduskaitsemeetmed/otseselt kaitseväärtustele suunatud meetmed ehk tegevused, mille rakendamisest võib oodata otsest kasu liikide või elupaikade seisundile (nt elupaiga taastamine, elupaiga hooldamine, võõrliigi tõrje). - toetavad meetmed ehk tegevused, mille kasu kaitseväärtustele on kaudne (nt seire seisundi tuvastamiseks, kava koostamine ja tulemuslikkuse hindamine tegevuste planeerimiseks, haridusprogrammid teadlikkuse tõstmiseks, kaitseala tähistamine piirangute rakendamiseks jm)
B14: SMART | C14: Mõistet SMART (specific, measurable, achievable, relevant, time-bound) kasutatakse siinkohal kaitse-eesmärkide ja meetmete kontekstis. "SMART" mudelile vastav eesmärk või meede on konkreetne, mõõdetav, saavutatav, asjakohane ja ajaliselt määratletud.
B15: Väljund (rakendatud tegevus) | C15: Väljunditeks on ellu viidud tegevused ja nende mõõdetavad näitajad: nt taastatud või hooldatud alade pindala, rajatud külastustaristu pikkus, kontrollkäikude arv vms.
B16: Tulemus (saavutatud seisund) | C16: Tulemus on ellu viidud tegevuste abil saavutatud olukord, mis võib olla kirjeldatud läbi liikide ja elupaikade seisundi.
B19: Survetegurite kategooriad | C19: Selgitus
... B36: kliimamuutused | C36: põuad, üleujutused, veerežiimi muutused, liikide levikuareaali muutumine jm kliimamuutuste mõjul
B37: muu
B41: Loodusdirektiivi aruande hinnangud | C41: Selgitus
B42: soodne | C42: favourable = FV
B43: ebapiisav | C43: unfavourable-inadequate= U1
B44: halb | C44: unfavourable-bad = U2
B45: teadmata | C45: unknown=XX

Sheet Üldinfo
B3: Üldinfo
B5: Küsimus | C5: Vastus
B6: Kaitstava loodusobjekti nimi | C6: Reiu jõe hoiuala
B7: KKR kood | C7: KLO2000294
B8: Asukoht (maakonnad) | C8: Pärnu maakond
B9: Kaitse alla võtmise aeg (ala moodustamise aasta) | C9: 2007
B10: Vöönd(id): | C10: hoiuala
B11: loodusreservaatide arv | C11: ei kohaldu
B12: loodusreservaatide kogupindala | C12: ei kohaldu
B13: sihtkaitsevööndite arv | C13: ei kohaldu
B14: sihtkaitsevööndite kogupindala | C14: ei kohaldu
B15: piiranguvööndite arv | C15: ei kohaldu
B16: piiranguvööndite kogupindala | C16: ei kohaldu
B17: IUCN kategooria(d) | C17: VI
B18: Natura 2000 võrgustiku alad | C18: Reiu jõe loodusala
B19: Kaitseala valitseja | C19: Keskkonnaamet
B20: Kogupindala (ha) | C20: 105,4 ha
B21: Maismaa pindala (ha) | C21: 10,1 ha
... B25: Tulemuslikkuse hindaja nimi | C25: Kirsi Loide
B26: Tulemuslikkuse hindamise kuupäev (pp.kk.aaaa) | C26: 45743
B27: Eelmise hindamise aeg (pp.kk.aaaa), s.h METT hindamine
B28: Loodusobjekti esile tõstmist vääriv tähtsus või eripära piirkonna, Eesti või Euroopa kontekstis* (*täita asjakohasusel)

Sheet Hindamistabel
A1: Valdkond | B1: Teema | C1: Nr | D1: Küsimus | E1: Suunised vastamiseks | F1: Vastuse liik | G1: Võimalikud andmeallikad | H1: Vastusevariandid | I1: Skoor | K1: Vastus (sobiva vastusevariandi reale märkida skoor kõrvaltulbast, kirjeldava vastuse korral kirjutada lahtrisse oma vastus) | L1: Vastamisel kasutatud andmeallikas | M1: Selgitused, lisainfo/ vastuse põhjendus
A2: üldine | B2: üldine | C2: 0 | D2: Kas alal on (ajakohane) kava? | E2: Kavana mõistetakse siinkohal vastavalt kohaldumisele eri tüüpi kavasid: kaitsekorralduskava, liigi kaitse tegevuskava, elupaiga tegevuskava. Vastusevariant "pole asjakohane" kohaldub kaitstavatele objektidele, mille puhul on jõutud otsusele, et tegevuskava ei ole vajalik - ala kaitseks piisab õigusaktidest tulenevast kaitsekorrast. Juhul, kui kava(d) on selgelt vananenud, s.t need ei ole hinnataval perioodil ja/või hindamise hetkel olnud kasutatavad kaitsekorralduse planeerimiseks, tuleb valida vastus "ei". Ajakohasuse määramisel ei ole siinkohal ette antud kava kindlat vanust, vaid vastamisel tuleks kasutada enda hinnangut, kas kava sisu (s.h eesmärgid ja meetmed) on olnud üldjoontes jätkuvalt asjakohane. Juhul, kui kava on üldjoontes asjakohane, kuid vahepeal on toimunud kaitse-eeskirja muutmine, selguvad kitsaskohad järgnevate küsimustega ning kava ei pea siin küsimuses aegunuks lugema. Kui on olemas KKK, mis katab osa ala territooriumist ja/või kaitseväärtustest (nt jääb kaitseala osaliselt loodusala territooriumile, millele on koostatud KKK), tuleb valida osalise katvuse vastusevariant. Koostamisetapis olevaid kaitsekorralduskavasid mitte arvestada. Liigikaitsekavasid ja elupaiga tegevuskavasid sisaldava vastusevariandi valimisel võib lähtuda EELISes sisalduvatest seostest. Küsimuses soovitakse eelkõige selgitada alapõhise tegevuskava olemasolu ning täiendavate kavade välja toomine tulemust otseselt ei mõjuta. | F2: Hindamisskaala/ valikvastus | G2: kava(d), EELIS | H2: Ei (jäta küsimused 2, 4-8, 12, 13 vahele) | I2: 0 | J2: =IF(K2<>"",TRUE,FALSE) -> FALSE
H3: Alapõhine kaitsekorralduskava puudub, kuid ala olulisematele kaitseväärtustele kohalduvad liigikaitsekava(d) ja/või elupaiga tegevuskava(d) | I3: 1 | J3: =IF(K3<>"",TRUE,FALSE) -> FALSE
H4: Jah, kuid alapõhine kaitsekorralduskava (lühikava või täiskava) katab vaid osa ala territooriumist | I4: 1 | J4: =IF(K4<>"",TRUE,FALSE) -> FALSE
H5: Jah, lihtsustatud alapõhine kaitsekorralduskava (lühikava) | I5: 2 | J5: =IF(K5<>"",TRUE,FALSE) -> FALSE
H6: Jah, lihtsustatud alapõhine kaitsekorralduskava (lühikava), lisaks kohalduvad liigikaitsekava(d) ja/või elupaiga tegevuskava(d) | I6: 2 | J6: =IF(K6<>"",TRUE,FALSE) -> FALSE
H7: Jah, alapõhine kaitsekorralduskava | I7: 3 | J7: =IF(K7<>"",TRUE,FALSE) -> FALSE
H8: Jah, alapõhine kaitsekorralduskava, lisaks kohalduvad liigikaitsekava(d) ja/või elupaiga tegevuskava(d) | I8: 3 | J8: =IF(K8<>"",TRUE,FALSE) -> TRUE | K8: 3 | L8: EELIS | M8: KKK, lisaks kohaldub jõesilmule LTK
H9: Pole asjakohane (alal pole kava vajalik; jäta küsimused 2, 4-8, 12, 13 vahele) | I9: ei kohaldu | J9: =IF(K9<>"",TRUE,FALSE) -> FALSE
A10: planeerimine | B10: seisund | C10: 1.a | D10: Kas kõikide ala kaitseväärtuseks olevate liikide esinemise/seisundi info oli kaitsekorraldusperioodi alguses kindlaks tehtud? | E10: Kaitseväärtustele eesmärkide (ehk soovitud saavutatava seisundi) määramiseks ja eesmärkide suunas liikumise hindamiseks on vajalik selge ülevaade kõigi kaitseväärtuste seisundist kaitstaval loodusobjektil. Kaitseväärtusena mõeldakse siinkohal (ja edaspidi) kehtivas kaitse-eeskirjas nimetatud kaitstavat loodusväärtust. Vastamisel arvestada, kas info liigi olukorrast alal oli teada ja n-ö lähteolukorrana esitatud. Antud küsimuses ei ole oluline keskenduda esitatud andmete mõõdetavusele ja kvaliteedile, s.t. piisavaks saab lugeda nt ka info, et liiki ei esine või liik esineb. Piisavaks ei saa lugeda nt infot, et "käesoleval perioodil teave puudub, kuid varasemast on olnud teada liigi pesitsemine", sest see ei anna selgust liigi esinemise osas käsitletaval perioodil. Kaitsekorraldusperioodi algusena saab esmakordsel hindamisel arvestada kaitsekorralduskava koostamise või uuendamise aega, edaspidi eelmist hindamist. Kava puudumisel saab kaitsekorraldusperioodiks arvestada hindamise tsükli pikkust (10 või 12 aastat). Kava olemasolul saab vaadata, kas kõikide kaitseväärtuste esinemine või seisund on kavas kirjeldatud. Kava puudumisel võib arvestada ala kaitseväärtuste seisundi tervikliku ülevaate esitamist mõnes muus protsessis/dokumendis (nt ala kaitse alla võtmisel, Natura standardandmebaasis) hinnatava perioodi algul. Küsimus 1.a juures on oodatud vastus ainult liikidele ja 1.b juures ainult elupaikadele (kooslustele). | F10: Hindamisskaala/ valikvastus | G10: kava(d), EELIS, KESE, inventuurid | H10: Seisund ei olnud määratud (jäta 1.c vahele) | I10: 0 | J10: =IF(K10<>"",TRUE,FALSE) -> FALSE
H11: Seisund oli määratud <50% väärtustest | I11: 1 | J11: =IF(K11<>"",TRUE,FALSE) -> FALSE
H12: Seisund oli määratud 50-90% väärtustest | I12: 2 | J12: =IF(K12<>"",TRUE,FALSE) -> FALSE
H13: Seisund oli määratud ≥90% väärtustele | I13: 3 | J13: =IF(K13<>"",TRUE,FALSE) -> TRUE | K13: 3 | L13: KKK
H14: Pole asjakohane (liigid ei ole kaitse-eesmärgiks) | I14: ei kohaldu | J14: =IF(K14<>"",TRUE,FALSE) -> FALSE
A15: planeerimine | B15: seisund | C15: 1.b | D15: Kas kõikide ala kaitseväärtuseks (kaitse-eesmärgiks) olevate elupaikade seisund oli kaitsekorraldusperioodi alguses kindlaks tehtud? | E15: Kaitseväärtustele kaitse-eesmärkide määramiseks ja eesmärkide suunas liikumise hindamiseks on vajalik selge ülevaade kõigi kaitseväärtuste seisundist. Kaitse-eesmärgina/kaitseväärtusena mõeldakse siinkohal kehtivas kaitse-eeskirjas nimetatud kaitstavat loodusväärtust. Antud küsimuse kontekstis võib keskenduda üksnes loodusdirektiivi elupaigatüüpidele, s.t elupaikadele, mille tunnused, piirid ja seisund on üheselt määratletavad. Arvestama ei pea üldisemaid määratlusi (nt "metsakooslused (metsaökosüsteemid)") Vastamisel arvestada, kas info iga elupaigatüübi olukorrast alal oli teada ja n-ö lähteolukorrana esitatud. Antud küsimuses ei ole oluline keskenduda esitatud andmete kvaliteedile - piisavaks saab lugeda nt ka info, kui esitatud on elupaigatüübi pindalaline ulatus, kuid esinduslikkus/seisund on määramata. Kaitsekorraldusperioodi algusena saab esmakordsel hindamisel arvestada kaitsekorralduskava koostamise või uuendamise aega, edaspidi eelmist hindamist. Kava puudumisel saab kaitsekorraldusperioodiks arvestada hindamise tsükli pikkust (10 või 12 aastat). Kava olemasolul saab vaadata, kas kõikide kaitseväärtuste esinemine või seisund on kavas kirjeldatud. Kava puudumisel võib arvestada ala kaitseväärtuste seisundi tervikliku ülevaate esitamist mõnes muus protsessis/dokumendis (nt ala kaitse alla võtmisel, Natura standardandmebaasis) hinnatava perioodi algul. Küsimus 1.a juures on oodatud vastus ainult liikidele ja 1.b juures ainult elupaikadele (kooslustele). | F15: Hindamisskaala/ valikvastus | G15: kava(d), EELIS | H15: Seisundit ei olnud määratud (jäta 1.d vahele) | I15: 0 | J15: =IF(K15<>"",TRUE,FALSE) -> FALSE
H16: Seisund oli määratud <50% väärtustest | I16: 1 | J16: =IF(K16<>"",TRUE,FALSE) -> FALSE
H17: Seisund oli määratud 50-90% väärtustest | I17: 2 | J17: =IF(K17<>"",TRUE,FALSE) -> FALSE
H18: Seisund oli määratud ≥90% väärtustele | I18: 3 | J18: =IF(K18<>"",TRUE,FALSE) -> TRUE | K18: 3 | L18: KKK
H19: Pole asjakohane (elupaigad ei ole kaitse-eesmärgiks) | I19: ei kohaldu | J19: =IF(K19<>"",TRUE,FALSE) -> FALSE
A20: planeerimine | B20: seisund | C20: 1.c. | D20: Milline on liikide seisundi andmete usaldusväärsus ja kvaliteet? | E20: Kaitse-eesmärkide suunas liikumise hindamiseks on vajalikud usaldusväärsed, (tegevuskava koostamise ajal) ajakohased, mõõdetavad ja võrreldavad alusandmed (inventuurid, seired, vaatlused). Küsimusega soovitakse selgitada, millistel alustel on seisundi hinnangud esitatud ja kas see on esitatud mõõdetavana. Kui seisundi kirjelduse põhjal ei ole võimalik selgitada, millele seisundi hinnang tugineb, valida esimene vastusevariant ("halb"). Osakaalude arvutamisel arvestada sisse ka need liigid, mille seisundit ei ole üldse määratud (liigituvad puudulike alusandmetega gruppi). | F20: Hindamisskaala/ valikvastus | G20: kava(d), EELIS | H20: Halb - puudub informatsioon alusandmete kohta ja/või seisund on esitatud üldise/täpsustamata hinnanguna | I20: 0 | J20: =IF(K20<>"",TRUE,FALSE) -> FALSE
H21: Kesine - <50% seisundi hinnangutest põhineb ajakohastel kvantitatiivsetel andmetel (uuringud, seired, inventuurid, vaatlused) | I21: 1 | J21: =IF(K21<>"",TRUE,FALSE) -> FALSE
H22: Hea - 50-90% seisundi hinnangutest põhineb ajakohastel kvantitatiivsetel andmetel (uuringud, seired, inventuurid, vaatlused) | I22: 2 | J22: =IF(K22<>"",TRUE,FALSE) -> FALSE
H23: Väga hea - ≥90% seisundi hinnangutest põhineb ajakohastel kvantitatiivsetel andmetel (uuringud, seired, inventuurid, vaatlused) | I23: 3 | J23: =IF(K23<>"",TRUE,FALSE) -> TRUE | K23: 3 | L23: KKK | M23: kõikide liikide kohta on kavas kirjeldatud, kas uuringute või inventuuride käigus on leitud või mitte (jõgede hüdrobioloogilised seired)
H24: Pole asjakohane | I24: ei kohaldu | J24: =IF(K24<>"",TRUE,FALSE) -> FALSE
A25: planeerimine | B25: seisund | C25: 1.d. | D25: Milline on elupaikade seisundiandmete usaldusväärsus ja kvaliteet? | E25: Kaitse-eesmärkide suunas liikumise hindamiseks on vajalikud usaldusväärsed, (tegevuskava koostamise ajal) ajakohased, mõõdetavad ja võrreldavad alusandmed (inventuurid, seired, vaatlused). Küsimusega soovitakse selgitada, millistel alustel on seisundi hinnangud esitatud ja kas see on esitatud mõõdetavana. Kui seisundi kirjelduse põhjal ei ole võimalik selgitada, millele seisundi hinnang tugineb, valida esimene vastusevariant ("halb"). Osakaalude arvutamisel arvestada sisse ka need elupaigad, mille seisundit ei ole üldse määratud (liigituvad puudulike alusandmetega gruppi). | F25: Hindamisskaala/ valikvastus | G25: kava(d), EELIS | H25: Halb - puudub informatsioon alusandmete kohta ja/või seisund on esitatud üldise/umbmäärase hinnanguna | I25: 0 | J25: =IF(K25<>"",TRUE,FALSE) -> FALSE
H26: Kesine - <50% seisundi hinnangutest põhineb ajakohastel kvantitatiivsetel andmetel (uuringud, seired, inventuurid, vaatlused) | I26: 1 | J26: =IF(K26<>"",TRUE,FALSE) -> FALSE
H27: Hea - 50-90% seisundi hinnangutest põhineb ajakohastel kvantitatiivsetel andmetel (uuringud, seired, inventuurid, vaatlused) | I27: 2 | J27: =IF(K27<>"",TRUE,FALSE) -> FALSE
H28: Väga hea - ≥90% seisundi hinnangutest põhineb ajakohastel kvantitatiivsetel andmetel (uuringud, seired, inventuurid, vaatlused) | I28: 3 | J28: =IF(K28<>"",TRUE,FALSE) -> TRUE | K28: 3 | L28: KKK | M28: seisund on kirjeldatud läbi karakterliikide esinemise ja veekogu hüdrobioloogilise seisundi hinnangu
H29: Pole asjakohane | I29: ei kohaldu | J29: =IF(K29<>"",TRUE,FALSE) -> FALSE
A30: planeerimine | B30: seisund | C30: 2.a | D30: Kas eelmisel kaitsekorraldusperioodil/selle kaitsekorraldusperioodi algul tuvastati andmelünki, mis takistasid lähteolukorra (kaitseväärtuste seisundi) kindlaks määramist? | E30: Selleks, et tagada, et iga uus kaitsekorraldusperiood täiendaks/parandaks eelmist, on oluline välja selgitada puudused, mis tekivad lähteolukorra hindamisel ja näha ette tegevused oluliste andmelünkade täitmiseks. Küsimusele vastates peab välja tooma, kas andmelünkadele on kavas aktiivselt tähelepanu juhitud. | F30: Hindamisskaala/ valikvastus | G30: kava(d), EELIS | H30: Andmelünkasid ei ole analüüsitud/kavas(-des) kajastatud | I30: 0 | J30: =IF(K30<>"",TRUE,FALSE) -> FALSE
H31: On tuvastatud mõned andmelüngad, kuid nende lünkade täitmise vajadus ei ole selgelt välja toodud. | I31: 1 | J31: =IF(K31<>"",TRUE,FALSE) -> FALSE
H32: Andmelüngad on põhjalikult kaardistatud ning andmelünkade täitmiseks vajalikud tegevused on selgelt välja toodud. | I32: 2 | J32: =IF(K32<>"",TRUE,FALSE) -> TRUE | K32: 2 | L32: KKK | M32: ettenähtud täiendavate andmete kogumine liikide ja elupaikade tulemuslikkuse hindamiseks
H33: Olulised andmelüngad puuduvad/ei ole asjakohane (jäta 2.b vahele) | I33: 3 | J33: =IF(K33<>"",TRUE,FALSE) -> FALSE
A34: planeerimine | B34: seisund | C34: 2.b | D34: Kas tuvastatud andmelüngad on kaitsekorraldusperioodil täidetud? | E34: Küsimuses 2.a välja toodud andmelünkade osas, tuleb antud vastuses anda ülevaade sellest, kui suures ulatuses on tuvastatud andmelünki kaitsekorraldusperioodil likvideeritud. | F34: Hindamisskaala/ valikvastus | G34: EELIS, KESE | H34: Tuvastatud andmelünki ei ole täidetud | I34: 0 | J34: =IF(K34<>"",TRUE,FALSE) -> FALSE
H35: Vähem kui pooled andmelüngad (<50%) on täidetud, kuid siiski on veel märkimisväärseid puuduseid alusandmetes. | I35: 1 | J35: =IF(K35<>"",TRUE,FALSE) -> FALSE
H36: Pool või enam (50%-<100%) tuvastatud andmelünki on täidetud. | I36: 2 | J36: =IF(K36<>"",TRUE,FALSE) -> TRUE | K36: 2 | L36: KKK, KESE, KIRKE
H37: Kõik tuvastatud andmelüngad on täidetud. | I37: 3 | J37: =IF(K37<>"",TRUE,FALSE) -> FALSE
A38: planeerimine | B38: survetegurid | C38: 3.a | D38: Kas ala kõigi kaitseväärtuste osas on survetegurid (otsesed negatiivsed mõjutegurid) tuvastatud? | E38: Survetegur on negatiivne mõjutegur, mis mõjutab kaitseväärtuse seisundit ja/või kaitse-eesmärkide saavutamist. Seetõttu on vajalik survetegurite kaardistamine ja nende mõju analüüsimine konkreetse asukoha tasemel. Survetegurid on näiteks maa- ja merekasutuse muutused, otsene liigi või elupaiga kahjustamine, kliimamuutused, reostus, võõrliigid jm. Juhul, kui on teada ja/või selgitatud, et kaitseväärtusel märkimist väärivad survetegurid puuduvad, ei ole see puuduseks, vaid sel juhul tuleb kaitseväärtust arvestada samaväärselt väärtustega, mille survetegurid on tuvastatud. | F38: Hindamisskaala/ valikvastus | G38: kava(d), EELIS | H38: Ala survetegureid ei ole kindlaks määratud (jäta 3.b ja 4 vahele) | I38: 0 | J38: =IF(K38<>"",TRUE,FALSE) -> FALSE
H39: Survetegurid on määratletud riigi tasemel (nt liigi ohustatuse hindamisel, liigi või elupaiga tegevuskavas vm), alapõhiseid survetegureid ei ole kaardistatud/hinnatud. | I39: 1 | J39: =IF(K39<>"",TRUE,FALSE) -> FALSE
H40: Survetegurid on kindlaks määratud vähem kui pooltele (<50%) kaitseväärtustele | I40: 1 | J40: =IF(K40<>"",TRUE,FALSE) -> FALSE
...

Sheet skoor
A1: Küsimuse nr | B1: Valdkond | C1: Teema | D1: Küsimus | E1: Max skoor | F1: Hindamise skoor
A2: 0 | B2: üldine | C2: üldine | D2: Kas alal on (ajakohane) kava? | E2: =IF(F2="pole asjakohane","",3) -> 3 | F2: =IF(Hindamistabel!J2=TRUE,0,IF(Hindamistabel!J3=TRUE,1,IF(Hindamistabel!J4=TRUE,1,IF(Hindamistabel!J5=TRUE,2,IF(Hindamistabel!J6=TRUE,2,IF(Hindamistabel!J7=TRUE,3,IF(Hindamistabel!J8=TRUE,3,IF(Hindamistabel!J9=TRUE,"pole asjakohane","")))))))) -> 3
A3: 1.a | B3: planeerimine | C3: seisund | D3: Kas kõikide ala kaitseväärtuseks olevate liikide esinemise/seisundi info oli kaitsekorraldusperioodi alguses kindlaks tehtud? | E3: =IF(F3="pole asjakohane","",3) -> 3 | F3: =IF(Hindamistabel!J10=TRUE,0,IF(Hindamistabel!J11=TRUE,1,IF(Hindamistabel!J12=TRUE,2,IF(Hindamistabel!J13=TRUE,3,IF(Hindamistabel!J14=TRUE,"pole asjakohane",""))))) -> 3
A4: 1.b | B4: planeerimine | C4: seisund | D4: Kas kõikide ala kaitseväärtuseks (kaitse-eesmärgiks) olevate elupaikade seisund oli kaitsekorraldusperioodi alguses kindlaks tehtud? | E4: =IF(F4="pole asjakohane","",3) -> 3 | F4: =IF(Hindamistabel!J15=TRUE,0,IF(Hindamistabel!J16=TRUE,1,IF(Hindamistabel!J17=TRUE,2,IF(Hindamistabel!J18=TRUE,3,IF(Hindamistabel!J19=TRUE,"pole asjakohane",""))))) -> 3
A5: 1.c. | B5: planeerimine | C5: seisund | D5: Milline on liikide seisundi andmete usaldusväärsus ja kvaliteet? | E5: =IF(OR(F5="pole asjakohane",Hindamistabel!J10=TRUE,Hindamistabel!J14=TRUE),"",3) -> 3 | F5: =IF(Hindamistabel!J20=TRUE,0,IF(Hindamistabel!J21=TRUE,1,IF(Hindamistabel!J22=TRUE,2,IF(Hindamistabel!J23=TRUE,3,IF(Hindamistabel!J24=TRUE,"pole asjakohane",""))))) -> 3
A6: 1.d. | B6: planeerimine | C6: seisund | D6: Milline on elupaikade seisundiandmete usaldusväärsus ja kvaliteet? | E6: =IF(OR(F6="pole asjakohane",Hindamistabel!J15=TRUE,Hindamistabel!J19=TRUE),"",3) -> 3 | F6: =IF(Hindamistabel!J25=TRUE,0,IF(Hindamistabel!J26=TRUE,1,IF(Hindamistabel!J27=TRUE,2,IF(Hindamistabel!J28=TRUE,3,IF(Hindamistabel!J29=TRUE,"pole asjakohane",""))))) -> 3
A7: 2.a | B7: planeerimine | C7: seisund | D7: Kas eelmisel kaitsekorraldusperioodil/selle kaitsekorraldusperioodi algul tuvastati andmelünki, mis takistasid lähteolukorra (kaitseväärtuste seisundi) kindlaks määramist? | E7: =IF(OR(F7="pole asjakohane", Hindamistabel!J2=TRUE,Hindamistabel!J9=TRUE),"",3) -> 3 | F7: =IF(Hindamistabel!J30=TRUE,0,IF(Hindamistabel!J31=TRUE,1,IF(Hindamistabel!J32=TRUE,2,IF(Hindamistabel!J33=TRUE,3,"")))) -> 2
A8: 2.b | B8: planeerimine | C8: seisund | D8: Kas tuvastatud andmelüngad on kaitsekorraldusperioodil täidetud? | E8: =IF(OR(F8="pole asjakohane",Hindamistabel!J2=TRUE,Hindamistabel!J9=TRUE,Hindamistabel!J33=TRUE),"",3) -> 3 | F8: =IF(Hindamistabel!J34=TRUE,0,IF(Hindamistabel!J35=TRUE,1,IF(Hindamistabel!J36=TRUE,2,IF(Hindamistabel!J37=TRUE,3,"")))) -> 2
A9: 3.a | B9: planeerimine | C9: survetegurid | D9: Kas ala kõigi kaitseväärtuste osas on survetegurid (otsesed negatiivsed mõjutegurid) tuvastatud? | E9: =IF(F9="pole asjakohane","",3) -> 3 | F9: =IF(Hindamistabel!J38=TRUE,0,IF(Hindamistabel!J39=TRUE,1,IF(Hindamistabel!J40=TRUE,1,IF(Hindamistabel!J41=TRUE,2,IF(Hindamistabel!J42=TRUE,3,""))))) -> 3
A10: 3.b | B10: planeerimine | C10: survetegurid | D10: Kas iga (küsimuses 3.a käsitletud) surveteguri olulisus ja ulatus on kindlaks määratud? | E10: =IF(OR(F10="pole asjakohane",Hindamistabel!J38=TRUE),"",3) -> 3 | F10: =IF(Hindamistabel!J43=TRUE,0,IF(Hindamistabel!J44=TRUE,1,IF(Hindamistabel!J45=TRUE,2,IF(Hindamistabel!J46=TRUE,3,"")))) -> 3
A11: 3.c | B11: planeerimine | C11: survetegurid | D11: Nimeta ala kõige olulisemad survetegurid? | E11: ei kohaldu | F11: ei kohaldu
A12: 4 | B12: planeerimine | C12: survetegurid | D12: Kas arvesse on võetud ka väljastpoolt kaitseala tulenevaid survetegureid? | E12: =IF(OR(F12="pole asjakohane",Hindamistabel!J9=TRUE,Hindamistabel!J2=TRUE),"",3) -> 3 | F12: =IF(Hindamistabel!J52=TRUE,0,IF(Hindamistabel!J53=TRUE,2,IF(Hindamistabel!J54=TRUE,3,""))) -> 3
A13: 5.a | B13: planeerimine | C13: eesmärgid | D13: Kas ala elurikkusega seotud kaitseväärtustele on seatud kaitse-eesmärgid? | E13: =IF(OR(F13="pole asjakohane",Hindamistabel!J9=TRUE,Hindamistabel!J2=TRUE),"",3) -> 3 | F13: =IF(Hindamistabel!J55=TRUE,0,IF(Hindamistabel!J56=TRUE,1,IF(Hindamistabel!J57=TRUE,1,IF(Hindamistabel!J58=TRUE,2,IF(Hindamistabel!J59=TRUE,3,""))))) -> 3
A14: 5.b. | B14: planeerimine | C14: eesmärgid | D14: Kas kaitseväärtuste kaitse-eesmärgid määratlevad elupaikade ja liikide soovitava seisundi? | E14: =IF(OR(F14="pole asjakohane",Hindamistabel!J9=TRUE,Hindamistabel!J2=TRUE,Hindamistabel!J55=TRUE,Hindamistabel!J56=TRUE),"",3) -> 3 | F14: =IF(Hindamistabel!J60=TRUE,0,IF(Hindamistabel!J61=TRUE,1,IF(Hindamistabel!J62=TRUE,2,IF(Hindamistabel!J63=TRUE,3,"")))) -> 3
A15: 5.c. | B15: planeerimine | C15: eesmärgid | D15: Kas kaitse-eesmärgid on seatud ka muudele kaitseväärtustele kui otseselt elurikkust puudutavatele kaitseväärtustele? | E15: =IF(OR(F15="pole asjakohane",Hindamistabel!J9=TRUE,Hindamistabel!J2=TRUE),"",3) -> 3 | F15: =IF(Hindamistabel!J64=TRUE,"pole asjakohane",IF(Hindamistabel!J65=TRUE,0,IF(Hindamistabel!J66=TRUE,3,""))) -> 0
A16: 5.d. | B16: planeerimine | C16: eesmärgid | D16: Kas kaitse-eesmärke on seatud ka sellistele hüvedele/väärtustele, mis ei ole määrusega ala kaitseväärtuseks seatud? | E16: =IF(OR(F16="pole asjakohane",Hindamistabel!J9=TRUE,Hindamistabel!J2=TRUE),"",3) -> 3 | F16: =IF(Hindamistabel!J67=TRUE,"pole asjakohane",IF(Hindamistabel!J68=TRUE,1,IF(Hindamistabel!J69=TRUE,3,""))) -> 1
A17: 6.a. | B17: planeerimine | C17: meetmed | D17: Kas kaitsealal on vaja aktiivseid kaitsekorralduslikke tegevusi (lisaks LKS alusel kohalduvale kaitsekorrale/piirangutele)? | E17: ei kohaldu | F17: ei kohaldu
A18: 6.b. | B18: planeerimine | C18: meetmed | D18: Kas kõikide kaitseala kaitse-eesmärkide saavutamiseks kavandati vajalikud meetmed/tegevused? | E18: =IF(OR(F18="pole asjakohane",Hindamistabel!J9=TRUE,Hindamistabel!J2=TRUE,Hindamistabel!J71=TRUE),"",3) -> 3 | F18: =IF(Hindamistabel!J72=TRUE,0,IF(Hindamistabel!J73=TRUE,1,IF(Hindamistabel!J74=TRUE,2,IF(Hindamistabel!J75=TRUE,3,"")))) -> 3
A19: 6.c | B19: planeerimine | C19: meetmed | D19: Kas määratud meetmed näevad ette tegevusi väljaspool kaitseala piire? | E19: =IF(OR(F19="pole asjakohane",Hindamistabel!J9=TRUE,Hindamistabel!J2=TRUE,Hindamistabel!J71=TRUE,Hindamistabel!J72=TRUE),"",3) | F19: =IF(Hindamistabel!J76=TRUE,"pole asjakohane",IF(Hindamistabel!J77=TRUE,0,IF(Hindamistabel!J78=TRUE,0,IF(Hindamistabel!J79=TRUE,3,"")))) -> pole asjakohane
A20: 6.d | B20: planeerimine | C20: meetmed | D20: Kas tegevused käsitlesid kõiki kaitsealal tuvastatud ja kaitseväärtusi mõjutavaid survetegureid? | E20: =IF(OR(F20="pole asjakohane",Hindamistabel!J9=TRUE,Hindamistabel!J2=TRUE,Hindamistabel!J71=TRUE,Hindamistabel!J72=TRUE),"",3) -> 3 | F20: =IF(Hindamistabel!J80=TRUE,0,IF(Hindamistabel!J81=TRUE,1,IF(Hindamistabel!J82=TRUE,2,IF(Hindamistabel!J83=TRUE,3,"")))) -> 3
A21: 7 | B21: rakendamine | C21: sisendid | D21: Kas saab välja tuua muid puudujääke ala kaitsekorraldusega seotud teadmistes/alusinfos (peale seisundiandmete puudujääkide, mida on käsitletud küsimuses 2)? | E21: =IF(OR(F21="pole asjakohane",Hindamistabel!J9=TRUE,Hindamistabel!J2=TRUE),"",3) -> 3 | F21: =IF(Hindamistabel!J84=TRUE,3,IF(Hindamistabel!J85=TRUE,1,"")) -> 3
A22: 8.a | B22: rakendamine | C22: sisendid | D22: Kas teostatud seire, inventuurid ja/või uuringud annavad piisava teabe, et hinnata ellu viidud tegevuste edukust ja kaitse-eesmärkide saavutamist või nende suunas liikumist? | E22: =IF(OR(F22="pole asjakohane",Hindamistabel!J9=TRUE,Hindamistabel!J2=TRUE),"",3) -> 3 | F22: =IF(Hindamistabel!J86=TRUE,"pole asjakohane",IF(Hindamistabel!J87=TRUE,0,IF(Hindamistabel!J88=TRUE,1,IF(Hindamistabel!J89=TRUE,2,IF(Hindamistabel!J90=TRUE,3,""))))) -> 3
A23: 8.b | B23: rakendamine | C23: sisendid | D23: Kui vastasite küsimusele 8.a "ei", siis mida tuleb teha, et puudujääke lahendada? | E23: ei kohaldu | F23: ei kohaldu
A24: 9 | B24: rakendamine | C24: sisendid | D24: Kas seire-, inventuuride ja/või uuringute tulemusi kasutati ala kaitsekorralduse kohandamiseks? | E24: =IF(F24="pole asjakohane","",3) -> 3 | F24: =IF(Hindamistabel!J92=TRUE,0,IF(Hindamistabel!J93=TRUE,1,IF(Hindamistabel!J94=TRUE,2,IF(Hindamistabel!J95=TRUE,3,"")))) -> 0
A25: 10.a | B25: rakendamine | C25: protsess | D25: Kas huvirühmasid kaasati kaitsekorralduse/tegevuskava planeerimise etapis? | E25: =IF(F25="pole asjakohane","",3) -> 3 | F25: =IF(Hindamistabel!J96=TRUE,"pole asjakohane",IF(Hindamistabel!J97=TRUE,0,IF(Hindamistabel!J98=TRUE,1,IF(Hindamistabel!J99=TRUE,3,"")))) -> 3
A26: 10.b | B26: rakendamine | C26: protsess | D26: Kas kaitseala väärtuste ja kaitsekorralduse valdkonnas pädevaid huvirühmasid kaasati kaitsekorralduse/tegevuskava rakendamisse? | E26: =IF(F26="pole asjakohane","",3) -> 3 | F26: =IF(Hindamistabel!J100=TRUE,"pole asjakohane",IF(Hindamistabel!J101=TRUE,0,IF(Hindamistabel!J102=TRUE,1,IF(Hindamistabel!J103=TRUE,3,"")))) -> 3
A27: 11.a | B27: rakendamine | C27: protsess | D27: Kas konsultatsioonide või tegevuste koordineerimise käigus tekkis teadaolevaid konflikte (vastasseise)? | E27: ei kohaldu | F27: ei kohaldu
A28: 11.b | B28: rakendamine | C28: protsess | D28: Kui vastasite küsimusele 11.a "jah", nimetage olulisemad konfliktkohad | E28: ei kohaldu | F28: ei kohaldu
A29: 12.a | B29: väljundid | C29: meetmed | D29: Milline on kavas määratud pool-looduslike koosluste (niiduelupaikade) taastamistööde ellu viimise seis? | E29: =IF(OR(F29="pole asjakohane",Hindamistabel!J9=TRUE,Hindamistabel!J2=TRUE),"",3) | F29: =IF(Hindamistabel!J114=TRUE,"pole asjakohane",IF(Hindamistabel!J115=TRUE,3,IF(Hindamistabel!J116=TRUE,2,IF(Hindamistabel!J117=TRUE,1,IF(Hindamistabel!J118=TRUE,0,""))))) -> pole asjakohane
A30: 12.b | B30: väljundid | C30: meetmed | D30: Milline on kavas määratud märgaladega ja veekogudega (sooelupaigad, jõed, järved) seotud taastamistööde ellu viimise seis? | E30: =IF(OR(F30="pole asjakohane",Hindamistabel!J9=TRUE,Hindamistabel!J2=TRUE),"",3) -> 3 | F30: =IF(Hindamistabel!J119=TRUE,"pole asjakohane",IF(Hindamistabel!J120=TRUE,3,IF(Hindamistabel!J121=TRUE,2,IF(Hindamistabel!J122=TRUE,1,IF(Hindamistabel!J123=TRUE,0,""))))) -> 0
A31: 12.c | B31: väljundid | C31: meetmed | D31: Milline on koosluste hooldamistööde ellu viimise seis? | E31: =IF(OR(F31="pole asjakohane",Hindamistabel!J9=TRUE,Hindamistabel!J2=TRUE),"",3) | F31: =IF(Hindamistabel!J124=TRUE,"pole asjakohane",IF(Hindamistabel!J125=TRUE,3,IF(Hindamistabel!J126=TRUE,2,IF(Hindamistabel!J127=TRUE,1,IF(Hindamistabel!J128=TRUE,0,""))))) -> pole asjakohane
A32: 12.d | B32: väljundid | C32: meetmed | D32: Milline on kavas määratud liigikaitsetööde ellu viimise seis? | E32: =IF(OR(F32="pole asjakohane",Hindamistabel!J9=TRUE,Hindamistabel!J2=TRUE),"",3) -> 3 | F32: =IF(Hindamistabel!J129=TRUE,"pole asjakohane",IF(Hindamistabel!J130=TRUE,3,IF(Hindamistabel!J131=TRUE,2,IF(Hindamistabel!J132=TRUE,1,IF(Hindamistabel!J133=TRUE,0,""))))) -> 0
A33: 12.e | B33: väljundid | C33: meetmed | D33: Milline on kavas määratud muude otseselt kaitseväärtustele suunatud meetmete (hooldus-, taastamis- ja ohjamismeetmed jms) ellu viimise seis? | E33: =IF(OR(F33="pole asjakohane",Hindamistabel!J9=TRUE,Hindamistabel!J2=TRUE),"",3) | F33: =IF(Hindamistabel!J134=TRUE,"pole asjakohane",IF(Hindamistabel!J135=TRUE,3,IF(Hindamistabel!J136=TRUE,2,IF(Hindamistabel!J137=TRUE,1,IF(Hindamistabel!J138=TRUE,0,""))))) -> pole asjakohane
A34: 12.f | B34: väljundid | C34: meetmed | D34: Millised I ja II prioriteediga meetmed on tähtajaks rakendamata ja miks? | E34: ei kohaldu | F34: ei kohaldu
A35: 13.a | B35: väljundid | C35: meetmed | D35: Kas I ja II prioriteediga inventuurid, seire ja uuringud on ellu viidud? | E35: =IF(OR(F35="pole asjakohane",Hindamistabel!J9=TRUE,Hindamistabel!J2=TRUE),"",3) -> 3 | F35: =IF(Hindamistabel!J140=TRUE,3,IF(Hindamistabel!J141=TRUE,2,IF(Hindamistabel!J142=TRUE,1,IF(Hindamistabel!J143=TRUE,0,IF(Hindamistabel!J144=TRUE,"pole asjakohane",""))))) -> 3
A36: 13.b | B36: väljundid | C36: meetmed | D36: Kas I ja II prioriteediga ala valitsemisega seotud meetmed (kavad, kaitse-eeskirjad jms) on ellu viidud? | E36: =IF(OR(F36="pole asjakohane",Hindamistabel!J9=TRUE,Hindamistabel!J2=TRUE),"",3) -> 3 | F36: =IF(Hindamistabel!J145=TRUE,3,IF(Hindamistabel!J146=TRUE,2,IF(Hindamistabel!J147=TRUE,1,IF(Hindamistabel!J148=TRUE,0,IF(Hindamistabel!J149=TRUE,"pole asjakohane",""))))) -> 1
A37: 13.c | B37: väljundid | C37: meetmed | D37: Kas I ja II prioriteediga rekreatsiooni ja keskkonnaharidusega seotud meetmed on ellu viidud? | E37: =IF(OR(F37="pole asjakohane",Hindamistabel!J9=TRUE,Hindamistabel!J2=TRUE),"",3) | F37: =IF(Hindamistabel!J150=TRUE,3,IF(Hindamistabel!J151=TRUE,2,IF(Hindamistabel!J152=TRUE,1,IF(Hindamistabel!J153=TRUE,0,IF(Hindamistabel!J154=TRUE,"pole asjakohane",""))))) -> pole asjakohane
A38: 13.d | B38: väljundid | C38: meetmed | D38: Kas hinnataval perioodil on lisaks ellu viidud sellised kaitse-eesmärke toetavaid tegevusi, mis ei ole ette nähtud kavaga? | E38: ei kohaldu | F38: ei kohaldu
A39: 14.a | B39: väljundid | C39: tulemused | D39: Milline on nende liikide seisund, mille kaitseks ala on määratud? | E39: =IF(F39="pole asjakohane","",3) -> 3 | F39: =IF(Hindamistabel!J156=TRUE,3,IF(Hindamistabel!J157=TRUE,2,IF(Hindamistabel!J158=TRUE,1,IF(Hindamistabel!J159=TRUE,0,IF(Hindamistabel!J160=TRUE,"pole asjakohane",""))))) -> 2
A40: 14.b | B40: väljundid | C40: tulemused | D40: Kui vastasite küsimuses 14.a, et ≥90% liikide seisund on stabiilne või paranenud, siis palun tooge välja peamised edutegurid? | E40: ei kohaldu | F40: ei kohaldu
...
