Workbook

Sheet algandmed
A1: Kataster | B1: Uuringupunkti_nr | C1: JRO | D1: Uuringuala | E1: X lambert | F1: Y lambert | G1: Maaüksuse katastritunnus | H1: Suudme_(toru)_ABS | I1: Toru_üle_maapinna | J1: PA_sygavus_maapinnast | K1: PA_algne_sygavus_maapinnast | L1: Veetase_suudmest_(torust) | M1: Veetaseeme_ABS | N1: Veetaseme_kuupäev | O1: Algne_konstruktsioon | P1: KIHT1 | Q1: K2_ALG | R1: KIHT2 | S1: K3_ALG | T1: KIHT3 | U1: K4_ALG | V1: KIHT4 | W1: K5_ALG | X1: KIHT5 | Y1: K6_ALG | Z1: KIHT6 | AA1: K7_ALG | AB1: KIHT7 | AC1: K8_ALG | AD1: KIHT8 | AE1: K9_ALG | AF1: KIHT9 | AG1: K10_ALG | AH1: KIHT10 | AI1: Maaomanik | AJ1: Reg_nr_isikukood | AK1: Kontaktid | AL1: Maa_kasutaja | AM1: Maakond | AN1: Vald_linn | AO1: VPA_seisund | AP1: VPA_seisundi_kirjeldus | AQ1: Märkused | AR1: Proovivõtmise_tingimused | AS1: Ettepanekud | AT1: Esialgsed andmed_Töö_nimetus_nr
A2: 19845 | B2: PA-2434 | C2: JRA0000020 | D2: Ahtme mnt 86 ABT | E2: 695443.3 | F2: 6579869.4 | G2: 32206:002:0014 | H2: 70.08 | I2: 0.55 | J2: 18.04 | K2: 20.35 | L2: 12.83 | M2: =H2-L2 -> 57.25 | N2: 42843 | O2: Metall 108mm: +0,55-4,60m; 93mm F 4,60-20,35m | P2: Täitepinnas: killustik, ehituskivide tükid, tahkunud bituumeni vahekihid; ei haise naftasaaduste järgi; alates 1,1m muld, keskliija saviliiv; ei haise naftasaaduste järgi | Q2: 2.1 | R2: Turvas: pruun, halvasti lagunenud; ei haise naftasaaduste järgi | S2: 2.3 | T2: Kruusliiv: pruun, kesktihe, veeküllastunud; ei haise naftasaaduste järgi | U2: 2.6 | V2: Saviliivmoreen: kollakaspruun, sitke, sisaldab 10% jämepurdu; ei haise naftasaaduste järgi, alates 3,2m rohekashall; ei haise naftasaaduste järgi | W2: 4.1 | X2: Lubjakivi: hall, lõheline; lõhed 9,0; 11,5; 18 ja 20,3m (sügavusel 20,3m põlevkivi kiht) | AI2: Eesti Vabariik; AS Tref | AJ2: -; 10080052 | AK2: 5241515 Sergei Bogdanov; 7371700; moonika@tref.ee | AL2: AS Tref | AM2: Ida-Viru | AN2: Kohtla-Järve linn | AO2: Korras | AP2: VPA on terve. Avamiseks 6-kantvõti 8. Veepinnal naftasaaduste kihti pole. Algne sügavus oli oli 20,35m. | AQ2: Proov võeti baileriga. Vesi taastus aeglaselt. | AR2: Proovi võtmisel 28.08.2017 pumbaga MP-1 oli vett VPA-s 40l, pumba sügavus 17,2m manteltoru otsast. Pumbates 200Hz alanes veetase 4 minutiga pumbani, rohke sete ummistas pumba. Proov võeti baileriga pärast 1-kordse veekoguse väljapumpamist. | AS2: Jätkata seiret. | AT2: Jääkreostuse likvideerimise projekti ettevalmistus endistel militaar- ja industriaalaladel, Maves nr-5168
A3: 19846 | B3: PA-2435 | C3: JRA0000020 | D3: Ahtme mnt 86 ABT | E3: 695275.1 | F3: 6579913.3 | G3: 32206:002:0002 | H3: 71.3 | I3: 0.54 | J3: 19.2 | K3: 19.7 | L3: 15.29 | M3: =H3-L3 -> 56.01 | N3: 42843 | O3: Metall 108mm: +0,50-4,30m; 93mm: F 4,30-19,70m | P3: Täitepinnas: muld, liiv; ei haise naftasaaduste järgi | Q3: 0.8 | R3: Täitepinnas: liiv, reostunud õline kiht, haiseb põlevkiviõli järgi | S3: 0.9 | T3: Muld: ei haise naftasaaduste järgi | U3: 1 | V3: Liiv: vaheldumisi tolmliiva ja peenliiva kihid, kollakaspruun, kesktihe, veeküllastunud; ei haise naftasaaduste järgi | W3: 1.4 | X3: Saviliivmoreen: pruunikashall, sitke, sisaldab 10% jämepurdu; ei haise naftasaaduste järgi, alates 2,0m rohekashall, alates 2,5m sinakashall | Y3: 4 | Z3: Lubjakivi: hall, lõheline, mõnevõrra savikas; lõhed 17,3 ja 18,0m (sügavusel 17,3m põlevkivi kiht) | AI3: Eesti Vabariik; Eesti Energia Kaevandused AS | AJ3: -; 10032389 | AK3: -; kaevandused@energia.ee | AL3: AS Tref | AM3: Ida-Viru | AN3: Kohtla-Järve linn | AO3: Korras | AP3: VPA on terve. Avamiseks 6-kantvõti 8. Veepinnal naftasaaduste kihti pole. Algne sügavus oli oli 19,7m. | AQ3: Proov võeti baileriga. Vesi taastus aeglaselt. | AR3: Proovi võtmisel 28.08.2017 pumbaga MP-1 oli vett VPA-s 30l, pumba sügavus 19m manteltoru otsast. Pumbates 250Hz alanes veetase 3 minutiga pumbani, rohke sete ummistas pumba. Proov võeti baileriga pärast 1-kordse veekoguse väljapumpamist. | AS3: Jätkata seiret. | AT3: Jääkreostuse likvideerimise projekti ettevalmistus endistel militaar- ja industriaalaladel, Maves nr-5168
B4: VPA-3 | C4: JRA0000020 | D4: Ahtme mnt 86 ABT | E4: 695332.66 | F4: 6579958.8 | G4: 32206:002:0015 | H4: 71.24 | I4: 0.83 | J4: 5.25 | K4: 5.25 | L4: 1.06 | M4: =H4-L4 -> 70.18 | N4: 42843 | O4: Metall 114mm: +0,75-0,75m; HDPE: 90mm: +0,75-5,25m; F 0,75-5,25m | P4: Täitepinnas | Q4: 0.3 | R4: Muld ja turvas | S4: 0.9 | T4: Saviliivmoreen | U4: 4.1 | V4: Lubjakivi | AI4: Eesti Vabariik | AJ4: - | AM4: Ida-Viru | AN4: Kohtla-Järve linn | AO4: Korras | AP4: VPA on terve. Avamiseks 6-kantvõti 8. Veepinnal paks naftasaaduste kiht (fenool). Sügavusel 5,57-6,06m (toru otsast) paks õli. | AQ4: Proovi ei võeta, kuna see iseloomustab vaid naftasaaduste lahustuvust vees. | AR4: - | AS4: Tühjendada VPA naftasaadustest (vajadusel korduvalt) ja jätkata seiret. | AT4: Seirepuuraugu projekt No JR24 (VPA-3), Maves nr-11101
B5: VPA-4 | C5: JRA0000020 | D5: Ahtme mnt 86 ABT | E5: 695303.18 | F5: 6579828.4 | G5: 32206:002:0014 | H5: 71.32 | I5: 0.69 | J5: 5.22 | K5: 5.35 | L5: 1.08 | M5: =H5-L5 -> 70.24 | N5: 42843 | O5: Metall 114mm: +0,65-0,85m; HDPE: 90mm: +0,65-5,35m; F 0,65-5,35m | P5: Täitepinnas | Q5: 0.5 | R5: Muld | S5: 0.8 | T5: Saviliivmoreen | U5: 3.6 | V5: Lubjakivi | AI5: Eesti Vabariik; AS Tref | AJ5: -; 10080052 | AK5: 5241515 Sergei Bogdanov; 7371700; moonika@tref.ee | AL5: AS Tref | AM5: Ida-Viru | AN5: Kohtla-Järve linn | AO5: Korras | AP5: VPA on terve. Avamiseks 6-kantvõti 8. Plasttoru 1,5cm metalltorust madalamal. Veepinnal naftasaaduste kihti pole. Algne sügavus oli oli 5,35m. | AQ5: Proov võeti baileriga | AR5: Proovi võtmiseks 28.08.2017 pumbaga MP-1 oli vähe vett. Veetase alanes pumbani 6 minutiga. Proov võeti baileriga pärast VPA 1-kordset tühjendamist. Vee juurdevool VPA-sse on vähene. | AS5: Jätkata seiret. | AT5: Seirepuuraugu projekt No JR24 (VPA-4 ja VPA-5), Maves nr-11101
B6: VPA-5 | C6: JRA0000020 | D6: Ahtme mnt 86 ABT | E6: 695368.67 | F6: 6579821.8 | G6: 32206:002:0014 | H6: 71.69 | I6: 0.76 | J6: 5.35 | K6: 5.35 | L6: 3.62 | M6: =H6-L6 -> 68.07 | N6: 42843 | O6: Metall 114mm: +0,7-0,8m; HDPE: 90mm: +0,7-5,35m; F 0,8-5,35m | P6: Täitepinnas | Q6: 1.2 | R6: Liiv | S6: 2 | T6: Saviliiv | U6: 2.9 | V6: Saviliivmoreen | W6: 4.9 | X6: Lubjakivi | AI6: Eesti Vabariik; AS Tref | AJ6: -; 10080052 | AK6: 5241515 Sergei Bogdanov; 7371700; moonika@tref.ee | AL6: AS Tref | AM6: Ida-Viru | AN6: Kohtla-Järve linn | AO6: Korras | AP6: VPA on terve. Avamiseks 6-kantvõti 8. Plasttoru 2cm metalltorust madalamal. Veepinnal naftasaaduste kihti pole. | AQ6: Proov võeti baileriga | AR6: Proovi võtmiseks 28.08.2017 pumbaga MP-1 oli vähe vett. Veetase alanes pumbani 5 minutiga. Vee juurdevool VPA-sse on vähene. Proov võeti baileriga pärast VPA 1-kordset tühjendamist. | AS6: Jätkata seiret. | AT6: Seirepuuraugu projekt No JR24 (VPA-4 ja VPA-5), Maves nr-11101
A7: 19847 | B7: PA-2520 | C7: JRA0000078 | D7: Ahtme mnt 88 ABT | E7: 695071.03 | F7: 6579831 | G7: 32206:002:0015 | H7: 72.26 | I7: 0.63 | J7: 11.35 | K7: 11.35 | L7: 6.88 | M7: =H7-L7 -> 65.38 | N7: 42843 | O7: Metall 108mm: +0,6-4,2m; 93mm F 4,2-11,35m | P7: Täitepinnas: ehituskivide tükid, saviliiv, kruus; ei haise naftasaaduste järgi | Q7: 0.9 | R7: Muld: ei haise naftasaaduste järgi | S7: 1.2 | T7: Turvas: pruun, keskmiselt lagunenud; ei haise naftasaaduste järgi | U7: 1.5 | V7: Peenliiv: pruunikashall, kesktihe, veeküllastunud; ei haise naftasaaduste järgi | W7: 1.7 | X7: Saviliiv: kollakashall, sitke; ei haise naftasaaduste järgi | Y7: 2 | Z7: Kruus: pruunikashall, kesktihe, veeküllastunud; ei haise naftasaaduste järgi | AA7: 2.2 | AB7: Saviliivmoreen: kollakashall, sitke, sisaldab 10% jämepurdu; ei haise naftasaaduste järgi, alates 2,6 m rohekashall | AC7: 3.7 | AD7: Lubjakivi: hall, lõheline | AI7: Eesti Vabariik | AJ7: - | AM7: Ida-Viru | AN7: Kohtla-Järve linn | AO7: Korras | AP7: VPA on terve. Avamiseks 6-kantvõti 8. Veepinnal naftasaaduste kihti pole. | AQ7: Proov võeti baileriga | AR7: Proovi võtmisel 28.08.2017 pumbaga MP-1 oli vett vaid 0,42m. Pump vett üles ei toonud. Proov võeti baileriga pärast VPA 1-kordset tühjendamist. Vesi oli savine | AS7: Jätkata seiret. | AT7: Jääkreostuse likvideerimise projekti ettevalmistus endistel militaar- ja industriaalaladel, Maves nr-5168
A8: 19848 | B8: PA-2521 | C8: JRA0000078 | D8: Ahtme mnt 88 ABT | E8: 694956.1 | F8: 6579882.2 | G8: 32206:002:0001 | H8: 72.55 | I8: 0.55 | K8: 11.3 | L8: =I8+8.45 -> 9 | M8: =H8-L8 -> 63.55 | N8: 38848 | O8: Metall 108mm: +0,55-5,45m; 93mm F 5,45-11,3m | P8: Täitepinnas: ehituskivide tükid, killustik, liiv; ei haise naftasaaduste järgi | Q8: 0.6 | R8: Muld: ei haise naftasaaduste järgi | S8: 0.7 | T8: Peenliiv: pruun, kesktihe, veeküllastunud; haiseb naftasaaduste järgi | U8: 1.4 | V8: Saviliivmoreen: rohekashall, sitke, sisaldab 15% jämepurdu; haiseb naftasaaduste järgi | W8: 1.7 | X8: Saviliivmoreen: rohekashall, sitke, sisaldab 15% jämepurdu; ei haise naftasaaduste järgi | Y8: 4.9 | Z8: Lubjakivi: üksikud lõheds, vesi ilmus alates lõhest sügavusest 8,7m | AI8: OÜ Coniery | AJ8: 10401763 | AK8: 5063534; 3361303, 3361459; coniery@hot.ee | AL8: OÜ Coniery | AM8: Ida-Viru | AN8: Kohtla-Järve linn | AO8: Hävinud/likvideeritud | AP8: VPA on hävinud. | AQ8: - | AR8: - | AS8: - | AT8: Jääkreostuse likvideerimise projekti ettevalmistus endistel militaar- ja industriaalaladel, Maves nr-5168
B9: PA-1 | C9: JRA0000037 | D9: Balti laevaremonditehas | E9: 537534 | F9: 6591493 | G9: 78408:806:0100 | H9: 3.35 | K9: 4.8 | L9: 3.45 | M9: =H9-L9 -> -0.1 | N9: 36845 | P9: Täitepinnas: muld, liiv, lubjakivi lahmakad, ehituspraht tihenenud. Alates sügavusest 3,45 maapinnast veeküllastunud | AI9: MaCat Investment OÜ | AJ9: 12198214 | AK9: 5052017 Margus Salu; 6092800; 5105905; sergei@dekoil.ee | AM9: Harju | AN9: Tallinn | AO9: Hävinud/likvideeritud | AP9: VPA on hävinud. | AQ9: - | AR9: - | AS9: - | AT9: Kopli ps Kopli lahe äärse maa-ala reostusuuringud II, Maves 2120
B10: PA-2 | C10: JRA0000037 | D10: Balti laevaremonditehas | E10: 537497 | F10: 6591532 | G10: 78408:806:0100 | H10: 3.25 | K10: 4.3 | L10: 3.2 | M10: =H10-L10 -> 0.05 | N10: 36845 | P10: Täitepinnas: muld, liiv, lubjakivi lahmakad, ehituspraht tihenenud. Alates sügavusest 3,20 maapinnast veeküllastunud | Q10: 3.8 | R10: Liivsavi (sinisavi): sinakashall, kõva | AI10: MaCat Investment OÜ | AJ10: 12198214 | AK10: 5052017 Margus Salu; 6092800; 5105905; sergei@dekoil.ee | AM10: Harju | AN10: Tallinn | AO10: Hävinud/likvideeritud | AP10: VPA on hävinud. | AQ10: - | AR10: - | AS10: - | AT10: Kopli ps Kopli lahe äärse maa-ala reostusuuringud II, Maves 2121
B11: PA-3 | C11: JRA0000037 | D11: Balti laevaremonditehas | E11: 537282 | F11: 6591688 | G11: 78408:808:0260 | H11: 3.15 | K11: 4.6 | L11: 2.9 | M11: =H11-L11 -> 0.25 | N11: 36845 | P11: Killustik | Q11: 0.6 | R11: Täitepinnas: saviliiv, liiv, lubjakivi lahmakad, slakk, ehituspraht tihenenud. Alates sügavusest 2,90 m maapinnast veeküllastunud | S11: 4 | T11: Liivsavi: sinakashall, kõva, sisaldab liivakivi mügi | AI11: BLRT Grupp Aktsiaselts | AJ11: 10068499 | AK11: 53229922 Olga Korobtsova; o.korobtsova@blrt.ee; 6102408; blrt@blrt.ee | AM11: Harju | AN11: Tallinn | AO11: Hävinud/likvideeritud | AP11: VPA on hävinud. | AQ11: - | AR11: - | AS11: - | AT11: Kopli ps Kopli lahe äärse maa-ala reostusuuringud II, Maves 2122
B12: PA-4 | C12: JRA0000037 | D12: Balti laevaremonditehas | E12: 537456 | F12: 6591468 | G12: 78408:808:0260 | H12: 2.8 | K12: 4 | L12: 2.85 | M12: =H12-L12 -> -0.05 | N12: 36845 | P12: Täitepinnas: lubjakivi lahmakad, liiv, ehituspraht tihenenud. Alates sügavusest 2,85 m maapinnast veeküllastunud | AI12: BLRT Grupp Aktsiaselts | AJ12: 10068499 | AK12: 53229922 Olga Korobtsova; o.korobtsova@blrt.ee; 6102408; blrt@blrt.ee | AM12: Harju | AN12: Tallinn | AO12: Hävinud/likvideeritud | AP12: VPA on hävinud. | AQ12: - | AR12: - | AS12: - | AT12: Kopli ps Kopli lahe äärse maa-ala reostusuuringud II, Maves 2123
B13: PA-5 | C13: JRA0000037 | D13: Balti laevaremonditehas | E13: 537407 | F13: 6591584 | G13: 78408:808:0260 | H13: 2.95 | K13: 4.5 | L13: 2.8 | M13: =H13-L13 -> 0.15 | N13: 36845 | P13: Täitepinnas: muld, liiv, saviliiv, lubjakivi lahmakad, ehituspraht tihenenud. Alates sügavusest 2,80 m maapinnast veeküllastunud | Q13: 4 | R13: Liivsavi (sinisavi): sinakashall, kõva | AI13: BLRT Grupp Aktsiaselts | AJ13: 10068499 | AK13: 53229922 Olga Korobtsova; o.korobtsova@blrt.ee; 6102408; blrt@blrt.ee | AM13: Harju | AN13: Tallinn | AO13: Hävinud/likvideeritud | AP13: VPA on hävinud. | AQ13: - | AR13: - | AS13: - | AT13: Kopli ps Kopli lahe äärse maa-ala reostusuuringud II, Maves 2124
B14: PA-6 | C14: JRA0000037 | D14: Balti laevaremonditehas | E14: 537467 | F14: 6591651 | G14: 78408:808:0260 | H14: 3.2 | K14: 3 | L14: 1.9 | M14: =H14-L14 -> 1.3 | N14: 36845 | P14: Täitepinnas: muld, liiv, lubjakivi lahmakad, ehituspraht tihenenud | Q14: 1.5 | R14: Saviliiv: pruunikashall, pehmeplastne | S14: 2.7 | T14: Liivsavi (sinisavi): sinakashall, kõva | AI14: BLRT Grupp Aktsiaselts | AJ14: 10068499 | AK14: 53229922 Olga Korobtsova; o.korobtsova@blrt.ee; 6102408; blrt@blrt.ee | AM14: Harju | AN14: Tallinn | AO14: Hävinud/likvideeritud | AP14: VPA on hävinud. | AQ14: - | AR14: - | AS14: - | AT14: Kopli ps Kopli lahe äärse maa-ala reostusuuringud II, Maves 2125
B15: PA-7 | C15: JRA0000037 | D15: Balti laevaremonditehas | E15: 537280 | F15: 6591583 | G15: 78408:808:0260 | H15: 3.25 | K15: 4.6 | L15: 3.3 | M15: =H15-L15 -> -0.05 | N15: 36845 | P15: Täitepinnas: liiv, killustik, muld, lubjakivi lahmakad, tihenenud | Q15: 0.5 | R15: Täitepinnas: peenliiv kollakaspruun, tihenenud, niiske | S15: 2.5 | T15: Täitepinnas: liiv, lubjakivi tükid, saviliiv. Alates süg. 3,30m maapinnast veeküllastunud | AI15: BLRT Grupp Aktsiaselts | AJ15: 10068499 | AK15: 53229922 Olga Korobtsova; o.korobtsova@blrt.ee; 6102408; blrt@blrt.ee | AM15: Harju | AN15: Tallinn | AO15: Hävinud/likvideeritud | AP15: VPA on hävinud. | AQ15: - | AR15: - | AS15: - | AT15: Kopli ps Kopli lahe äärse maa-ala reostusuuringud II, Maves 2126
B16: PA-8 | C16: JRA0000037 | D16: Balti laevaremonditehas | E16: 537114 | F16: 6591683 | G16: 78408:808:0260 | H16: 3.3 | K16: 4.5 | L16: 3.4 | M16: =H16-L16 -> -0.1 | N16: 36844 | P16: Täitepinnas: killustik, liiv, muld, lubjakivi lahmakad, tihenenud | Q16: 0.6 | R16: Täitepinnas: peenliiv kollakaspruun, tihenenud, niiske. | S16: 2.4 | T16: Tolmliiv: kollakashall, kesktihe, niiske. Alates süg. 3,40m maapinnast veeküllastunud | AI16: BLRT Grupp Aktsiaselts | AJ16: 10068499 | AK16: 53229922 Olga Korobtsova; o.korobtsova@blrt.ee; 6102408; blrt@blrt.ee | AM16: Harju | AN16: Tallinn | AO16: Hävinud/likvideeritud | AP16: VPA on hävinud. | AQ16: - | AR16: - | AS16: - | AT16: Kopli ps Kopli lahe äärse maa-ala reostusuuringud II, Maves 2127
B17: PA-9 | C17: JRA0000037 | D17: Balti laevaremonditehas | E17: 537063 | F17: 6591718 | G17: 78408:808:0260 | H17: 3.35 | K17: 4.6 | L17: 3.3 | M17: =H17-L17 -> 0.05 | N17: 36844 | P17: Täitepinnas: killustik, liiv, tihenenud | Q17: 0.6 | R17: Täitepinnas: peenliiv kollakaspruun, sis. veeriseid, tihenenud, niiske | S17: 2 | T17: Täitepinnas: liiv, lubjakivi tükid, saviliiv. Alates süg. 3,50m maapinnast veeküllastunud | AI17: BLRT Grupp Aktsiaselts | AJ17: 10068499 | AK17: 53229922 Olga Korobtsova; o.korobtsova@blrt.ee; 6102408; blrt@blrt.ee | AM17: Harju | AN17: Tallinn | AO17: Hävinud/likvideeritud | AP17: VPA on hävinud. | AQ17: - | AR17: - | AS17: - | AT17: Kopli ps Kopli lahe äärse maa-ala reostusuuringud II, Maves 2128
B18: PA-10 | C18: JRA0000037 | D18: Balti laevaremonditehas | E18: 537026 | F18: 6591740 | G18: 78408:808:0260 | H18: 3.35 | K18: 3.5 | L18: 3.4 | M18: =H18-L18 -> -0.05 | N18: 36844 | P18: Täitepinnas: liiv, muld, killustik, lubjakivi lahmakad, tihenenud. Alates süg. 3,40 m maapinnast veeküllastunud | AI18: BLRT Grupp Aktsiaselts | AJ18: 10068499 | AK18: 53229922 Olga Korobtsova; o.korobtsova@blrt.ee; 6102408; blrt@blrt.ee | AM18: Harju | AN18: Tallinn | AO18: Hävinud/likvideeritud | AP18: VPA on hävinud. | AQ18: - | AR18: - | AS18: - | AT18: Kopli ps Kopli lahe äärse maa-ala reostusuuringud II, Maves 2129
B19: PA-11 | C19: JRA0000037 | D19: Balti laevaremonditehas | E19: 537038 | F19: 6591938 | G19: 78408:808:0260 | H19: 6 | K19: 4.7 | L19: 1.9 | M19: =H19-L19 -> 4.1 | N19: 36844 | P19: Täitepinnas: liiv, killustik, muld, lubjakivi lahmakad, tihenenud | Q19: 1 | R19: Täitepinnas: peenliiv hallikaspruun, tihenenud, niiske | S19: 2 | T19: Saviliivmoreen: sinakashall, sitkeplastne, sis. jämepurdu 20-30% | U19: 3.8 | V19: Liivsavi (sinisavi): sinakashall, kõva | AI19: BLRT Grupp Aktsiaselts | AJ19: 10068499 | AK19: 53229922 Olga Korobtsova; o.korobtsova@blrt.ee; 6102408; blrt@blrt.ee | AM19: Harju | AN19: Tallinn | AO19: Hävinud/likvideeritud | AP19: VPA on hävinud. | AQ19: - | AR19: - | AS19: - | AT19: Kopli ps Kopli lahe äärse maa-ala reostusuuringud II, Maves 2130
B20: PA-12 | C20: JRA0000037 | D20: Balti laevaremonditehas | E20: 536941 | F20: 6591923 | G20: 78408:808:0260 | H20: 5.25 | K20: 4.6 | L20: 2.4 | M20: =H20-L20 -> 2.85 | N20: 36844 | P20: Täitepinnas: slakk, muld, liiv, lubjakivi tükid, tihenenud | Q20: 0.6 | R20: Tolmliiv kollakaspruun, kesktihe, niiske. Sisaldab saviliiva vahekihte | S20: 2 | T20: Saviliiv, kollakaspruun, pehmeplastne, sisaldab veeriseid | AI20: BLRT Grupp Aktsiaselts | AJ20: 10068499 | AK20: 53229922 Olga Korobtsova; o.korobtsova@blrt.ee; 6102408; blrt@blrt.ee | AM20: Harju | AN20: Tallinn | AO20: Hävinud/likvideeritud | AP20: VPA on hävinud. | AQ20: - | AR20: - | AS20: - | AT20: Kopli ps Kopli lahe äärse maa-ala reostusuuringud II, Maves 2131
B21: PA-13 | C21: JRA0000037 | D21: Balti laevaremonditehas | E21: 536847 | F21: 6591875 | G21: 78408:808:0260 | H21: 3.55 | K21: 4.5 | L21: 3.3 | M21: =H21-L21 -> 0.25 | N21: 36843 | P21: Asfalt | Q21: 0.1 | R21: Killustik | S21: 0.5 | T21: Täitepinnas: liiv, lubjakivi lahmakad, betoon, tihenenud | U21: 1.4 | V21: Täitepinnas: liiv, kruus, lubjakivitükid. Alates süg. 3,30 m veeküllastunud | AI21: BLRT Grupp Aktsiaselts | AJ21: 10068499 | AK21: 53229922 Olga Korobtsova; o.korobtsova@blrt.ee; 6102408; blrt@blrt.ee | AM21: Harju | AN21: Tallinn | AO21: Hävinud/likvideeritud | AP21: VPA on hävinud. | AQ21: - | AR21: - | AS21: - | AT21: Kopli ps Kopli lahe äärse maa-ala reostusuuringud II, Maves 2132
B22: PA-14 | C22: JRA0000037 | D22: Balti laevaremonditehas | E22: 536965 | F22: 6592085 | G22: 78408:808:0260 | H22: 5.05 | K22: 3.5 | L22: - | N22: 36843 | P22: Täitepinnas: liiv, killustik, muld, tihenenud | Q22: 0.5 | R22: Peenliiv: pruunikashall, kesktihe, niiske | S22: 1.8 | T22: Täitepinnas: liiv, lubjakivi tükid, saviliiv | U22: 2.8 | V22: Saviliivmoreen: hall, pehme- või sitkeplastne, sis. jämepurdu 20% | W22: 3.2 | X22: Liivsavi (sinisavi): sinakashall, kõva | AI22: BLRT Grupp Aktsiaselts | AJ22: 10068499 | AK22: 53229922 Olga Korobtsova; o.korobtsova@blrt.ee; 6102408; blrt@blrt.ee | AM22: Harju | AN22: Tallinn | AO22: Hävinud/likvideeritud | AP22: VPA on hävinud. | AQ22: - | AR22: - | AS22: - | AT22: Kopli ps Kopli lahe äärse maa-ala reostusuuringud II, Maves 2133
B23: PA-15 | C23: JRA0000037 | D23: Balti laevaremonditehas | E23: 536734 | F23: 6592209 | G23: 78408:808:0260 | H23: 3.85 | K23: 4.6 | L23: 2.4 | M23: =H23-L23 -> 1.45 | N23: 36843 | P23: Täitepinnas: liiv, killustik, muld, lubjakivi lahmakad, tihenenud | Q23: 0.5 | R23: Täitepinnas: peenliiv kollakaspruun, tihenenud, niiske | S23: 2.5 | T23: Täitepinnas: liiv, lubjakivi tükid, saviliiv, veeküllastunud | AI23: BLRT Grupp Aktsiaselts | AJ23: 10068499 | AK23: 53229922 Olga Korobtsova; o.korobtsova@blrt.ee; 6102408; blrt@blrt.ee | AM23: Harju | AN23: Tallinn | AO23: Hävinud/likvideeritud | AP23: VPA on hävinud. | AQ23: - | AR23: - | AS23: - | AT23: Kopli ps Kopli lahe äärse maa-ala reostusuuringud II, Maves 2134
B24: PA-16 | C24: JRA0000037 | D24: Balti laevaremonditehas | E24: 536705 | F24: 6592228 | G24: 78408:808:0260 | H24: 4 | K24: 4.8 | L24: 3.6 | M24: =H24-L24 -> 0.4 | N24: 36843 | P24: Muld | Q24: 0.1 | R24: Killustik | S24: 0.4 | T24: Betoon | U24: 0.6 | V24: Täitepinnas: saviliiv, liiv, veerised. Alates süg. 3,60 m maapinnast veeküllastunud | W24: 4 | AI24: BLRT Grupp Aktsiaselts | AJ24: 10068499 | AK24: 53229922 Olga Korobtsova; o.korobtsova@blrt.ee; 6102408; blrt@blrt.ee | AM24: Harju | AN24: Tallinn | AO24: Hävinud/likvideeritud | AP24: VPA on hävinud. | AQ24: - | AR24: - | AS24: - | AT24: Kopli ps Kopli lahe äärse maa-ala reostusuuringud II, Maves 2135
B25: PA-17 | C25: JRA0000037 | D25: Balti laevaremonditehas | E25: 536826 | F25: 6592184 | G25: 78408:808:0260 | H25: 3.5 | K25: 4.2 | L25: 1.9 | M25: =H25-L25 -> 1.6 | N25: 36843 | P25: Asfalt | Q25: 0.1 | R25: Killustik | S25: 0.4 | T25: Täitepinnas: liiv, killustik, muld | U25: 1 | V25: Täitepinnas: peenliiv tumepruun, tihenenud, alates süg. 1,90 m veeküllastunud | W25: 3.8 | X25: Tolmliiv: hall, kesktihe, veeküllastunud, sisaldab orgaanikat | Y25: 4 | Z25: Liivsavi (sinisavi): sinakashall, kõva | AI25: BLRT Grupp Aktsiaselts | AJ25: 10068499 | AK25: 53229922 Olga Korobtsova; o.korobtsova@blrt.ee; 6102408; blrt@blrt.ee | AM25: Harju | AN25: Tallinn | AO25: Hävinud/likvideeritud | AP25: VPA on hävinud. | AQ25: - | AR25: - | AS25: - | AT25: Kopli ps Kopli lahe äärse maa-ala reostusuuringud II, Maves 2136
B26: PA-18 | C26: JRA0000037 | D26: Balti laevaremonditehas | E26: 537053 | F26: 6592125 | G26: 78408:808:0260 | H26: 7.7 | K26: 1.8 | L26: - | N26: 36843 | P26: Täitepinnas: liiv, killustik, muld, tihenenud | Q26: 1.4 | R26: Saviliivmoreen: hall, sitke- või kõvaplastne | S26: 1.5 | T26: Liivsavi (sinisavi): sinakashall, kõva | AI26: BLRT Grupp Aktsiaselts | AJ26: 10068499 | AK26: 53229922 Olga Korobtsova; o.korobtsova@blrt.ee; 6102408; blrt@blrt.ee | AM26: Harju | AN26: Tallinn | AO26: Hävinud/likvideeritud | AP26: VPA on hävinud. | AQ26: - | AR26: - | AS26: - | AT26: Kopli ps Kopli lahe äärse maa-ala reostusuuringud II, Maves 2137
A27: 19842 | B27: PA-1561 | C27: JRA0000012 | D27: Bekkeri sadam | E27: 537831.27 | F27: 6591163.7 | G27: 78408:808:0047 | H27: 5.53 | I27: 0.51 | J27: 3 | K27: 3.5 | L27: 1.68 | M27: =H27-L27 -> 3.85 | N27: 42898 | O27: Metall 108mm: +0,5-1,05m; HDPE: 60mm +0,5-3,5; F 0,5-3,5m | P27: Täitepinnas: killustik, ehituskivide tükid, tuhk; ei haise naftasaaduste järgi | Q27: 1 | R27: Täitepinnas: keskliiv, kollakashall, kesktihe, niiske; haiseb naftasaaduste järgi | S27: 1.9 | T27: Aleuriit: kollase-hall kirju, tihe, niiske; haiseb naftasaaduste järgi | U27: 3 | V27: Aleuriit: kollase-hall kirju, tihe, niiske, sisaldab õhukesi liivakivi vahekihte; haiseb nõrgalt naftasaaduste järg | AI27: Aktsiaselts Logman Invest | AJ27: 10361696 | AK27: Aivar Napits 5012195; aivar.napits@gmail.com; 6201602, 6201600; endel.siff@primos.ee | AM27: Harju | AN27: Tallinn | AO27: Korras | AP27: VPA on terve. Päise avamiseks 6-kantvõti 8. Sisemine plasttoru samal kõrgusel metallkaitsetoruga. Algne sügavus oli 3,5m (maapinda on ehituse käigus tõstetud 0,3m, sellest ka konstruktsiooni muutus). Veepinnal naftasaaduste kihti pole. | AQ27: Proovivõtmisel 09.10.2017.a otsustati proovi mitte võtta, kuna mõõdulint, bailer ja pump MP-1 said filtertoru alumises osas õliseks ja proovi võtmisel iseloomustaks see vaid naftasaaduste lahustuvust vees. | AR27: - | AS27: Jätkata seiret. | AT27: Jääkreostuse likvideerimise projekti ettevalmistus endistel militaar- ja industriaalaladel, Maves nr-5168
A28: 19843 | B28: PA-1564 | C28: JRA0000012 | D28: Bekkeri sadam | E28: 537894.35 | F28: 6590989.6 | G28: 78408:808:0047 | H28: 3.54 | I28: 0 | J28: 3.07 | K28: 3.25 | L28: 1.95 | M28: =H28-L28 -> 1.59 | N28: 42898 | O28: Metall 108mm: 0,0-0,6m; HDPE: 60mm 0,07-3,25; F 0,25-3,25m | P28: Täitepinnas: muld, peenliiv, ehituskivide tükid; ei haise naftasaaduste järgi; alates 0,4m savikas liiv: kollakashall, kesktihe, niiske; ei haise naftasaaduste järgi; alates 1,0 m kruus, killustik, ehituspraht; ei haise naftasaaduste järgi | Q28: 1.9 | R28: Täitepinnas: kruus, must, tihe, veeküllastunud; õline, haiseb naftasaaduste järgi | S28: 2.5 | T28: Peenliiv: tumehall, tihe, veeküllastunud; õline, haiseb naftasaaduste järgi | AI28: Aktsiaselts Logman Invest | AJ28: 10361696 | AK28: Aivar Napits 5012195; aivar.napits@gmail.com; 6201602, 6201600; endel.siff@primos.ee | AM28: Harju | AN28: Tallinn | AO28: Avariis | AP28: VPA asub väikeses, pinnaveele avatud lohus. VPA suletud malmkaanega. Plasttoru 7cm allpool malmluugi serva. Maapinda on muudetud ligi 0,5m madalamaks. Algne VPA päis oli 1,2m kõrgemal. Sügavusel 1,35 on takistus ees. Veepinnal naftasaaduste kihti pole. | AQ28: Proovi ei võeta, kuna see ei iseloomusta vaid põhjavett vaid suurte sadude ajal satub sinna ka pinnavesi. | AR28: - | AS28: VPA tuleb nõuetekohaselt likvideerida. | AT28: Jääkreostuse likvideerimise projekti ettevalmistus endistel militaar- ja industriaalaladel, Maves nr-5168
A29: 19844 | B29: PA-1570 | C29: JRA0000012 | D29: Bekkeri sadam | E29: 537977.36 | F29: 6590746.1 | G29: 78408:808:0047 | H29: 3.15 | I29: 0.7 | K29: 3.58 | L29: 2.8 | M29: =H29-L29 -> 0.35 | N29: 42535 | O29: Metall 108mm: +0,7-0,95m; HDPE: 60mm +0,42-3,58; F 0,58-3,58m | P29: Täitepinnas: killustik, keskliiv, kesktihe, niiske; ei haise naftasaaduste järgi | Q29: 0.6 | R29: Turvas: tumepruun, hästi lagunenud; ei haise naftasaaduste järgi | S29: 0.75 | T29: Savikas liiv: kollakashall, kesktihe, niiske; ei haise naftasaaduste järgi; alates 1,0m sisaldab liivakivi tükke, alates 2,0m veeküllastunud, alates 3,2m hall; ei haise naftasaaduste järgi | U29: 4.5 | V29: Liivsavimoreen: tumehall, pehme, sisaldab 15% jämepurdu; ei haise naftasaaduste järgi | W29: 4.8 | X29: Liivakivi: murenenud, hall, ei haise naftasaaduste järgi | AI29: Aktsiaselts Logman Invest | AJ29: 10361696 | AK29: Aivar Napits 5012195; aivar.napits@gmail.com; 6201602, 6201600; endel.siff@primos.ee | AM29: Harju | AN29: Tallinn | AO29: Avariis | AP29: Kaitsetoru on maha sõidetud, ilmselt on katki ka plastfilter. | AQ29: Proovi ei võetud. | AR29: - | AS29: VPA-d mitte taastada ja see tuleb nõetekohaslt likvideerida. | AT29: Jääkreostuse likvideerimise projekti ettevalmistus endistel militaar- ja industriaalaladel, Maves nr-5168
B30: PA-1 (19) | C30: JRA0000164 | D30: Dekoil OÜ | E30: 536829 | F30: 6592202 | G30: 78408:806:0100 | H30: 7.1 | K30: 4.35 | L30: 3.25 | M30: =H30-L30 -> 3.85 | N30: 36830 | P30: Killustik | Q30: 0.4 | R30: Täitepinnas: liiv, killustik, muld | S30: 0.7 | T30: Tolruliiv: kollakaspruun, kesktihe, alates süg. 3,25 m veeküllastunud | U30: 3.3 | V30: Veerised ja munakad, veeküllastunud | W30: 3.6 | X30: Saviliivmoreen: pruunikashall, sitke- või kõvaplastne, sis. jämepurdu kuni 20% | AI30: Dekoil OÜ | AJ30: 10069369 | AK30: 5052017 Margus Salu; 6102772; dekoil@dekoil.ee | AM30: Harju | AN30: Tallinn | AO30: Hävinud/likvideeritud | AP30: VPA on hävinud. | AQ30: - | AR30: - | AS30: - | AT30: Kopli ps Kopli lahe äärse maa-ala reostusuuringud II, Maves 2114
B31: PA-2 (20) | C31: JRA0000164 | D31: Dekoil OÜ | E31: 536772 | F31: 6592243 | G31: 78408:808:0450 | H31: 6.95 | K31: 4.3 | L31: 2.85 | M31: =H31-L31 -> 4.1 | N31: 36830 | P31: Killustik | Q31: 0.3 | R31: Täitepinnas: liiv, saviliiv, lubjakivi tükid | S31: 4.1 | T31: Saviliivmoreen: pruunikashall, sitkeplastne, sis. jämepurdu kuni 20%. | AI31: Dekoil OÜ | AJ31: 10069369 | AK31: 5052017 Margus Salu; 6102772; dekoil@dekoil.ee | AM31: Harju | AN31: Tallinn | AO31: Hävinud/likvideeritud | AP31: VPA on hävinud. | AQ31: - | AR31: - | AS31: - | AT31: Kopli ps Kopli lahe äärse maa-ala reostusuuringud II, Maves 2114
B32: PA-3 (21) | C32: JRA0000164 | D32: Dekoil OÜ | E32: 536701 | F32: 6592311 | G32: 78408:808:0450 | H32: 5.55 | K32: 3.2 | L32: - | N32: 36830 | P32: Killustik, liiv | Q32: 0.2 | R32: Täitepinnas: sitkeplastne saviliiv, muld | S32: 1.9 | T32: Kivi | U32: 2 | V32: Saviliivmoreen: pruunikashall, kõvaplastne, sis. jämepurdu kuni 20%. Alates süg. 3,0 m hall, kõva. Vett ei ilmunud 31.10.00 | AI32: Dekoil OÜ | AJ32: 10069369 | AK32: 5052017 Margus Salu; 6102772; dekoil@dekoil.ee | AM32: Harju | AN32: Tallinn | AO32: Hävinud/likvideeritud | AP32: VPA on hävinud. | AQ32: - | AR32: - | AS32: - | AT32: Kopli ps Kopli lahe äärse maa-ala reostusuuringud II, Maves 2114
B33: PA-4 (22) | C33: JRA0000164 | D33: Dekoil OÜ | E33: 536693 | F33: 6592449 | G33: 78408:808:0450 | H33: 8 | K33: 5.5 | L33: - | N33: 36830 | P33: Killustik | Q33: 0.3 | R33: Täitepinnas: liiv, saviliiv, killustik | S33: 1.5 | T33: Täitepinnas: saviliiv, liiv, pinnasel on naftasaaduste lõhn | U33: 2.4 | V33: Veerisedja munakad | W33: 2.6 | X33: Saviliivmoreen: pruunikashall, sitke- või kõvaplastne, sis. jämepurdu kuni 20%. Pinnasel on nõrk naftasaaduste lõhn | Y33: 3.7 | Z33: Saviliivmoreen: hall, kõva, sisaldab jämepurdu kuni 20% | AA33: 4.2 | AB33: Liivakivi: sinakashall, nõrgalt tsementeerunud | AI33: Dekoil OÜ | AJ33: 10069369 | AK33: 5052017 Margus Salu; 6102772; dekoil@dekoil.ee | AM33: Harju | AN33: Tallinn | AO33: Hävinud/likvideeritud | AP33: VPA on hävinud. | AQ33: - | AR33: - | AS33: - | AT33: Kopli ps Kopli lahe äärse maa-ala reostusuuringud II, Maves 2114
B34: PA-5 (23) | C34: JRA0000164 | D34: Dekoil OÜ | E34: 536655 | F34: 6592569 | G34: 78408:808:0450 | H34: 7.85 | K34: 4.3 | L34: 1.5 | M34: =H34-L34 -> 6.35 | N34: 36830 | P34: Täitepinnas: liiv, killustik, muld, tihenenud | Q34: 1.5 | R34: Täitepinnas: saviliiv, sis. üksikuid veeriseid. PinnaseIan nõrk naftasaaduste lõhn | S34: 3.8 | T34: Saviliivmoreen: pruunikashall, sitkeplastne, sis. jämepurdu kuni 20% | AI34: Dekoil OÜ | AJ34: 10069369 | AK34: 5052017 Margus Salu; 6102772; dekoil@dekoil.ee | AM34: Harju | AN34: Tallinn | AO34: Hävinud/likvideeritud | AP34: VPA on hävinud. | AQ34: - | AR34: - | AS34: - | AT34: Kopli ps Kopli lahe äärse maa-ala reostusuuringud II, Maves 2114
B35: PA-6 (24) | C35: JRA0000164 | D35: Dekoil OÜ | E35: 536756.3 | F35: 6592360.6 | G35: 78408:806:0100 | H35: 8.18 | I35: 0.62 | J35: 4.26 | K35: 4.4 | L35: 3.51 | M35: =H35-L35 -> 4.67 | N35: 42902 | P35: Täitepinnas: liiv, killustik, saviliiv, muld, lubi, veerised | AI35: Dekoil OÜ | AJ35: 10069369 | AK35: 5052017 Margus Salu; 6102772; dekoil@dekoil.ee | AM35: Harju | AN35: Tallinn | AO35: Korras | AP35: VPA on terve. Päis lahtiselt peal. Geoloogilise ehituse ja konstruktsiooni kohta andmed puuduvad. Veepinnal naftasaaduste kihti pole. Veepinnal naftasaaduste kihti pole. Veeproovi ei võeta. | AQ35: Proovi ei võetud, kuna varasema reostus puudub. Jääkreostust pole. | AR35: - | AS35: Ettepanek on jätta VPA asutusesiseseks seireks. | AT35: Kopli ps Kopli lahe äärse maa-ala reostusuuringud II, Maves 2114
B36: PA-7 | C36: JRA0000164 | D36: Dekoil OÜ | E36: 536857.63 | F36: 6592293.8 | G36: 78408:806:0100 | H36: 8.15 | I36: 0.01 | J36: 3.44 | L36: 1.87 | M36: =H36-L36 -> 6.28 | N36: 42902 | AI36: Dekoil OÜ | AJ36: 10069369 | AK36: 5052017 Margus Salu; 6102772; dekoil@dekoil.ee | AM36: Harju | AN36: Tallinn | AO36: Korras | AP36: VPA on terve. Päis lahtiselt peal. Konstruktsiooni kohta andmed puuduvad. Kaitsetoru maapinnaga tasa. Veepinnal naftasaaduste kihti pole. Veepinnal naftasaaduste kihti pole. Veeproovi ei võeta. | AQ36: Proovi ei võeta, kuna pole teada, milline on konstruktsioon ja millist veekihti proov iseloomustab. Inventariseerimisel juhuslikult leitud, ei vasta VPA nõuetele. | AR36: - | AS36: Seiret ei plaanita, pole jääkreostusega seotud. | AT36: Aruanne puudub.
A37: 19862 | B37: PA-6611 | C37: JRA0000052 | D37: Holstre-Nõmme ABT | E37: 596749.67 | F37: 6464688 | G37: 57002:001:0057 | H37: 75.11 | I37: 0.93 | J37: 5.02 | K37: 5.15 | L37: 1.57 | M37: =H37-L37 -> 73.54 | N37: 42838 | O37: Metall 108mm: +0,85-1,15m; HDPE 60mm: +0,85-5,15m; F 0,15-4,15m | P37: Turvas: halvasti lagunenud; ei haise naftasaaduste järgi | Q37: 0.4 | R37: Peenliiv: kollakaspruun, alates 1,0 m pruun, kohev, veeküllastunud; ei haise naftasaaduste järgi | S37: 4 | T37: Peenliiv: pruun, kesktihe, veeküllastunud, õline ja haiseb naftasaaduste järgi | U37: 5.4 | V37: Peenliiv: pruun, tihe, veeküllastunud; ei haise naftasaaduste järgi | W37: 5.8 | X37: Kruus: pruun, tihe, veeküllastunud; ei haise naftasaaduste järgi | Y37: 6.2 | Z37: Savi: pruun, kõva, sisaldab liivakivi tükke | AI37: Henn Moora | AJ37: 36606186019 | AK37: 5276810 Henn Moora | AM37: Viljandi | AN37: Paistu vald | AO37: Korras | AP37: VPA on terve. Raskesti ligipääsetav, avamiseks 6-kantvõti 8. Veepinnal naftasaaduste kihti pole, põhjas 10cm pehmet setet, kuid mitte naftasaadus. | AQ37: Pumpamiseks saab autoga ca 50m kaugusele. Proov võeti pumbaga MP-1. | AR37: Proovi võtmisel 03.10.2017 oli vett VPA-s 11,3l, pumba sügavus oli 5,4m manteltoru otsast. Proov võeti pärast 1-kordse veekoguse välja pumpamist (1 minutiga alanes veetase pumbani) sagedusel 120Hz. q 0,005. S 1,8 | AS37: Jätkata seiret. | AT37: Jääkreostuse likvideerimise projekti ettevalmistus endistel militaar- ja industriaalaladel, Maves nr-5168
A38: 19863 | B38: PA-6628 | C38: JRA0000052 | D38: Holstre-Nõmme ABT | E38: 596904.78 | F38: 6464684.8 | G38: 57002:001:0057 | H38: 76.35 | I38: 0.75 | J38: 8.03 | K38: 7.95 | L38: 3.56 | M38: =H38-L38 -> 72.79 | N38: 42838 | O38: Metall 108mm: +0,75-1,05m; HDPE 90mm: F +0,75-7,95m; | P38: Muld: ei haise naftasaaduste järgi | Q38: 0.3 | R38: Peenliiv: punakaspruun, alates 2m kollakashall, tihe, niiske; ei haise naftasaaduste järgi | S38: 3.9 | T38: Kruus munakatega: kollakashall, tihe; haiseb nõrgalt naftasaaduste järgi | U38: 5.6 | V38: Kruusakas liiv: kollakashall, tihe, niiske, alates 4,5 m veeküllastunud; haiseb nõrgalt naftasaaduste järgi | AI38: Henn Moora | AJ38: 36606186019 | AK38: 5276810 Henn Moora | AM38: Viljandi | AN38: Paistu vald | AO38: Avariis | AP38: Väline kaitsetoru katki, sisemine korras, VPA pealt lahti. Veepinnal naftasaaduste kihti pole. Toru kõrgus maapinnast muutuv, kuna karjääritööd on jätnud toru üksikule saarele. Mõõtmised tehtud sisemisest plasttorust, mille kõrgus on 76,35m. | AQ38: Proov võeti pumbaga MP-1. | AR38: Proovi võtmisel 03.10.2017 oli vett VPA-s 34l, pumba sügavus oli 8,5m manteltoru otsast. Proov võeti pärast 4-kordse veekoguse välja pumpamist (9 minutit) sagedusel 200Hz. q 0,25. S 0,36 | AS38: VPA-d mitte taastada ja see tuleb likvideerida, kuna on kahjustatud ja jääb karjääri arengule ette. | AT38: Jääkreostuse likvideerimise projekti ettevalmistus endistel militaar- ja industriaalaladel, Maves nr-5168
A39: 53456 | B39: VK-1 | C39: JRA0000052 | D39: Holstre-Nõmme ABT | E39: 596911.8 | F39: 6464839.9 | G39: 57002:001:0057 | H39: 73.94 | I39: 0.77 | J39: 4.83 | K39: 5 | L39: 1.74 | M39: =H39-L39 -> 72.2 | N39: 42838 | O39: PVH 125mm: +0,5-5,0m; F 1,0-5,0m | P39: Kruus, veerised, munakad | AI39: Henn Moora | AJ39: 36606186019 | AK39: 5276810 Henn Moora | AM39: Viljandi | AN39: Paistu vald | AO39: Korras | AP39: VPA on terve. Suletud tabalukuga, võti olemas. Sisemine plasttoru 8cm välisest torust madalamal. Algne sügavus oli oli 5m. Veepinnal naftasaaduste kihti pole. | AQ39: Proov võeti pumbaga MP-1. | AR39: Proovi võtmisel 03.10.2017 oli vett VPA-s 34l, pumba sügavus oli 5,25m manteltoru otsast. Proov võeti pärast 4-kordse veekoguse välja pumpamist (8 minutit) sagedusel 200Hz. q 0,27. S 0,5 | AS39: Jätkata seiret. | AT39: Jääkreostuse likvideerimine Holstre–Nõmme ABT territooriumil. Seirepuurkaevu projekt. Alus-Geoloogia OÜ nr-1415
B40: VPA-1 | C40: JRA0000071 | D40: Ida-Viru naftabaas | E40: 730919.43 | F40: 6588502 | G40: 85101:003:0321 | H40: 31.37 | I40: 0.66 | J40: 5.86 | K40: 5.6 | L40: 1.64 | M40: =H40-L40 -> 29.73 | N40: 42843 | O40: Metall 108mm: +0,62-4,4m; 93mm: F 4,4-5,6m | P40: Täitepinnas: saviliiv, muld, liiv, lubjakivi kamakad ja lahmakad | Q40: 2.5 | R40: Saviliivmoreen: hall, kõvaplastne, sisaldab jämepurdu 20% | S40: 3.5 | T40: Lubjakivi: hall, keskmisekihiline, õhukeste mergli vahekihtidega; sügavusel 5,5m lõhe | AI40: OÜ Souvi | AJ40: 11947412 | AK40: 5055134; 5057767; veljo@bravecapital.ee; 6517001 | AM40: Ida-Viru | AN40: Vaivara vald | AO40: Korras | AP40: VPA on terve. VPA-l puudus päis, pandi uus päis. Avamiseks 6-kantvõti 8. Veepinnal naftasaaduste kihti pole, põhjas 30cm paks õli. | AQ40: Proovi ei võeta, kuna see iseloomustaks vaid naftasaaduste lahustuvust vees. | AR40: - | AS40: VPA puhastada õlisest settest ja säilitada edaspidiseks seireks. | AT40: Ida-Viru naftabaasi reostusuuring ja reostuse likvideerimise kava. AS Maves nr 4107
...

Sheet Töötlus
A1: Kataster | B1: Uuringupunkti_nr | C1: JRO | D1: Uuringuala | E1: X lambert | F1: Y lambert | G1: Maaüksuse katastritunnus | H1: Suudme_(toru)_ABS | I1: Toru_üle_maapinna | J1: PA_sygavus_maapinnast | K1: PA_algne_sygavus_maapinnast | L1: Veetase_suudmest_(torust) | M1: Veetaseeme_ABS | N1: Veetaseme_kuupäev | O1: Algne_konstruktsioon | P1: KIHT1 | Q1: K2_ALG | R1: KIHT2 | S1: K3_ALG | T1: KIHT3 | U1: K4_ALG | V1: KIHT4 | W1: K5_ALG | X1: KIHT5 | Y1: K6_ALG | Z1: KIHT6 | AA1: K7_ALG | AB1: KIHT7 | AC1: K8_ALG | AD1: KIHT8 | AE1: K9_ALG | AF1: KIHT9 | AG1: K10_ALG | AH1: KIHT10 | AI1: Maaomanik | AJ1: Reg_nr_isikukood | AK1: Kontaktid | AL1: Maa_kasutaja | AM1: Maakond | AN1: Vald_linn | AO1: VPA_seisund | AP1: Märkused | AQ1: Proovivõtmise_tingimused | AR1: Ettepanekud | AS1: Esialgsed andmed_ Töö_nimetus_nr | CI1: =AO1 -> VPA_seisund | CJ1: =AP1 -> Märkused | CK1: =AQ1 -> Proovivõtmise_tingimused | CL1: =AR1 -> Ettepanekud | CM1: =AS1 -> Esialgsed andmed_ Töö_nimetus_nr
A2: 19845 | B2: PA-2434 | C2: JRA0000020 | D2: Ahtme mnt 86 ABT | E2: 695443.3 | F2: 6579869.4 | G2: 32206:002:0014 | H2: 70.08 | I2: 0.55 | J2: 18.04 | K2: 20.35 | L2: 12.83 | M2: =H2-L2 -> 57.25 | N2: 42843 | O2: Metall 108mm: +0,55-4,60m; 93mm F 4,60-20,35m | P2: Täitepinnas: killustik, ehituskivide tükid, tahkunud bituumeni vahekihid; ei haise naftasaaduste järgi; alates 1,1m muld, keskliija saviliiv; ei haise naftasaaduste järgi | Q2: 2.1 | R2: Turvas: pruun, halvasti lagunenud; ei haise naftasaaduste järgi | S2: 2.3 | T2: Kruusliiv: pruun, kesktihe, veeküllastunud; ei haise naftasaaduste järgi | U2: 2.6 | V2: Saviliivmoreen: kollakaspruun, sitke, sisaldab 10% jämepurdu; ei haise naftasaaduste järgi, alates 3,2m rohekashall; ei haise naftasaaduste järgi | W2: 4.1 | X2: Lubjakivi: hall, lõheline; lõhed 9,0; 11,5; 18 ja 20,3m (sügavusel 20,3m põlevkivi kiht) | AI2: Eesti Vabariik; AS Tref | AJ2: -; 10080052 | AK2: 5241515 Sergei Bogdanov; 7371700; moonika@tref.ee | AL2: AS Tref | AM2: Ida-Viru | AN2: Kohtla-Järve linn | AO2: =algandmed!AP2 -> VPA on terve. Avamiseks 6-kantvõti 8. Veepinnal naftasaaduste kihti pole. Algne sügavus oli oli 20,35m. | AP2: =algandmed!AQ2 -> Proov võeti baileriga. Vesi taastus aeglaselt. | AQ2: =algandmed!AR2 -> Proovi võtmisel 28.08.2017 pumbaga MP-1 oli vett VPA-s 40l, pumba sügavus 17,2m manteltoru otsast. Pumbates 200Hz alanes veetase 4 minutiga pumbani, rohke sete ummistas pumba. Proov võeti baileriga pärast 1-kordse veekoguse väljapumpamist. | AR2: =algandmed!AS2 -> Jätkata seiret. | AS2: Jääkreostuse likvideerimise projekti ettevalmistus endistel militaar- ja industriaalaladel, Maves nr-5168 | AU2: =LEN(A2) -> 5 | AV2: =LEN(B2) -> 7 | AW2: =LEN(C2) -> 10 | AX2: =LEN(D2) -> 16 | AY2: =LEN(E2) -> 8 | AZ2: =LEN(F2) -> 10 | BA2: =LEN(G2) -> 14 | BB2: =LEN(H2) -> 5 | ... CM2: =LEN(AS2) -> 105 | CN2: =SUM(AU2:CM2) -> 1322
A3: 19846 | B3: PA-2435 | C3: JRA0000020 | D3: Ahtme mnt 86 ABT | E3: 695275.1 | F3: 6579913.3 | G3: 32206:002:0002 | H3: 71.3 | I3: 0.54 | J3: 19.2 | K3: 19.7 | L3: 15.29 | M3: =H3-L3 -> 56.01 | N3: 42843 | O3: Metall 108mm: +0,50-4,30m; 93mm: F 4,30-19,70m | P3: Täitepinnas: muld, liiv; ei haise naftasaaduste järgi | Q3: 0.8 | R3: Täitepinnas: liiv, reostunud õline kiht, haiseb põlevkiviõli järgi | S3: 0.9 | T3: Muld: ei haise naftasaaduste järgi | U3: 1 | V3: Liiv: vaheldumisi tolmliiva ja peenliiva kihid, kollakaspruun, kesktihe, veeküllastunud; ei haise naftasaaduste järgi | W3: 1.4 | X3: Saviliivmoreen: pruunikashall, sitke, sisaldab 10% jämepurdu; ei haise naftasaaduste järgi, alates 2,0m rohekashall, alates 2,5m sinakashall | Y3: 4 | Z3: Lubjakivi: hall, lõheline, mõnevõrra savikas; lõhed 17,3 ja 18,0m (sügavusel 17,3m põlevkivi kiht) | AI3: Eesti Vabariik; Eesti Energia Kaevandused AS | AJ3: -; 10032389 | AK3: -; kaevandused@energia.ee | AL3: AS Tref | AM3: Ida-Viru | AN3: Kohtla-Järve linn | AO3: =algandmed!AP3 -> VPA on terve. Avamiseks 6-kantvõti 8. Veepinnal naftasaaduste kihti pole. Algne sügavus oli oli 19,7m. | AP3: =algandmed!AQ3 -> Proov võeti baileriga. Vesi taastus aeglaselt. | AQ3: =algandmed!AR3 -> Proovi võtmisel 28.08.2017 pumbaga MP-1 oli vett VPA-s 30l, pumba sügavus 19m manteltoru otsast. Pumbates 250Hz alanes veetase 3 minutiga pumbani, rohke sete ummistas pumba. Proov võeti baileriga pärast 1-kordse veekoguse väljapumpamist. | AR3: =algandmed!AS3 -> Jätkata seiret. | AS3: Jääkreostuse likvideerimise projekti ettevalmistus endistel militaar- ja industriaalaladel, Maves nr-5168 | AU3: =LEN(A3) -> 5 | AV3: =LEN(B3) -> 7 | AW3: =LEN(C3) -> 10 | AX3: =LEN(D3) -> 16 | AY3: =LEN(E3) -> 8 | AZ3: =LEN(F3) -> 10 | BA3: =LEN(G3) -> 14 | BB3: =LEN(H3) -> 4 | ... CM3: =LEN(AS3) -> 105 | CN3: =SUM(AU3:CM3) -> 1283
B4: VPA-3 | C4: JRA0000020 | D4: Ahtme mnt 86 ABT | E4: 695332.66 | F4: 6579958.8 | G4: 32206:002:0015 | H4: 71.24 | I4: 0.83 | J4: 5.25 | K4: 5.25 | L4: 1.06 | M4: =H4-L4 -> 70.18 | N4: 42843 | O4: Metall 114mm: +0,75-0,75m; HDPE: 90mm: +0,75-5,25m; F 0,75-5,25m | P4: Täitepinnas | Q4: 0.3 | R4: Muld ja turvas | S4: 0.9 | T4: Saviliivmoreen | U4: 4.1 | V4: Lubjakivi | AI4: Eesti Vabariik | AJ4: - | AM4: Ida-Viru | AN4: Kohtla-Järve linn | AO4: =algandmed!AP4 -> VPA on terve. Avamiseks 6-kantvõti 8. Veepinnal paks naftasaaduste kiht (fenool). Sügavusel 5,57-6,06m (toru otsast) paks õli. | AP4: =algandmed!AQ4 -> Proovi ei võeta, kuna see iseloomustab vaid naftasaaduste lahustuvust vees. | AQ4: =algandmed!AR4 -> - | AR4: =algandmed!AS4 -> Tühjendada VPA naftasaadustest (vajadusel korduvalt) ja jätkata seiret. | AS4: Seirepuuraugu projekt No JR24 (VPA-3), Maves nr-11101 | AU4: =LEN(A4) -> 0 | AV4: =LEN(B4) -> 5 | AW4: =LEN(C4) -> 10 | AX4: =LEN(D4) -> 16 | AY4: =LEN(E4) -> 9 | AZ4: =LEN(F4) -> 10 | BA4: =LEN(G4) -> 14 | BB4: =LEN(H4) -> 5 | ... CM4: =LEN(AS4) -> 53 | CN4: =SUM(AU4:CM4) -> 582
B5: VPA-4 | C5: JRA0000020 | D5: Ahtme mnt 86 ABT | E5: 695303.18 | F5: 6579828.4 | G5: 32206:002:0014 | H5: 71.32 | I5: 0.69 | J5: 5.22 | K5: 5.35 | L5: 1.08 | M5: =H5-L5 -> 70.24 | N5: 42843 | O5: Metall 114mm: +0,65-0,85m; HDPE: 90mm: +0,65-5,35m; F 0,65-5,35m | P5: Täitepinnas | Q5: 0.5 | R5: Muld | S5: 0.8 | T5: Saviliivmoreen | U5: 3.6 | V5: Lubjakivi | AI5: Eesti Vabariik; AS Tref | AJ5: -; 10080052 | AK5: 5241515 Sergei Bogdanov; 7371700; moonika@tref.ee | AL5: AS Tref | AM5: Ida-Viru | AN5: Kohtla-Järve linn | AO5: =algandmed!AP5 -> VPA on terve. Avamiseks 6-kantvõti 8. Plasttoru 1,5cm metalltorust madalamal. Veepinnal naftasaaduste kihti pole. Algne sügavus oli oli 5,35m. | AP5: =algandmed!AQ5 -> Proov võeti baileriga | AQ5: =algandmed!AR5 -> Proovi võtmiseks 28.08.2017 pumbaga MP-1 oli vähe vett. Veetase alanes pumbani 6 minutiga. Proov võeti baileriga pärast VPA 1-kordset tühjendamist. Vee juurdevool VPA-sse on vähene. | AR5: =algandmed!AS5 -> Jätkata seiret. | AS5: Seirepuuraugu projekt No JR24 (VPA-4 ja VPA-5), Maves nr-11101 | AU5: =LEN(A5) -> 0 | AV5: =LEN(B5) -> 5 | AW5: =LEN(C5) -> 10 | AX5: =LEN(D5) -> 16 | AY5: =LEN(E5) -> 9 | AZ5: =LEN(F5) -> 10 | BA5: =LEN(G5) -> 14 | BB5: =LEN(H5) -> 5 | ... CM5: =LEN(AS5) -> 62 | CN5: =SUM(AU5:CM5) -> 742
B6: VPA-5 | C6: JRA0000020 | D6: Ahtme mnt 86 ABT | E6: 695368.67 | F6: 6579821.8 | G6: 32206:002:0014 | H6: 71.69 | I6: 0.76 | J6: 5.35 | K6: 5.35 | L6: 3.62 | M6: =H6-L6 -> 68.07 | N6: 42843 | O6: Metall 114mm: +0,7-0,8m; HDPE: 90mm: +0,7-5,35m; F 0,8-5,35m | P6: Täitepinnas | Q6: 1.2 | R6: Liiv | S6: 2 | T6: Saviliiv | U6: 2.9 | V6: Saviliivmoreen | W6: 4.9 | X6: Lubjakivi | AI6: Eesti Vabariik; AS Tref | AJ6: -; 10080052 | AK6: 5241515 Sergei Bogdanov; 7371700; moonika@tref.ee | AL6: AS Tref | AM6: Ida-Viru | AN6: Kohtla-Järve linn | AO6: =algandmed!AP6 -> VPA on terve. Avamiseks 6-kantvõti 8. Plasttoru 2cm metalltorust madalamal. Veepinnal naftasaaduste kihti pole. | AP6: =algandmed!AQ6 -> Proov võeti baileriga | AQ6: =algandmed!AR6 -> Proovi võtmiseks 28.08.2017 pumbaga MP-1 oli vähe vett. Veetase alanes pumbani 5 minutiga. Vee juurdevool VPA-sse on vähene. Proov võeti baileriga pärast VPA 1-kordset tühjendamist. | AR6: =algandmed!AS6 -> Jätkata seiret. | AS6: Seirepuuraugu projekt No JR24 (VPA-4 ja VPA-5), Maves nr-11101 | AU6: =LEN(A6) -> 0 | AV6: =LEN(B6) -> 5 | AW6: =LEN(C6) -> 10 | AX6: =LEN(D6) -> 16 | AY6: =LEN(E6) -> 9 | AZ6: =LEN(F6) -> 10 | BA6: =LEN(G6) -> 14 | BB6: =LEN(H6) -> 5 | ... CM6: =LEN(AS6) -> 62 | CN6: =SUM(AU6:CM6) -> 716
A7: 19847 | B7: PA-2520 | C7: JRA0000078 | D7: Ahtme mnt 88 ABT | E7: 695071.03 | F7: 6579831 | G7: 32206:002:0015 | H7: 72.26 | I7: 0.63 | J7: 11.35 | K7: 11.35 | L7: 6.88 | M7: =H7-L7 -> 65.38 | N7: 42843 | O7: Metall 108mm: +0,6-4,2m; 93mm F 4,2-11,35m | P7: Täitepinnas: ehituskivide tükid, saviliiv, kruus; ei haise naftasaaduste järgi | Q7: 0.9 | R7: Muld: ei haise naftasaaduste järgi | S7: 1.2 | T7: Turvas: pruun, keskmiselt lagunenud; ei haise naftasaaduste järgi | U7: 1.5 | V7: Peenliiv: pruunikashall, kesktihe, veeküllastunud; ei haise naftasaaduste järgi | W7: 1.7 | X7: Saviliiv: kollakashall, sitke; ei haise naftasaaduste järgi | Y7: 2 | Z7: Kruus: pruunikashall, kesktihe, veeküllastunud; ei haise naftasaaduste järgi | AA7: 2.2 | AB7: Saviliivmoreen: kollakashall, sitke, sisaldab 10% jämepurdu; ei haise naftasaaduste järgi, alates 2,6 m rohekashall | AC7: 3.7 | AD7: Lubjakivi: hall, lõheline | AI7: Eesti Vabariik | AJ7: - | AM7: Ida-Viru | AN7: Kohtla-Järve linn | AO7: =algandmed!AP7 -> VPA on terve. Avamiseks 6-kantvõti 8. Veepinnal naftasaaduste kihti pole. | AP7: =algandmed!AQ7 -> Proov võeti baileriga | AQ7: =algandmed!AR7 -> Proovi võtmisel 28.08.2017 pumbaga MP-1 oli vett vaid 0,42m. Pump vett üles ei toonud. Proov võeti baileriga pärast VPA 1-kordset tühjendamist. Vesi oli savine | AR7: =algandmed!AS7 -> Jätkata seiret. | AS7: Jääkreostuse likvideerimise projekti ettevalmistus endistel militaar- ja industriaalaladel, Maves nr-5168 | AU7: =LEN(A7) -> 5 | AV7: =LEN(B7) -> 7 | AW7: =LEN(C7) -> 10 | AX7: =LEN(D7) -> 16 | AY7: =LEN(E7) -> 9 | AZ7: =LEN(F7) -> 10 | BA7: =LEN(G7) -> 14 | BB7: =LEN(H7) -> 5 | ... CM7: =LEN(AS7) -> 105 | CN7: =SUM(AU7:CM7) -> 1109
A8: 19848 | B8: PA-2521 | C8: JRA0000078 | D8: Ahtme mnt 88 ABT | E8: 694956.1 | F8: 6579882.2 | G8: 32206:002:0001 | H8: 72.55 | I8: 0.55 | K8: 11.3 | L8: =I8+8.45 -> 9 | M8: =H8-L8 -> 63.55 | N8: 38848 | O8: Metall 108mm: +0,55-5,45m; 93mm F 5,45-11,3m | P8: Täitepinnas: ehituskivide tükid, killustik, liiv; ei haise naftasaaduste järgi | Q8: 0.6 | R8: Muld: ei haise naftasaaduste järgi | S8: 0.7 | T8: Peenliiv: pruun, kesktihe, veeküllastunud; haiseb naftasaaduste järgi | U8: 1.4 | V8: Saviliivmoreen: rohekashall, sitke, sisaldab 15% jämepurdu; haiseb naftasaaduste järgi | W8: 1.7 | X8: Saviliivmoreen: rohekashall, sitke, sisaldab 15% jämepurdu; ei haise naftasaaduste järgi | Y8: 4.9 | Z8: Lubjakivi: üksikud lõheds, vesi ilmus alates lõhest sügavusest 8,7m | AI8: OÜ Coniery | AJ8: 10401763 | AK8: 5063534; 3361303, 3361459; coniery@hot.ee | AL8: OÜ Coniery | AM8: Ida-Viru | AN8: Kohtla-Järve linn | AO8: =algandmed!AP8 -> VPA on hävinud. | AP8: =algandmed!AQ8 -> - | AQ8: =algandmed!AR8 -> - | AR8: =algandmed!AS8 -> - | AS8: Jääkreostuse likvideerimise projekti ettevalmistus endistel militaar- ja industriaalaladel, Maves nr-5168 | AU8: =LEN(A8) -> 5 | AV8: =LEN(B8) -> 7 | AW8: =LEN(C8) -> 10 | AX8: =LEN(D8) -> 16 | AY8: =LEN(E8) -> 8 | AZ8: =LEN(F8) -> 9 | BA8: =LEN(G8) -> 14 | BB8: =LEN(H8) -> 5 | ... CM8: =LEN(AS8) -> 105 | CN8: =SUM(AU8:CM8) -> 791
B9: PA-1 | C9: JRA0000037 | D9: Balti laevaremonditehas | E9: 537534 | F9: 6591493 | G9: 78408:806:0100 | H9: 3.35 | K9: 4.8 | L9: 3.45 | M9: =H9-L9 -> -0.1 | N9: 36845 | P9: Täitepinnas: muld, liiv, lubjakivi lahmakad, ehituspraht tihenenud. Alates sügavusest 3,45 maapinnast veeküllastunud | AI9: MaCat Investment OÜ | AJ9: 12198214 | AK9: 5052017 Margus Salu; 6092800; 5105905; sergei@dekoil.ee | AM9: Harju | AN9: Tallinn | AO9: =algandmed!AP9 -> VPA on hävinud. | AP9: =algandmed!AQ9 -> - | AQ9: =algandmed!AR9 -> - | AR9: =algandmed!AS9 -> - | AS9: Kopli ps Kopli lahe äärse maa-ala reostusuuringud II, Maves 2120 | AU9: =LEN(A9) -> 0 | AV9: =LEN(B9) -> 4 | AW9: =LEN(C9) -> 10 | AX9: =LEN(D9) -> 23 | AY9: =LEN(E9) -> 6 | AZ9: =LEN(F9) -> 7 | BA9: =LEN(G9) -> 14 | BB9: =LEN(H9) -> 4 | ... CM9: =LEN(AS9) -> 64 | CN9: =SUM(AU9:CM9) -> 376
B10: PA-2 | C10: JRA0000037 | D10: Balti laevaremonditehas | E10: 537497 | F10: 6591532 | G10: 78408:806:0100 | H10: 3.25 | K10: 4.3 | L10: 3.2 | M10: =H10-L10 -> 0.05 | N10: 36845 | P10: Täitepinnas: muld, liiv, lubjakivi lahmakad, ehituspraht tihenenud. Alates sügavusest 3,20 maapinnast veeküllastunud | Q10: 3.8 | R10: Liivsavi (sinisavi): sinakashall, kõva | AI10: MaCat Investment OÜ | AJ10: 12198214 | AK10: 5052017 Margus Salu; 6092800; 5105905; sergei@dekoil.ee | AM10: Harju | AN10: Tallinn | AO10: =algandmed!AP10 -> VPA on hävinud. | AP10: =algandmed!AQ10 -> - | AQ10: =algandmed!AR10 -> - | AR10: =algandmed!AS10 -> - | AS10: Kopli ps Kopli lahe äärse maa-ala reostusuuringud II, Maves 2121 | AU10: =LEN(A10) -> 0 | AV10: =LEN(B10) -> 4 | AW10: =LEN(C10) -> 10 | AX10: =LEN(D10) -> 23 | AY10: =LEN(E10) -> 6 | AZ10: =LEN(F10) -> 7 | BA10: =LEN(G10) -> 14 | BB10: =LEN(H10) -> 4 | ... CM10: =LEN(AS10) -> 64 | CN10: =SUM(AU10:CM10) -> 430
B11: PA-3 | C11: JRA0000037 | D11: Balti laevaremonditehas | E11: 537282 | F11: 6591688 | G11: 78408:808:0260 | H11: 3.15 | K11: 4.6 | L11: 2.9 | M11: =H11-L11 -> 0.25 | N11: 36845 | P11: Killustik | Q11: 0.6 | R11: Täitepinnas: saviliiv, liiv, lubjakivi lahmakad, slakk, ehituspraht tihenenud. Alates sügavusest 2,90 m maapinnast veeküllastunud | S11: 4 | T11: Liivsavi: sinakashall, kõva, sisaldab liivakivi mügi | AI11: BLRT Grupp Aktsiaselts | AJ11: 10068499 | AK11: 53229922 Olga Korobtsova; o.korobtsova@blrt.ee; 6102408; blrt@blrt.ee | AM11: Harju | AN11: Tallinn | AO11: =algandmed!AP11 -> VPA on hävinud. | AP11: =algandmed!AQ11 -> - | AQ11: =algandmed!AR11 -> - | AR11: =algandmed!AS11 -> - | AS11: Kopli ps Kopli lahe äärse maa-ala reostusuuringud II, Maves 2122 | AU11: =LEN(A11) -> 0 | AV11: =LEN(B11) -> 4 | AW11: =LEN(C11) -> 10 | AX11: =LEN(D11) -> 23 | AY11: =LEN(E11) -> 6 | AZ11: =LEN(F11) -> 7 | BA11: =LEN(G11) -> 14 | BB11: =LEN(H11) -> 4 | ... CM11: =LEN(AS11) -> 64 | CN11: =SUM(AU11:CM11) -> 470
B12: PA-4 | C12: JRA0000037 | D12: Balti laevaremonditehas | E12: 537456 | F12: 6591468 | G12: 78408:808:0260 | H12: 2.8 | K12: 4 | L12: 2.85 | M12: =H12-L12 -> -0.05 | N12: 36845 | P12: Täitepinnas: lubjakivi lahmakad, liiv, ehituspraht tihenenud. Alates sügavusest 2,85 m maapinnast veeküllastunud | AI12: BLRT Grupp Aktsiaselts | AJ12: 10068499 | AK12: 53229922 Olga Korobtsova; o.korobtsova@blrt.ee; 6102408; blrt@blrt.ee | AM12: Harju | AN12: Tallinn | AO12: =algandmed!AP12 -> VPA on hävinud. | AP12: =algandmed!AQ12 -> - | AQ12: =algandmed!AR12 -> - | AR12: =algandmed!AS12 -> - | AS12: Kopli ps Kopli lahe äärse maa-ala reostusuuringud II, Maves 2123 | AU12: =LEN(A12) -> 0 | AV12: =LEN(B12) -> 4 | AW12: =LEN(C12) -> 10 | AX12: =LEN(D12) -> 23 | AY12: =LEN(E12) -> 6 | AZ12: =LEN(F12) -> 7 | BA12: =LEN(G12) -> 14 | BB12: =LEN(H12) -> 3 | ... CM12: =LEN(AS12) -> 64 | CN12: =SUM(AU12:CM12) -> 401
B13: PA-5 | C13: JRA0000037 | D13: Balti laevaremonditehas | E13: 537407 | F13: 6591584 | G13: 78408:808:0260 | H13: 2.95 | K13: 4.5 | L13: 2.8 | M13: =H13-L13 -> 0.15 | N13: 36845 | P13: Täitepinnas: muld, liiv, saviliiv, lubjakivi lahmakad, ehituspraht tihenenud. Alates sügavusest 2,80 m maapinnast veeküllastunud | Q13: 4 | R13: Liivsavi (sinisavi): sinakashall, kõva | AI13: BLRT Grupp Aktsiaselts | AJ13: 10068499 | AK13: 53229922 Olga Korobtsova; o.korobtsova@blrt.ee; 6102408; blrt@blrt.ee | AM13: Harju | AN13: Tallinn | AO13: =algandmed!AP13 -> VPA on hävinud. | AP13: =algandmed!AQ13 -> - | AQ13: =algandmed!AR13 -> - | AR13: =algandmed!AS13 -> - | AS13: Kopli ps Kopli lahe äärse maa-ala reostusuuringud II, Maves 2124 | AU13: =LEN(A13) -> 0 | AV13: =LEN(B13) -> 4 | AW13: =LEN(C13) -> 10 | AX13: =LEN(D13) -> 23 | AY13: =LEN(E13) -> 6 | AZ13: =LEN(F13) -> 7 | BA13: =LEN(G13) -> 14 | BB13: =LEN(H13) -> 4 | ... CM13: =LEN(AS13) -> 64 | CN13: =SUM(AU13:CM13) -> 443
B14: PA-6 | C14: JRA0000037 | D14: Balti laevaremonditehas | E14: 537467 | F14: 6591651 | G14: 78408:808:0260 | H14: 3.2 | K14: 3 | L14: 1.9 | M14: =H14-L14 -> 1.3 | N14: 36845 | P14: Täitepinnas: muld, liiv, lubjakivi lahmakad, ehituspraht tihenenud | Q14: 1.5 | R14: Saviliiv: pruunikashall, pehmeplastne | S14: 2.7 | T14: Liivsavi (sinisavi): sinakashall, kõva | AI14: BLRT Grupp Aktsiaselts | AJ14: 10068499 | AK14: 53229922 Olga Korobtsova; o.korobtsova@blrt.ee; 6102408; blrt@blrt.ee | AM14: Harju | AN14: Tallinn | AO14: =algandmed!AP14 -> VPA on hävinud. | AP14: =algandmed!AQ14 -> - | AQ14: =algandmed!AR14 -> - | AR14: =algandmed!AS14 -> - | AS14: Kopli ps Kopli lahe äärse maa-ala reostusuuringud II, Maves 2125 | AU14: =LEN(A14) -> 0 | AV14: =LEN(B14) -> 4 | AW14: =LEN(C14) -> 10 | AX14: =LEN(D14) -> 23 | AY14: =LEN(E14) -> 6 | AZ14: =LEN(F14) -> 7 | BA14: =LEN(G14) -> 14 | BB14: =LEN(H14) -> 3 | ... CM14: =LEN(AS14) -> 64 | CN14: =SUM(AU14:CM14) -> 419
B15: PA-7 | C15: JRA0000037 | D15: Balti laevaremonditehas | E15: 537280 | F15: 6591583 | G15: 78408:808:0260 | H15: 3.25 | K15: 4.6 | L15: 3.3 | M15: =H15-L15 -> -0.05 | N15: 36845 | P15: Täitepinnas: liiv, killustik, muld, lubjakivi lahmakad, tihenenud | Q15: 0.5 | R15: Täitepinnas: peenliiv kollakaspruun, tihenenud, niiske | S15: 2.5 | T15: Täitepinnas: liiv, lubjakivi tükid, saviliiv. Alates süg. 3,30m maapinnast veeküllastunud | AI15: BLRT Grupp Aktsiaselts | AJ15: 10068499 | AK15: 53229922 Olga Korobtsova; o.korobtsova@blrt.ee; 6102408; blrt@blrt.ee | AM15: Harju | AN15: Tallinn | AO15: =algandmed!AP15 -> VPA on hävinud. | AP15: =algandmed!AQ15 -> - | AQ15: =algandmed!AR15 -> - | AR15: =algandmed!AS15 -> - | AS15: Kopli ps Kopli lahe äärse maa-ala reostusuuringud II, Maves 2126 | AU15: =LEN(A15) -> 0 | AV15: =LEN(B15) -> 4 | AW15: =LEN(C15) -> 10 | AX15: =LEN(D15) -> 23 | AY15: =LEN(E15) -> 6 | AZ15: =LEN(F15) -> 7 | BA15: =LEN(G15) -> 14 | BB15: =LEN(H15) -> 4 | ... CM15: =LEN(AS15) -> 64 | CN15: =SUM(AU15:CM15) -> 505
B16: PA-8 | C16: JRA0000037 | D16: Balti laevaremonditehas | E16: 537114 | F16: 6591683 | G16: 78408:808:0260 | H16: 3.3 | K16: 4.5 | L16: 3.4 | M16: =H16-L16 -> -0.1 | N16: 36844 | P16: Täitepinnas: killustik, liiv, muld, lubjakivi lahmakad, tihenenud | Q16: 0.6 | R16: Täitepinnas: peenliiv kollakaspruun, tihenenud, niiske. | S16: 2.4 | T16: Tolmliiv: kollakashall, kesktihe, niiske. Alates süg. 3,40m maapinnast veeküllastunud | AI16: BLRT Grupp Aktsiaselts | AJ16: 10068499 | AK16: 53229922 Olga Korobtsova; o.korobtsova@blrt.ee; 6102408; blrt@blrt.ee | AM16: Harju | AN16: Tallinn | AO16: =algandmed!AP16 -> VPA on hävinud. | AP16: =algandmed!AQ16 -> - | AQ16: =algandmed!AR16 -> - | AR16: =algandmed!AS16 -> - | AS16: Kopli ps Kopli lahe äärse maa-ala reostusuuringud II, Maves 2127 | AU16: =LEN(A16) -> 0 | AV16: =LEN(B16) -> 4 | AW16: =LEN(C16) -> 10 | AX16: =LEN(D16) -> 23 | AY16: =LEN(E16) -> 6 | AZ16: =LEN(F16) -> 7 | BA16: =LEN(G16) -> 14 | BB16: =LEN(H16) -> 3 | ... CM16: =LEN(AS16) -> 64 | CN16: =SUM(AU16:CM16) -> 486
B17: PA-9 | C17: JRA0000037 | D17: Balti laevaremonditehas | E17: 537063 | F17: 6591718 | G17: 78408:808:0260 | H17: 3.35 | K17: 4.6 | L17: 3.3 | M17: =H17-L17 -> 0.05 | N17: 36844 | P17: Täitepinnas: killustik, liiv, tihenenud | Q17: 0.6 | R17: Täitepinnas: peenliiv kollakaspruun, sis. veeriseid, tihenenud, niiske | S17: 2 | T17: Täitepinnas: liiv, lubjakivi tükid, saviliiv. Alates süg. 3,50m maapinnast veeküllastunud | AI17: BLRT Grupp Aktsiaselts | AJ17: 10068499 | AK17: 53229922 Olga Korobtsova; o.korobtsova@blrt.ee; 6102408; blrt@blrt.ee | AM17: Harju | AN17: Tallinn | AO17: =algandmed!AP17 -> VPA on hävinud. | AP17: =algandmed!AQ17 -> - | AQ17: =algandmed!AR17 -> - | AR17: =algandmed!AS17 -> - | AS17: Kopli ps Kopli lahe äärse maa-ala reostusuuringud II, Maves 2128 | AU17: =LEN(A17) -> 0 | AV17: =LEN(B17) -> 4 | AW17: =LEN(C17) -> 10 | AX17: =LEN(D17) -> 23 | AY17: =LEN(E17) -> 6 | AZ17: =LEN(F17) -> 7 | BA17: =LEN(G17) -> 14 | BB17: =LEN(H17) -> 4 | ... CM17: =LEN(AS17) -> 64 | CN17: =SUM(AU17:CM17) -> 492
B18: PA-10 | C18: JRA0000037 | D18: Balti laevaremonditehas | E18: 537026 | F18: 6591740 | G18: 78408:808:0260 | H18: 3.35 | K18: 3.5 | L18: 3.4 | M18: =H18-L18 -> -0.05 | N18: 36844 | P18: Täitepinnas: liiv, muld, killustik, lubjakivi lahmakad, tihenenud. Alates süg. 3,40 m maapinnast veeküllastunud | AI18: BLRT Grupp Aktsiaselts | AJ18: 10068499 | AK18: 53229922 Olga Korobtsova; o.korobtsova@blrt.ee; 6102408; blrt@blrt.ee | AM18: Harju | AN18: Tallinn | AO18: =algandmed!AP18 -> VPA on hävinud. | AP18: =algandmed!AQ18 -> - | AQ18: =algandmed!AR18 -> - | AR18: =algandmed!AS18 -> - | AS18: Kopli ps Kopli lahe äärse maa-ala reostusuuringud II, Maves 2129 | AU18: =LEN(A18) -> 0 | AV18: =LEN(B18) -> 5 | AW18: =LEN(C18) -> 10 | AX18: =LEN(D18) -> 23 | AY18: =LEN(E18) -> 6 | AZ18: =LEN(F18) -> 7 | BA18: =LEN(G18) -> 14 | BB18: =LEN(H18) -> 4 | ... CM18: =LEN(AS18) -> 64 | CN18: =SUM(AU18:CM18) -> 403
B19: PA-11 | C19: JRA0000037 | D19: Balti laevaremonditehas | E19: 537038 | F19: 6591938 | G19: 78408:808:0260 | H19: 6 | K19: 4.7 | L19: 1.9 | M19: =H19-L19 -> 4.1 | N19: 36844 | P19: Täitepinnas: liiv, killustik, muld, lubjakivi lahmakad, tihenenud | Q19: 1 | R19: Täitepinnas: peenliiv hallikaspruun, tihenenud, niiske | S19: 2 | T19: Saviliivmoreen: sinakashall, sitkeplastne, sis. jämepurdu 20-30% | U19: 3.8 | V19: Liivsavi (sinisavi): sinakashall, kõva | AI19: BLRT Grupp Aktsiaselts | AJ19: 10068499 | AK19: 53229922 Olga Korobtsova; o.korobtsova@blrt.ee; 6102408; blrt@blrt.ee | AM19: Harju | AN19: Tallinn | AO19: =algandmed!AP19 -> VPA on hävinud. | AP19: =algandmed!AQ19 -> - | AQ19: =algandmed!AR19 -> - | AR19: =algandmed!AS19 -> - | AS19: Kopli ps Kopli lahe äärse maa-ala reostusuuringud II, Maves 2130 | AU19: =LEN(A19) -> 0 | AV19: =LEN(B19) -> 5 | AW19: =LEN(C19) -> 10 | AX19: =LEN(D19) -> 23 | AY19: =LEN(E19) -> 6 | AZ19: =LEN(F19) -> 7 | BA19: =LEN(G19) -> 14 | BB19: =LEN(H19) -> 1 | ... CM19: =LEN(AS19) -> 64 | CN19: =SUM(AU19:CM19) -> 499
B20: PA-12 | C20: JRA0000037 | D20: Balti laevaremonditehas | E20: 536941 | F20: 6591923 | G20: 78408:808:0260 | H20: 5.25 | K20: 4.6 | L20: 2.4 | M20: =H20-L20 -> 2.85 | N20: 36844 | P20: Täitepinnas: slakk, muld, liiv, lubjakivi tükid, tihenenud | Q20: 0.6 | R20: Tolmliiv kollakaspruun, kesktihe, niiske. Sisaldab saviliiva vahekihte | S20: 2 | T20: Saviliiv, kollakaspruun, pehmeplastne, sisaldab veeriseid | AI20: BLRT Grupp Aktsiaselts | AJ20: 10068499 | AK20: 53229922 Olga Korobtsova; o.korobtsova@blrt.ee; 6102408; blrt@blrt.ee | AM20: Harju | AN20: Tallinn | AO20: =algandmed!AP20 -> VPA on hävinud. | AP20: =algandmed!AQ20 -> - | AQ20: =algandmed!AR20 -> - | AR20: =algandmed!AS20 -> - | AS20: Kopli ps Kopli lahe äärse maa-ala reostusuuringud II, Maves 2131 | AU20: =LEN(A20) -> 0 | AV20: =LEN(B20) -> 5 | AW20: =LEN(C20) -> 10 | AX20: =LEN(D20) -> 23 | AY20: =LEN(E20) -> 6 | AZ20: =LEN(F20) -> 7 | BA20: =LEN(G20) -> 14 | BB20: =LEN(H20) -> 4 | ... CM20: =LEN(AS20) -> 64 | CN20: =SUM(AU20:CM20) -> 466
