Workbook

Sheet algandmed
A1: Kataster | B1: Uuringupunkti_nr | C1: JRO | D1: Uuringuala | E1: X lambert | F1: Y lambert | G1: Maaüksuse katastritunnus | H1: Suudme_(toru)_ABS | I1: Toru_üle_maapinna | J1: PA_sygavus_maapinnast | K1: PA_algne_sygavus_maapinnast | L1: Veetase_suudmest_(torust) | M1: Veetaseeme_ABS | N1: Veetaseme_kuupäev | O1: Algne_konstruktsioon | P1: KIHT1 | Q1: K2_ALG | R1: KIHT2 | S1: K3_ALG | T1: KIHT3 | U1: K4_ALG | V1: KIHT4 | W1: K5_ALG | X1: KIHT5 | Y1: K6_ALG | Z1: KIHT6 | AA1: K7_ALG | AB1: KIHT7 | AC1: K8_ALG | AD1: KIHT8 | AE1: K9_ALG | AF1: KIHT9 | AG1: K10_ALG | AH1: KIHT10 | AI1: Maaomanik | AJ1: Reg_nr_isikukood | AK1: Kontaktid | AL1: Maa_kasutaja | AM1: Maakond | AN1: Vald_linn | AO1: VPA_seisund | AP1: VPA_seisundi_kirjeldus | AQ1: Märkused | AR1: Proovivõtmise_tingimused | AS1: Ettepanekud | AT1: Esialgsed andmed_Töö_nimetus_nr
A2: 19845 | B2: PA-2434 | C2: JRA0000020 | D2: Ahtme mnt 86 ABT | E2: 695443.3 | F2: 6579869.4 | G2: 32206:002:0014 | H2: 70.08 | I2: 0.55 | J2: 18.04 | K2: 20.35 | L2: 12.83 | M2: =H2-L2 -> 57.25 | N2: 42843 | O2: Metall 108mm: +0,55-4,60m; 93mm F 4,60-20,35m | P2: Täitepinnas: killustik, ehituskivide tükid, tahkunud bituumeni vahekihid; ei haise naftasaaduste järgi; alates 1,1m muld, keskliija saviliiv; ei haise naftasaaduste järgi | Q2: 2.1 | R2: Turvas: pruun, halvasti lagunenud; ei haise naftasaaduste järgi | S2: 2.3 | T2: Kruusliiv: pruun, kesktihe, veeküllastunud; ei haise naftasaaduste järgi | U2: 2.6 | V2: Saviliivmoreen: kollakaspruun, sitke, sisaldab 10% jämepurdu; ei haise naftasaaduste järgi, alates 3,2m rohekashall; ei haise naftasaaduste järgi | W2: 4.1 | X2: Lubjakivi: hall, lõheline; lõhed 9,0; 11,5; 18 ja 20,3m (sügavusel 20,3m põlevkivi kiht) | AI2: Eesti Vabariik; AS Tref | AJ2: -; 10080052 | AK2: 5241515 Sergei Bogdanov; 7371700; moonika@tref.ee | AL2: AS Tref | AM2: Ida-Viru | AN2: Kohtla-Järve linn | AO2: Korras | AP2: VPA on terve. Avamiseks 6-kantvõti 8. Veepinnal naftasaaduste kihti pole. Algne sügavus oli oli 20,35m. | AQ2: Proov võeti baileriga. Vesi taastus aeglaselt. | AR2: Proovi võtmisel 28.08.2017 pumbaga MP-1 oli vett VPA-s 40l, pumba sügavus 17,2m manteltoru otsast. Pumbates 200Hz alanes veetase 4 minutiga pumbani, rohke sete ummistas pumba. Proov võeti baileriga pärast 1-kordse veekoguse väljapumpamist. | AS2: Jätkata seiret. | AT2: Jääkreostuse likvideerimise projekti ettevalmistus endistel militaar- ja industriaalaladel, Maves nr-5168
A3: 19846 | B3: PA-2435 | C3: JRA0000020 | D3: Ahtme mnt 86 ABT | E3: 695275.1 | F3: 6579913.3 | G3: 32206:002:0002 | H3: 71.3 | I3: 0.54 | J3: 19.2 | K3: 19.7 | L3: 15.29 | M3: =H3-L3 -> 56.01 | N3: 42843 | O3: Metall 108mm: +0,50-4,30m; 93mm: F 4,30-19,70m | P3: Täitepinnas: muld, liiv; ei haise naftasaaduste järgi | Q3: 0.8 | R3: Täitepinnas: liiv, reostunud õline kiht, haiseb põlevkiviõli järgi | S3: 0.9 | T3: Muld: ei haise naftasaaduste järgi | U3: 1 | V3: Liiv: vaheldumisi tolmliiva ja peenliiva kihid, kollakaspruun, kesktihe, veeküllastunud; ei haise naftasaaduste järgi | W3: 1.4 | X3: Saviliivmoreen: pruunikashall, sitke, sisaldab 10% jämepurdu; ei haise naftasaaduste järgi, alates 2,0m rohekashall, alates 2,5m sinakashall | Y3: 4 | Z3: Lubjakivi: hall, lõheline, mõnevõrra savikas; lõhed 17,3 ja 18,0m (sügavusel 17,3m põlevkivi kiht) | AI3: Eesti Vabariik; Eesti Energia Kaevandused AS | AJ3: -; 10032389 | AK3: -; kaevandused@energia.ee | AL3: AS Tref | AM3: Ida-Viru | AN3: Kohtla-Järve linn | AO3: Korras | AP3: VPA on terve. Avamiseks 6-kantvõti 8. Veepinnal naftasaaduste kihti pole. Algne sügavus oli oli 19,7m. | AQ3: Proov võeti baileriga. Vesi taastus aeglaselt. | AR3: Proovi võtmisel 28.08.2017 pumbaga MP-1 oli vett VPA-s 30l, pumba sügavus 19m manteltoru otsast. Pumbates 250Hz alanes veetase 3 minutiga pumbani, rohke sete ummistas pumba. Proov võeti baileriga pärast 1-kordse veekoguse väljapumpamist. | AS3: Jätkata seiret. | AT3: Jääkreostuse likvideerimise projekti ettevalmistus endistel militaar- ja industriaalaladel, Maves nr-5168
B4: VPA-3 | C4: JRA0000020 | D4: Ahtme mnt 86 ABT | E4: 695332.66 | F4: 6579958.8 | G4: 32206:002:0015 | H4: 71.24 | I4: 0.83 | J4: 5.25 | K4: 5.25 | L4: 1.06 | M4: =H4-L4 -> 70.18 | N4: 42843 | O4: Metall 114mm: +0,75-0,75m; HDPE: 90mm: +0,75-5,25m; F 0,75-5,25m | P4: Täitepinnas | Q4: 0.3 | R4: Muld ja turvas | S4: 0.9 | T4: Saviliivmoreen | U4: 4.1 | V4: Lubjakivi | AI4: Eesti Vabariik | AJ4: - | AM4: Ida-Viru | AN4: Kohtla-Järve linn | AO4: Korras | AP4: VPA on terve. Avamiseks 6-kantvõti 8. Veepinnal paks naftasaaduste kiht (fenool). Sügavusel 5,57-6,06m (toru otsast) paks õli. | AQ4: Proovi ei võeta, kuna see iseloomustab vaid naftasaaduste lahustuvust vees. | AR4: - | AS4: Tühjendada VPA naftasaadustest (vajadusel korduvalt) ja jätkata seiret. | AT4: Seirepuuraugu projekt No JR24 (VPA-3), Maves nr-11101
B5: VPA-4 | C5: JRA0000020 | D5: Ahtme mnt 86 ABT | E5: 695303.18 | F5: 6579828.4 | G5: 32206:002:0014 | H5: 71.32 | I5: 0.69 | J5: 5.22 | K5: 5.35 | L5: 1.08 | M5: =H5-L5 -> 70.24 | N5: 42843 | O5: Metall 114mm: +0,65-0,85m; HDPE: 90mm: +0,65-5,35m; F 0,65-5,35m | P5: Täitepinnas | Q5: 0.5 | R5: Muld | S5: 0.8 | T5: Saviliivmoreen | U5: 3.6 | V5: Lubjakivi | AI5: Eesti Vabariik; AS Tref | AJ5: -; 10080052 | AK5: 5241515 Sergei Bogdanov; 7371700; moonika@tref.ee | AL5: AS Tref | AM5: Ida-Viru | AN5: Kohtla-Järve linn | AO5: Korras | AP5: VPA on terve. Avamiseks 6-kantvõti 8. Plasttoru 1,5cm metalltorust madalamal. Veepinnal naftasaaduste kihti pole. Algne sügavus oli oli 5,35m. | AQ5: Proov võeti baileriga | AR5: Proovi võtmiseks 28.08.2017 pumbaga MP-1 oli vähe vett. Veetase alanes pumbani 6 minutiga. Proov võeti baileriga pärast VPA 1-kordset tühjendamist. Vee juurdevool VPA-sse on vähene. | AS5: Jätkata seiret. | AT5: Seirepuuraugu projekt No JR24 (VPA-4 ja VPA-5), Maves nr-11101
B6: VPA-5 | C6: JRA0000020 | D6: Ahtme mnt 86 ABT | E6: 695368.67 | F6: 6579821.8 | G6: 32206:002:0014 | H6: 71.69 | I6: 0.76 | J6: 5.35 | K6: 5.35 | L6: 3.62 | M6: =H6-L6 -> 68.07 | N6: 42843 | O6: Metall 114mm: +0,7-0,8m; HDPE: 90mm: +0,7-5,35m; F 0,8-5,35m | P6: Täitepinnas | Q6: 1.2 | R6: Liiv | S6: 2 | T6: Saviliiv | U6: 2.9 | V6: Saviliivmoreen | W6: 4.9 | X6: Lubjakivi | AI6: Eesti Vabariik; AS Tref | AJ6: -; 10080052 | AK6: 5241515 Sergei Bogdanov; 7371700; moonika@tref.ee | AL6: AS Tref | AM6: Ida-Viru | AN6: Kohtla-Järve linn | AO6: Korras | AP6: VPA on terve. Avamiseks 6-kantvõti 8. Plasttoru 2cm metalltorust madalamal. Veepinnal naftasaaduste kihti pole. | AQ6: Proov võeti baileriga | AR6: Proovi võtmiseks 28.08.2017 pumbaga MP-1 oli vähe vett. Veetase alanes pumbani 5 minutiga. Vee juurdevool VPA-sse on vähene. Proov võeti baileriga pärast VPA 1-kordset tühjendamist. | AS6: Jätkata seiret. | AT6: Seirepuuraugu projekt No JR24 (VPA-4 ja VPA-5), Maves nr-11101
A7: 19847 | B7: PA-2520 | C7: JRA0000078 | D7: Ahtme mnt 88 ABT | E7: 695071.03 | F7: 6579831 | G7: 32206:002:0015 | H7: 72.26 | I7: 0.63 | J7: 11.35 | K7: 11.35 | L7: 6.88 | M7: =H7-L7 -> 65.38 | N7: 42843 | O7: Metall 108mm: +0,6-4,2m; 93mm F 4,2-11,35m | P7: Täitepinnas: ehituskivide tükid, saviliiv, kruus; ei haise naftasaaduste järgi | Q7: 0.9 | R7: Muld: ei haise naftasaaduste järgi | S7: 1.2 | T7: Turvas: pruun, keskmiselt lagunenud; ei haise naftasaaduste järgi | U7: 1.5 | V7: Peenliiv: pruunikashall, kesktihe, veeküllastunud; ei haise naftasaaduste järgi | W7: 1.7 | X7: Saviliiv: kollakashall, sitke; ei haise naftasaaduste järgi | Y7: 2 | Z7: Kruus: pruunikashall, kesktihe, veeküllastunud; ei haise naftasaaduste järgi | AA7: 2.2 | AB7: Saviliivmoreen: kollakashall, sitke, sisaldab 10% jämepurdu; ei haise naftasaaduste järgi, alates 2,6 m rohekashall | AC7: 3.7 | AD7: Lubjakivi: hall, lõheline | AI7: Eesti Vabariik | AJ7: - | AM7: Ida-Viru | AN7: Kohtla-Järve linn | AO7: Korras | AP7: VPA on terve. Avamiseks 6-kantvõti 8. Veepinnal naftasaaduste kihti pole. | AQ7: Proov võeti baileriga | AR7: Proovi võtmisel 28.08.2017 pumbaga MP-1 oli vett vaid 0,42m. Pump vett üles ei toonud. Proov võeti baileriga pärast VPA 1-kordset tühjendamist. Vesi oli savine | AS7: Jätkata seiret. | AT7: Jääkreostuse likvideerimise projekti ettevalmistus endistel militaar- ja industriaalaladel, Maves nr-5168
A8: 19848 | B8: PA-2521 | C8: JRA0000078 | D8: Ahtme mnt 88 ABT | E8: 694956.1 | F8: 6579882.2 | G8: 32206:002:0001 | H8: 72.55 | I8: 0.55 | K8: 11.3 | L8: =I8+8.45 -> 9 | M8: =H8-L8 -> 63.55 | N8: 38848 | O8: Metall 108mm: +0,55-5,45m; 93mm F 5,45-11,3m | P8: Täitepinnas: ehituskivide tükid, killustik, liiv; ei haise naftasaaduste järgi | Q8: 0.6 | R8: Muld: ei haise naftasaaduste järgi | S8: 0.7 | T8: Peenliiv: pruun, kesktihe, veeküllastunud; haiseb naftasaaduste järgi | U8: 1.4 | V8: Saviliivmoreen: rohekashall, sitke, sisaldab 15% jämepurdu; haiseb naftasaaduste järgi | W8: 1.7 | X8: Saviliivmoreen: rohekashall, sitke, sisaldab 15% jämepurdu; ei haise naftasaaduste järgi | Y8: 4.9 | Z8: Lubjakivi: üksikud lõheds, vesi ilmus alates lõhest sügavusest 8,7m | AI8: OÜ Coniery | AJ8: 10401763 | AK8: 5063534; 3361303, 3361459; coniery@hot.ee | AL8: OÜ Coniery | AM8: Ida-Viru | AN8: Kohtla-Järve linn | AO8: Hävinud/likvideeritud | AP8: VPA on hävinud. | AQ8: - | AR8: - | AS8: - | AT8: Jääkreostuse likvideerimise projekti ettevalmistus endistel militaar- ja industriaalaladel, Maves nr-5168
B9: PA-1 | C9: JRA0000037 | D9: Balti laevaremonditehas | E9: 537534 | F9: 6591493 | G9: 78408:806:0100 | H9: 3.35 | K9: 4.8 | L9: 3.45 | M9: =H9-L9 -> -0.1 | N9: 36845 | P9: Täitepinnas: muld, liiv, lubjakivi lahmakad, ehituspraht tihenenud. Alates sügavusest 3,45 maapinnast veeküllastunud | AI9: MaCat Investment OÜ | AJ9: 12198214 | AK9: 5052017 Margus Salu; 6092800; 5105905; sergei@dekoil.ee | AM9: Harju | AN9: Tallinn | AO9: Hävinud/likvideeritud | AP9: VPA on hävinud. | AQ9: - | AR9: - | AS9: - | AT9: Kopli ps Kopli lahe äärse maa-ala reostusuuringud II, Maves 2120
B10: PA-2 | C10: JRA0000037 | D10: Balti laevaremonditehas | E10: 537497 | F10: 6591532 | G10: 78408:806:0100 | H10: 3.25 | K10: 4.3 | L10: 3.2 | M10: =H10-L10 -> 0.05 | N10: 36845 | P10: Täitepinnas: muld, liiv, lubjakivi lahmakad, ehituspraht tihenenud. Alates sügavusest 3,20 maapinnast veeküllastunud | Q10: 3.8 | R10: Liivsavi (sinisavi): sinakashall, kõva | AI10: MaCat Investment OÜ | AJ10: 12198214 | AK10: 5052017 Margus Salu; 6092800; 5105905; sergei@dekoil.ee | AM10: Harju | AN10: Tallinn | AO10: Hävinud/likvideeritud | AP10: VPA on hävinud. | AQ10: - | AR10: - | AS10: - | AT10: Kopli ps Kopli lahe äärse maa-ala reostusuuringud II, Maves 2121
B11: PA-3 | C11: JRA0000037 | D11: Balti laevaremonditehas | E11: 537282 | F11: 6591688 | G11: 78408:808:0260 | H11: 3.15 | K11: 4.6 | L11: 2.9 | M11: =H11-L11 -> 0.25 | N11: 36845 | P11: Killustik | Q11: 0.6 | R11: Täitepinnas: saviliiv, liiv, lubjakivi lahmakad, slakk, ehituspraht tihenenud. Alates sügavusest 2,90 m maapinnast veeküllastunud | S11: 4 | T11: Liivsavi: sinakashall, kõva, sisaldab liivakivi mügi | AI11: BLRT Grupp Aktsiaselts | AJ11: 10068499 | AK11: 53229922 Olga Korobtsova; o.korobtsova@blrt.ee; 6102408; blrt@blrt.ee | AM11: Harju | AN11: Tallinn | AO11: Hävinud/likvideeritud | AP11: VPA on hävinud. | AQ11: - | AR11: - | AS11: - | AT11: Kopli ps Kopli lahe äärse maa-ala reostusuuringud II, Maves 2122
B12: PA-4 | C12: JRA0000037 | D12: Balti laevaremonditehas | E12: 537456 | F12: 6591468 | G12: 78408:808:0260 | H12: 2.8 | K12: 4 | L12: 2.85 | M12: =H12-L12 -> -0.05 | N12: 36845 | P12: Täitepinnas: lubjakivi lahmakad, liiv, ehituspraht tihenenud. Alates sügavusest 2,85 m maapinnast veeküllastunud | AI12: BLRT Grupp Aktsiaselts | AJ12: 10068499 | AK12: 53229922 Olga Korobtsova; o.korobtsova@blrt.ee; 6102408; blrt@blrt.ee | AM12: Harju | AN12: Tallinn | AO12: Hävinud/likvideeritud | AP12: VPA on hävinud. | AQ12: - | AR12: - | AS12: - | AT12: Kopli ps Kopli lahe äärse maa-ala reostusuuringud II, Maves 2123
B13: PA-5 | C13: JRA0000037 | D13: Balti laevaremonditehas | E13: 537407 | F13: 6591584 | G13: 78408:808:0260 | H13: 2.95 | K13: 4.5 | L13: 2.8 | M13: =H13-L13 -> 0.15 | N13: 36845 | P13: Täitepinnas: muld, liiv, saviliiv, lubjakivi lahmakad, ehituspraht tihenenud. Alates sügavusest 2,80 m maapinnast veeküllastunud | Q13: 4 | R13: Liivsavi (sinisavi): sinakashall, kõva | AI13: BLRT Grupp Aktsiaselts | AJ13: 10068499 | AK13: 53229922 Olga Korobtsova; o.korobtsova@blrt.ee; 6102408; blrt@blrt.ee | AM13: Harju | AN13: Tallinn | AO13: Hävinud/likvideeritud | AP13: VPA on hävinud. | AQ13: - | AR13: - | AS13: - | AT13: Kopli ps Kopli lahe äärse maa-ala reostusuuringud II, Maves 2124
B14: PA-6 | C14: JRA0000037 | D14: Balti laevaremonditehas | E14: 537467 | F14: 6591651 | G14: 78408:808:0260 | H14: 3.2 | K14: 3 | L14: 1.9 | M14: =H14-L14 -> 1.3 | N14: 36845 | P14: Täitepinnas: muld, liiv, lubjakivi lahmakad, ehituspraht tihenenud | Q14: 1.5 | R14: Saviliiv: pruunikashall, pehmeplastne | S14: 2.7 | T14: Liivsavi (sinisavi): sinakashall, kõva | AI14: BLRT Grupp Aktsiaselts | AJ14: 10068499 | AK14: 53229922 Olga Korobtsova; o.korobtsova@blrt.ee; 6102408; blrt@blrt.ee | AM14: Harju | AN14: Tallinn | AO14: Hävinud/likvideeritud | AP14: VPA on hävinud. | AQ14: - | AR14: - | AS14: - | AT14: Kopli ps Kopli lahe äärse maa-ala reostusuuringud II, Maves 2125
B15: PA-7 | C15: JRA0000037 | D15: Balti laevaremonditehas | E15: 537280 | F15: 6591583 | G15: 78408:808:0260 | H15: 3.25 | K15: 4.6 | L15: 3.3 | M15: =H15-L15 -> -0.05 | N15: 36845 | P15: Täitepinnas: liiv, killustik, muld, lubjakivi lahmakad, tihenenud | Q15: 0.5 | R15: Täitepinnas: peenliiv kollakaspruun, tihenenud, niiske | S15: 2.5 | T15: Täitepinnas: liiv, lubjakivi tükid, saviliiv. Alates süg. 3,30m maapinnast veeküllastunud | AI15: BLRT Grupp Aktsiaselts | AJ15: 10068499 | AK15: 53229922 Olga Korobtsova; o.korobtsova@blrt.ee; 6102408; blrt@blrt.ee | AM15: Harju | AN15: Tallinn | AO15: Hävinud/likvideeritud | AP15: VPA on hävinud. | AQ15: - | AR15: - | AS15: - | AT15: Kopli ps Kopli lahe äärse maa-ala reostusuuringud II, Maves 2126
B16: PA-8 | C16: JRA0000037 | D16: Balti laevaremonditehas | E16: 537114 | F16: 6591683 | G16: 78408:808:0260 | H16: 3.3 | K16: 4.5 | L16: 3.4 | M16: =H16-L16 -> -0.1 | N16: 36844 | P16: Täitepinnas: killustik, liiv, muld, lubjakivi lahmakad, tihenenud | Q16: 0.6 | R16: Täitepinnas: peenliiv kollakaspruun, tihenenud, niiske. | S16: 2.4 | T16: Tolmliiv: kollakashall, kesktihe, niiske. Alates süg. 3,40m maapinnast veeküllastunud | AI16: BLRT Grupp Aktsiaselts | AJ16: 10068499 | AK16: 53229922 Olga Korobtsova; o.korobtsova@blrt.ee; 6102408; blrt@blrt.ee | AM16: Harju | AN16: Tallinn | AO16: Hävinud/likvideeritud | AP16: VPA on hävinud. | AQ16: - | AR16: - | AS16: - | AT16: Kopli ps Kopli lahe äärse maa-ala reostusuuringud II, Maves 2127
B17: PA-9 | C17: JRA0000037 | D17: Balti laevaremonditehas | E17: 537063 | F17: 6591718 | G17: 78408:808:0260 | H17: 3.35 | K17: 4.6 | L17: 3.3 | M17: =H17-L17 -> 0.05 | N17: 36844 | P17: Täitepinnas: killustik, liiv, tihenenud | Q17: 0.6 | R17: Täitepinnas: peenliiv kollakaspruun, sis. veeriseid, tihenenud, niiske | S17: 2 | T17: Täitepinnas: liiv, lubjakivi tükid, saviliiv. Alates süg. 3,50m maapinnast veeküllastunud | AI17: BLRT Grupp Aktsiaselts | AJ17: 10068499 | AK17: 53229922 Olga Korobtsova; o.korobtsova@blrt.ee; 6102408; blrt@blrt.ee | AM17: Harju | AN17: Tallinn | AO17: Hävinud/likvideeritud | AP17: VPA on hävinud. | AQ17: - | AR17: - | AS17: - | AT17: Kopli ps Kopli lahe äärse maa-ala reostusuuringud II, Maves 2128
B18: PA-10 | C18: JRA0000037 | D18: Balti laevaremonditehas | E18: 537026 | F18: 6591740 | G18: 78408:808:0260 | H18: 3.35 | K18: 3.5 | L18: 3.4 | M18: =H18-L18 -> -0.05 | N18: 36844 | P18: Täitepinnas: liiv, muld, killustik, lubjakivi lahmakad, tihenenud. Alates süg. 3,40 m maapinnast veeküllastunud | AI18: BLRT Grupp Aktsiaselts | AJ18: 10068499 | AK18: 53229922 Olga Korobtsova; o.korobtsova@blrt.ee; 6102408; blrt@blrt.ee | AM18: Harju | AN18: Tallinn | AO18: Hävinud/likvideeritud | AP18: VPA on hävinud. | AQ18: - | AR18: - | AS18: - | AT18: Kopli ps Kopli lahe äärse maa-ala reostusuuringud II, Maves 2129
B19: PA-11 | C19: JRA0000037 | D19: Balti laevaremonditehas | E19: 537038 | F19: 6591938 | G19: 78408:808:0260 | H19: 6 | K19: 4.7 | L19: 1.9 | M19: =H19-L19 -> 4.1 | N19: 36844 | P19: Täitepinnas: liiv, killustik, muld, lubjakivi lahmakad, tihenenud | Q19: 1 | R19: Täitepinnas: peenliiv hallikaspruun, tihenenud, niiske | S19: 2 | T19: Saviliivmoreen: sinakashall, sitkeplastne, sis. jämepurdu 20-30% | U19: 3.8 | V19: Liivsavi (sinisavi): sinakashall, kõva | AI19: BLRT Grupp Aktsiaselts | AJ19: 10068499 | AK19: 53229922 Olga Korobtsova; o.korobtsova@blrt.ee; 6102408; blrt@blrt.ee | AM19: Harju | AN19: Tallinn | AO19: Hävinud/likvideeritud | AP19: VPA on hävinud. | AQ19: - | AR19: - | AS19: - | AT19: Kopli ps Kopli lahe äärse maa-ala reostusuuringud II, Maves 2130
B20: PA-12 | C20: JRA0000037 | D20: Balti laevaremonditehas | E20: 536941 | F20: 6591923 | G20: 78408:808:0260 | H20: 5.25 | K20: 4.6 | L20: 2.4 | M20: =H20-L20 -> 2.85 | N20: 36844 | P20: Täitepinnas: slakk, muld, liiv, lubjakivi tükid, tihenenud | Q20: 0.6 | R20: Tolmliiv kollakaspruun, kesktihe, niiske. Sisaldab saviliiva vahekihte | S20: 2 | T20: Saviliiv, kollakaspruun, pehmeplastne, sisaldab veeriseid | AI20: BLRT Grupp Aktsiaselts | AJ20: 10068499 | AK20: 53229922 Olga Korobtsova; o.korobtsova@blrt.ee; 6102408; blrt@blrt.ee | AM20: Harju | AN20: Tallinn | AO20: Hävinud/likvideeritud | AP20: VPA on hävinud. | AQ20: - | AR20: - | AS20: - | AT20: Kopli ps Kopli lahe äärse maa-ala reostusuuringud II, Maves 2131
B21: PA-13 | C21: JRA0000037 | D21: Balti laevaremonditehas | E21: 536847 | F21: 6591875 | G21: 78408:808:0260 | H21: 3.55 | K21: 4.5 | L21: 3.3 | M21: =H21-L21 -> 0.25 | N21: 36843 | P21: Asfalt | Q21: 0.1 | R21: Killustik | S21: 0.5 | T21: Täitepinnas: liiv, lubjakivi lahmakad, betoon, tihenenud | U21: 1.4 | V21: Täitepinnas: liiv, kruus, lubjakivitükid. Alates süg. 3,30 m veeküllastunud | AI21: BLRT Grupp Aktsiaselts | AJ21: 10068499 | AK21: 53229922 Olga Korobtsova; o.korobtsova@blrt.ee; 6102408; blrt@blrt.ee | AM21: Harju | AN21: Tallinn | AO21: Hävinud/likvideeritud | AP21: VPA on hävinud. | AQ21: - | AR21: - | AS21: - | AT21: Kopli ps Kopli lahe äärse maa-ala reostusuuringud II, Maves 2132
B22: PA-14 | C22: JRA0000037 | D22: Balti laevaremonditehas | E22: 536965 | F22: 6592085 | G22: 78408:808:0260 | H22: 5.05 | K22: 3.5 | L22: - | N22: 36843 | P22: Täitepinnas: liiv, killustik, muld, tihenenud | Q22: 0.5 | R22: Peenliiv: pruunikashall, kesktihe, niiske | S22: 1.8 | T22: Täitepinnas: liiv, lubjakivi tükid, saviliiv | U22: 2.8 | V22: Saviliivmoreen: hall, pehme- või sitkeplastne, sis. jämepurdu 20% | W22: 3.2 | X22: Liivsavi (sinisavi): sinakashall, kõva | AI22: BLRT Grupp Aktsiaselts | AJ22: 10068499 | AK22: 53229922 Olga Korobtsova; o.korobtsova@blrt.ee; 6102408; blrt@blrt.ee | AM22: Harju | AN22: Tallinn | AO22: Hävinud/likvideeritud | AP22: VPA on hävinud. | AQ22: - | AR22: - | AS22: - | AT22: Kopli ps Kopli lahe äärse maa-ala reostusuuringud II, Maves 2133
B23: PA-15 | C23: JRA0000037 | D23: Balti laevaremonditehas | E23: 536734 | F23: 6592209 | G23: 78408:808:0260 | H23: 3.85 | K23: 4.6 | L23: 2.4 | M23: =H23-L23 -> 1.45 | N23: 36843 | P23: Täitepinnas: liiv, killustik, muld, lubjakivi lahmakad, tihenenud | Q23: 0.5 | R23: Täitepinnas: peenliiv kollakaspruun, tihenenud, niiske | S23: 2.5 | T23: Täitepinnas: liiv, lubjakivi tükid, saviliiv, veeküllastunud | AI23: BLRT Grupp Aktsiaselts | AJ23: 10068499 | AK23: 53229922 Olga Korobtsova; o.korobtsova@blrt.ee; 6102408; blrt@blrt.ee | AM23: Harju | AN23: Tallinn | AO23: Hävinud/likvideeritud | AP23: VPA on hävinud. | AQ23: - | AR23: - | AS23: - | AT23: Kopli ps Kopli lahe äärse maa-ala reostusuuringud II, Maves 2134
B24: PA-16 | C24: JRA0000037 | D24: Balti laevaremonditehas | E24: 536705 | F24: 6592228 | G24: 78408:808:0260 | H24: 4 | K24: 4.8 | L24: 3.6 | M24: =H24-L24 -> 0.4 | N24: 36843 | P24: Muld | Q24: 0.1 | R24: Killustik | S24: 0.4 | T24: Betoon | U24: 0.6 | V24: Täitepinnas: saviliiv, liiv, veerised. Alates süg. 3,60 m maapinnast veeküllastunud | W24: 4 | AI24: BLRT Grupp Aktsiaselts | AJ24: 10068499 | AK24: 53229922 Olga Korobtsova; o.korobtsova@blrt.ee; 6102408; blrt@blrt.ee | AM24: Harju | AN24: Tallinn | AO24: Hävinud/likvideeritud | AP24: VPA on hävinud. | AQ24: - | AR24: - | AS24: - | AT24: Kopli ps Kopli lahe äärse maa-ala reostusuuringud II, Maves 2135
B25: PA-17 | C25: JRA0000037 | D25: Balti laevaremonditehas | E25: 536826 | F25: 6592184 | G25: 78408:808:0260 | H25: 3.5 | K25: 4.2 | L25: 1.9 | M25: =H25-L25 -> 1.6 | N25: 36843 | P25: Asfalt | Q25: 0.1 | R25: Killustik | S25: 0.4 | T25: Täitepinnas: liiv, killustik, muld | U25: 1 | V25: Täitepinnas: peenliiv tumepruun, tihenenud, alates süg. 1,90 m veeküllastunud | W25: 3.8 | X25: Tolmliiv: hall, kesktihe, veeküllastunud, sisaldab orgaanikat | Y25: 4 | Z25: Liivsavi (sinisavi): sinakashall, kõva | AI25: BLRT Grupp Aktsiaselts | AJ25: 10068499 | AK25: 53229922 Olga Korobtsova; o.korobtsova@blrt.ee; 6102408; blrt@blrt.ee | AM25: Harju | AN25: Tallinn | AO25: Hävinud/likvideeritud | AP25: VPA on hävinud. | AQ25: - | AR25: - | AS25: - | AT25: Kopli ps Kopli lahe äärse maa-ala reostusuuringud II, Maves 2136
B26: PA-18 | C26: JRA0000037 | D26: Balti laevaremonditehas | E26: 537053 | F26: 6592125 | G26: 78408:808:0260 | H26: 7.7 | K26: 1.8 | L26: - | N26: 36843 | P26: Täitepinnas: liiv, killustik, muld, tihenenud | Q26: 1.4 | R26: Saviliivmoreen: hall, sitke- või kõvaplastne | S26: 1.5 | T26: Liivsavi (sinisavi): sinakashall, kõva | AI26: BLRT Grupp Aktsiaselts | AJ26: 10068499 | AK26: 53229922 Olga Korobtsova; o.korobtsova@blrt.ee; 6102408; blrt@blrt.ee | AM26: Harju | AN26: Tallinn | AO26: Hävinud/likvideeritud | AP26: VPA on hävinud. | AQ26: - | AR26: - | AS26: - | AT26: Kopli ps Kopli lahe äärse maa-ala reostusuuringud II, Maves 2137
A27: 19842 | B27: PA-1561 | C27: JRA0000012 | D27: Bekkeri sadam | E27: 537831.27 | F27: 6591163.7 | G27: 78408:808:0047 | H27: 5.53 | I27: 0.51 | J27: 3 | K27: 3.5 | L27: 1.68 | M27: =H27-L27 -> 3.85 | N27: 42898 | O27: Metall 108mm: +0,5-1,05m; HDPE: 60mm +0,5-3,5; F 0,5-3,5m | P27: Täitepinnas: killustik, ehituskivide tükid, tuhk; ei haise naftasaaduste järgi | Q27: 1 | R27: Täitepinnas: keskliiv, kollakashall, kesktihe, niiske; haiseb naftasaaduste järgi | S27: 1.9 | T27: Aleuriit: kollase-hall kirju, tihe, niiske; haiseb naftasaaduste järgi | U27: 3 | V27: Aleuriit: kollase-hall kirju, tihe, niiske, sisaldab õhukesi liivakivi vahekihte; haiseb nõrgalt naftasaaduste järg | AI27: Aktsiaselts Logman Invest | AJ27: 10361696 | AK27: Aivar Napits 5012195; aivar.napits@gmail.com; 6201602, 6201600; endel.siff@primos.ee | AM27: Harju | AN27: Tallinn | AO27: Korras | AP27: VPA on terve. Päise avamiseks 6-kantvõti 8. Sisemine plasttoru samal kõrgusel metallkaitsetoruga. Algne sügavus oli 3,5m (maapinda on ehituse käigus tõstetud 0,3m, sellest ka konstruktsiooni muutus). Veepinnal naftasaaduste kihti pole. | AQ27: Proovivõtmisel 09.10.2017.a otsustati proovi mitte võtta, kuna mõõdulint, bailer ja pump MP-1 said filtertoru alumises osas õliseks ja proovi võtmisel iseloomustaks see vaid naftasaaduste lahustuvust vees. | AR27: - | AS27: Jätkata seiret. | AT27: Jääkreostuse likvideerimise projekti ettevalmistus endistel militaar- ja industriaalaladel, Maves nr-5168
A28: 19843 | B28: PA-1564 | C28: JRA0000012 | D28: Bekkeri sadam | E28: 537894.35 | F28: 6590989.6 | G28: 78408:808:0047 | H28: 3.54 | I28: 0 | J28: 3.07 | K28: 3.25 | L28: 1.95 | M28: =H28-L28 -> 1.59 | N28: 42898 | O28: Metall 108mm: 0,0-0,6m; HDPE: 60mm 0,07-3,25; F 0,25-3,25m | P28: Täitepinnas: muld, peenliiv, ehituskivide tükid; ei haise naftasaaduste järgi; alates 0,4m savikas liiv: kollakashall, kesktihe, niiske; ei haise naftasaaduste järgi; alates 1,0 m kruus, killustik, ehituspraht; ei haise naftasaaduste järgi | Q28: 1.9 | R28: Täitepinnas: kruus, must, tihe, veeküllastunud; õline, haiseb naftasaaduste järgi | S28: 2.5 | T28: Peenliiv: tumehall, tihe, veeküllastunud; õline, haiseb naftasaaduste järgi | AI28: Aktsiaselts Logman Invest | AJ28: 10361696 | AK28: Aivar Napits 5012195; aivar.napits@gmail.com; 6201602, 6201600; endel.siff@primos.ee | AM28: Harju | AN28: Tallinn | AO28: Avariis | AP28: VPA asub väikeses, pinnaveele avatud lohus. VPA suletud malmkaanega. Plasttoru 7cm allpool malmluugi serva. Maapinda on muudetud ligi 0,5m madalamaks. Algne VPA päis oli 1,2m kõrgemal. Sügavusel 1,35 on takistus ees. Veepinnal naftasaaduste kihti pole. | AQ28: Proovi ei võeta, kuna see ei iseloomusta vaid põhjavett vaid suurte sadude ajal satub sinna ka pinnavesi. | AR28: - | AS28: VPA tuleb nõuetekohaselt likvideerida. | AT28: Jääkreostuse likvideerimise projekti ettevalmistus endistel militaar- ja industriaalaladel, Maves nr-5168
A29: 19844 | B29: PA-1570 | C29: JRA0000012 | D29: Bekkeri sadam | E29: 537977.36 | F29: 6590746.1 | G29: 78408:808:0047 | H29: 3.15 | I29: 0.7 | K29: 3.58 | L29: 2.8 | M29: =H29-L29 -> 0.35 | N29: 42535 | O29: Metall 108mm: +0,7-0,95m; HDPE: 60mm +0,42-3,58; F 0,58-3,58m | P29: Täitepinnas: killustik, keskliiv, kesktihe, niiske; ei haise naftasaaduste järgi | Q29: 0.6 | R29: Turvas: tumepruun, hästi lagunenud; ei haise naftasaaduste järgi | S29: 0.75 | T29: Savikas liiv: kollakashall, kesktihe, niiske; ei haise naftasaaduste järgi; alates 1,0m sisaldab liivakivi tükke, alates 2,0m veeküllastunud, alates 3,2m hall; ei haise naftasaaduste järgi | U29: 4.5 | V29: Liivsavimoreen: tumehall, pehme, sisaldab 15% jämepurdu; ei haise naftasaaduste järgi | W29: 4.8 | X29: Liivakivi: murenenud, hall, ei haise naftasaaduste järgi | AI29: Aktsiaselts Logman Invest | AJ29: 10361696 | AK29: Aivar Napits 5012195; aivar.napits@gmail.com; 6201602, 6201600; endel.siff@primos.ee | AM29: Harju | AN29: Tallinn | AO29: Avariis | AP29: Kaitsetoru on maha sõidetud, ilmselt on katki ka plastfilter. | AQ29: Proovi ei võetud. | AR29: - | AS29: VPA-d mitte taastada ja see tuleb nõetekohaslt likvideerida. | AT29: Jääkreostuse likvideerimise projekti ettevalmistus endistel militaar- ja industriaalaladel, Maves nr-5168
B30: PA-1 (19) | C30: JRA0000164 | D30: Dekoil OÜ | E30: 536829 | F30: 6592202 | G30: 78408:806:0100 | H30: 7.1 | K30: 4.35 | L30: 3.25 | M30: =H30-L30 -> 3.85 | N30: 36830 | P30: Killustik | Q30: 0.4 | R30: Täitepinnas: liiv, killustik, muld | S30: 0.7 | T30: Tolruliiv: kollakaspruun, kesktihe, alates süg. 3,25 m veeküllastunud | U30: 3.3 | V30: Veerised ja munakad, veeküllastunud | W30: 3.6 | X30: Saviliivmoreen: pruunikashall, sitke- või kõvaplastne, sis. jämepurdu kuni 20% | AI30: Dekoil OÜ | AJ30: 10069369 | AK30: 5052017 Margus Salu; 6102772; dekoil@dekoil.ee | AM30: Harju | AN30: Tallinn | AO30: Hävinud/likvideeritud | AP30: VPA on hävinud. | AQ30: - | AR30: - | AS30: - | AT30: Kopli ps Kopli lahe äärse maa-ala reostusuuringud II, Maves 2114
B31: PA-2 (20) | C31: JRA0000164 | D31: Dekoil OÜ | E31: 536772 | F31: 6592243 | G31: 78408:808:0450 | H31: 6.95 | K31: 4.3 | L31: 2.85 | M31: =H31-L31 -> 4.1 | N31: 36830 | P31: Killustik | Q31: 0.3 | R31: Täitepinnas: liiv, saviliiv, lubjakivi tükid | S31: 4.1 | T31: Saviliivmoreen: pruunikashall, sitkeplastne, sis. jämepurdu kuni 20%. | AI31: Dekoil OÜ | AJ31: 10069369 | AK31: 5052017 Margus Salu; 6102772; dekoil@dekoil.ee | AM31: Harju | AN31: Tallinn | AO31: Hävinud/likvideeritud | AP31: VPA on hävinud. | AQ31: - | AR31: - | AS31: - | AT31: Kopli ps Kopli lahe äärse maa-ala reostusuuringud II, Maves 2114
B32: PA-3 (21) | C32: JRA0000164 | D32: Dekoil OÜ | E32: 536701 | F32: 6592311 | G32: 78408:808:0450 | H32: 5.55 | K32: 3.2 | L32: - | N32: 36830 | P32: Killustik, liiv | Q32: 0.2 | R32: Täitepinnas: sitkeplastne saviliiv, muld | S32: 1.9 | T32: Kivi | U32: 2 | V32: Saviliivmoreen: pruunikashall, kõvaplastne, sis. jämepurdu kuni 20%. Alates süg. 3,0 m hall, kõva. Vett ei ilmunud 31.10.00 | AI32: Dekoil OÜ | AJ32: 10069369 | AK32: 5052017 Margus Salu; 6102772; dekoil@dekoil.ee | AM32: Harju | AN32: Tallinn | AO32: Hävinud/likvideeritud | AP32: VPA on hävinud. | AQ32: - | AR32: - | AS32: - | AT32: Kopli ps Kopli lahe äärse maa-ala reostusuuringud II, Maves 2114
B33: PA-4 (22) | C33: JRA0000164 | D33: Dekoil OÜ | E33: 536693 | F33: 6592449 | G33: 78408:808:0450 | H33: 8 | K33: 5.5 | L33: - | N33: 36830 | P33: Killustik | Q33: 0.3 | R33: Täitepinnas: liiv, saviliiv, killustik | S33: 1.5 | T33: Täitepinnas: saviliiv, liiv, pinnasel on naftasaaduste lõhn | U33: 2.4 | V33: Veerisedja munakad | W33: 2.6 | X33: Saviliivmoreen: pruunikashall, sitke- või kõvaplastne, sis. jämepurdu kuni 20%. Pinnasel on nõrk naftasaaduste lõhn | Y33: 3.7 | Z33: Saviliivmoreen: hall, kõva, sisaldab jämepurdu kuni 20% | AA33: 4.2 | AB33: Liivakivi: sinakashall, nõrgalt tsementeerunud | AI33: Dekoil OÜ | AJ33: 10069369 | AK33: 5052017 Margus Salu; 6102772; dekoil@dekoil.ee | AM33: Harju | AN33: Tallinn | AO33: Hävinud/likvideeritud | AP33: VPA on hävinud. | AQ33: - | AR33: - | AS33: - | AT33: Kopli ps Kopli lahe äärse maa-ala reostusuuringud II, Maves 2114
B34: PA-5 (23) | C34: JRA0000164 | D34: Dekoil OÜ | E34: 536655 | F34: 6592569 | G34: 78408:808:0450 | H34: 7.85 | K34: 4.3 | L34: 1.5 | M34: =H34-L34 -> 6.35 | N34: 36830 | P34: Täitepinnas: liiv, killustik, muld, tihenenud | Q34: 1.5 | R34: Täitepinnas: saviliiv, sis. üksikuid veeriseid. PinnaseIan nõrk naftasaaduste lõhn | S34: 3.8 | T34: Saviliivmoreen: pruunikashall, sitkeplastne, sis. jämepurdu kuni 20% | AI34: Dekoil OÜ | AJ34: 10069369 | AK34: 5052017 Margus Salu; 6102772; dekoil@dekoil.ee | AM34: Harju | AN34: Tallinn | AO34: Hävinud/likvideeritud | AP34: VPA on hävinud. | AQ34: - | AR34: - | AS34: - | AT34: Kopli ps Kopli lahe äärse maa-ala reostusuuringud II, Maves 2114
B35: PA-6 (24) | C35: JRA0000164 | D35: Dekoil OÜ | E35: 536756.3 | F35: 6592360.6 | G35: 78408:806:0100 | H35: 8.18 | I35: 0.62 | J35: 4.26 | K35: 4.4 | L35: 3.51 | M35: =H35-L35 -> 4.67 | N35: 42902 | P35: Täitepinnas: liiv, killustik, saviliiv, muld, lubi, veerised | AI35: Dekoil OÜ | AJ35: 10069369 | AK35: 5052017 Margus Salu; 6102772; dekoil@dekoil.ee | AM35: Harju | AN35: Tallinn | AO35: Korras | AP35: VPA on terve. Päis lahtiselt peal. Geoloogilise ehituse ja konstruktsiooni kohta andmed puuduvad. Veepinnal naftasaaduste kihti pole. Veepinnal naftasaaduste kihti pole. Veeproovi ei võeta. | AQ35: Proovi ei võetud, kuna varasema reostus puudub. Jääkreostust pole. | AR35: - | AS35: Ettepanek on jätta VPA asutusesiseseks seireks. | AT35: Kopli ps Kopli lahe äärse maa-ala reostusuuringud II, Maves 2114
B36: PA-7 | C36: JRA0000164 | D36: Dekoil OÜ | E36: 536857.63 | F36: 6592293.8 | G36: 78408:806:0100 | H36: 8.15 | I36: 0.01 | J36: 3.44 | L36: 1.87 | M36: =H36-L36 -> 6.28 | N36: 42902 | AI36: Dekoil OÜ | AJ36: 10069369 | AK36: 5052017 Margus Salu; 6102772; dekoil@dekoil.ee | AM36: Harju | AN36: Tallinn | AO36: Korras | AP36: VPA on terve. Päis lahtiselt peal. Konstruktsiooni kohta andmed puuduvad. Kaitsetoru maapinnaga tasa. Veepinnal naftasaaduste kihti pole. Veepinnal naftasaaduste kihti pole. Veeproovi ei võeta. | AQ36: Proovi ei võeta, kuna pole teada, milline on konstruktsioon ja millist veekihti proov iseloomustab. Inventariseerimisel juhuslikult leitud, ei vasta VPA nõuetele. | AR36: - | AS36: Seiret ei plaanita, pole jääkreostusega seotud. | AT36: Aruanne puudub.
A37: 19862 | B37: PA-6611 | C37: JRA0000052 | D37: Holstre-Nõmme ABT | E37: 596749.67 | F37: 6464688 | G37: 57002:001:0057 | H37: 75.11 | I37: 0.93 | J37: 5.02 | K37: 5.15 | L37: 1.57 | M37: =H37-L37 -> 73.54 | N37: 42838 | O37: Metall 108mm: +0,85-1,15m; HDPE 60mm: +0,85-5,15m; F 0,15-4,15m | P37: Turvas: halvasti lagunenud; ei haise naftasaaduste järgi | Q37: 0.4 | R37: Peenliiv: kollakaspruun, alates 1,0 m pruun, kohev, veeküllastunud; ei haise naftasaaduste järgi | S37: 4 | T37: Peenliiv: pruun, kesktihe, veeküllastunud, õline ja haiseb naftasaaduste järgi | U37: 5.4 | V37: Peenliiv: pruun, tihe, veeküllastunud; ei haise naftasaaduste järgi | W37: 5.8 | X37: Kruus: pruun, tihe, veeküllastunud; ei haise naftasaaduste järgi | Y37: 6.2 | Z37: Savi: pruun, kõva, sisaldab liivakivi tükke | AI37: Henn Moora | AJ37: 36606186019 | AK37: 5276810 Henn Moora | AM37: Viljandi | AN37: Paistu vald | AO37: Korras | AP37: VPA on terve. Raskesti ligipääsetav, avamiseks 6-kantvõti 8. Veepinnal naftasaaduste kihti pole, põhjas 10cm pehmet setet, kuid mitte naftasaadus. | AQ37: Pumpamiseks saab autoga ca 50m kaugusele. Proov võeti pumbaga MP-1. | AR37: Proovi võtmisel 03.10.2017 oli vett VPA-s 11,3l, pumba sügavus oli 5,4m manteltoru otsast. Proov võeti pärast 1-kordse veekoguse välja pumpamist (1 minutiga alanes veetase pumbani) sagedusel 120Hz. q 0,005. S 1,8 | AS37: Jätkata seiret. | AT37: Jääkreostuse likvideerimise projekti ettevalmistus endistel militaar- ja industriaalaladel, Maves nr-5168
A38: 19863 | B38: PA-6628 | C38: JRA0000052 | D38: Holstre-Nõmme ABT | E38: 596904.78 | F38: 6464684.8 | G38: 57002:001:0057 | H38: 76.35 | I38: 0.75 | J38: 8.03 | K38: 7.95 | L38: 3.56 | M38: =H38-L38 -> 72.79 | N38: 42838 | O38: Metall 108mm: +0,75-1,05m; HDPE 90mm: F +0,75-7,95m; | P38: Muld: ei haise naftasaaduste järgi | Q38: 0.3 | R38: Peenliiv: punakaspruun, alates 2m kollakashall, tihe, niiske; ei haise naftasaaduste järgi | S38: 3.9 | T38: Kruus munakatega: kollakashall, tihe; haiseb nõrgalt naftasaaduste järgi | U38: 5.6 | V38: Kruusakas liiv: kollakashall, tihe, niiske, alates 4,5 m veeküllastunud; haiseb nõrgalt naftasaaduste järgi | AI38: Henn Moora | AJ38: 36606186019 | AK38: 5276810 Henn Moora | AM38: Viljandi | AN38: Paistu vald | AO38: Avariis | AP38: Väline kaitsetoru katki, sisemine korras, VPA pealt lahti. Veepinnal naftasaaduste kihti pole. Toru kõrgus maapinnast muutuv, kuna karjääritööd on jätnud toru üksikule saarele. Mõõtmised tehtud sisemisest plasttorust, mille kõrgus on 76,35m. | AQ38: Proov võeti pumbaga MP-1. | AR38: Proovi võtmisel 03.10.2017 oli vett VPA-s 34l, pumba sügavus oli 8,5m manteltoru otsast. Proov võeti pärast 4-kordse veekoguse välja pumpamist (9 minutit) sagedusel 200Hz. q 0,25. S 0,36 | AS38: VPA-d mitte taastada ja see tuleb likvideerida, kuna on kahjustatud ja jääb karjääri arengule ette. | AT38: Jääkreostuse likvideerimise projekti ettevalmistus endistel militaar- ja industriaalaladel, Maves nr-5168
A39: 53456 | B39: VK-1 | C39: JRA0000052 | D39: Holstre-Nõmme ABT | E39: 596911.8 | F39: 6464839.9 | G39: 57002:001:0057 | H39: 73.94 | I39: 0.77 | J39: 4.83 | K39: 5 | L39: 1.74 | M39: =H39-L39 -> 72.2 | N39: 42838 | O39: PVH 125mm: +0,5-5,0m; F 1,0-5,0m | P39: Kruus, veerised, munakad | AI39: Henn Moora | AJ39: 36606186019 | AK39: 5276810 Henn Moora | AM39: Viljandi | AN39: Paistu vald | AO39: Korras | AP39: VPA on terve. Suletud tabalukuga, võti olemas. Sisemine plasttoru 8cm välisest torust madalamal. Algne sügavus oli oli 5m. Veepinnal naftasaaduste kihti pole. | AQ39: Proov võeti pumbaga MP-1. | AR39: Proovi võtmisel 03.10.2017 oli vett VPA-s 34l, pumba sügavus oli 5,25m manteltoru otsast. Proov võeti pärast 4-kordse veekoguse välja pumpamist (8 minutit) sagedusel 200Hz. q 0,27. S 0,5 | AS39: Jätkata seiret. | AT39: Jääkreostuse likvideerimine Holstre–Nõmme ABT territooriumil. Seirepuurkaevu projekt. Alus-Geoloogia OÜ nr-1415
B40: VPA-1 | C40: JRA0000071 | D40: Ida-Viru naftabaas | E40: 730919.43 | F40: 6588502 | G40: 85101:003:0321 | H40: 31.37 | I40: 0.66 | J40: 5.86 | K40: 5.6 | L40: 1.64 | M40: =H40-L40 -> 29.73 | N40: 42843 | O40: Metall 108mm: +0,62-4,4m; 93mm: F 4,4-5,6m | P40: Täitepinnas: saviliiv, muld, liiv, lubjakivi kamakad ja lahmakad | Q40: 2.5 | R40: Saviliivmoreen: hall, kõvaplastne, sisaldab jämepurdu 20% | S40: 3.5 | T40: Lubjakivi: hall, keskmisekihiline, õhukeste mergli vahekihtidega; sügavusel 5,5m lõhe | AI40: OÜ Souvi | AJ40: 11947412 | AK40: 5055134; 5057767; veljo@bravecapital.ee; 6517001 | AM40: Ida-Viru | AN40: Vaivara vald | AO40: Korras | AP40: VPA on terve. VPA-l puudus päis, pandi uus päis. Avamiseks 6-kantvõti 8. Veepinnal naftasaaduste kihti pole, põhjas 30cm paks õli. | AQ40: Proovi ei võeta, kuna see iseloomustaks vaid naftasaaduste lahustuvust vees. | AR40: - | AS40: VPA puhastada õlisest settest ja säilitada edaspidiseks seireks. | AT40: Ida-Viru naftabaasi reostusuuring ja reostuse likvideerimise kava. AS Maves nr 4107
B41: VPA-2 | C41: JRA0000071 | D41: Ida-Viru naftabaas | E41: 730885.99 | F41: 6588439.9 | G41: 85101:003:0321 | H41: 31.46 | I41: 1.01 | J41: 1.28 | K41: 5.1 | L41: 1.63 | M41: =H41-L41 -> 29.83 | N41: 42843 | O41: Metall 108mm: +0,80-4,4m; 93mm: F 4,4-5,1m | P41: Täitepinnas: saviliiv, muld, lubjakivi tükid | Q41: 1 | R41: Saviliiv: kollakashall, kõvaplastne | S41: 2.2 | T41: Saviliivmoreen: hall, kõvaplastne, sisaldab jämepurdu 40% | U41: 4 | V41: Lubjakivi: hall, keskmisekihiline, õhukeste mergli vahekihtidega | AI41: OÜ Souvi | AJ41: 11947412 | AK41: 5055134; 5057767; veljo@bravecapital.ee; 6517001 | AM41: Ida-Viru | AN41: Vaivara vald | AO41: Avariis | AP41: VPA päis katki, pandi uus päis. Avamiseks 6-kantvõti 8. Veepinnal naftasaaduste kihti pole. | AQ41: VPA täisloobitud, sügavus vaid 2,29m torust (1,28m maapinnast). Veesammas VPA manteltoru osas vaid 0,66m. Proovi ei võetud. | AR41: - | AS41: VPA puhastada settest ja säilitada edaspidiseks seireks. | AT41: Ida-Viru naftabaasi reostusuuring ja reostuse likvideerimise kava. AS Maves nr 4107
B42: VPA-3 | C42: JRA0000071 | D42: Ida-Viru naftabaas | E42: 731172.06 | F42: 6588453.2 | G42: 85101:003:0321 | H42: 31.65 | I42: 0.53 | J42: 6.7 | K42: 6.1 | L42: =I42+1.17 -> 1.7 | M42: =H42-L42 -> 29.95 | N42: 42843 | O42: Metall 108mm: +0,68-2,95m; 93mm: F 2,95-6,1m | P42: Täitepinnas: saviliiv, muld, lubjakivi tükid | Q42: 0.9 | R42: Saviliiv: kollakashall, kõvaplastne | S42: 1.5 | T42: Saviliivmoreen: hall, kõvaplastne, sisaldab jämepurdu 20-30% | U42: 2 | V42: Lubjakivi: hall, keskmisekihiline, õhukeste mergli vahekihtidega | AI42: OÜ Souvi | AJ42: 11947412 | AK42: 5055134; 5057767; veljo@bravecapital.ee; 6517001 | AM42: Ida-Viru | AN42: Vaivara vald | AO42: Korras | AP42: VPA on terve. Päise avamiseks padrunvõti 17. Veepinnal 0,5cm naftasaaduste kiht. | AQ42: Proovi ei võeta, kuna see iseloomustaks vaid naftasaaduste lahustuvust vees. | AR42: - | AS42: VPA puhastada naftasaadustest ja säilitada edaspidiseks seireks. | AT42: Ida-Viru naftabaasi reostusuuring ja reostuse likvideerimise kava. AS Maves nr 4107
A43: 19860 | B43: PA-6525 | C43: JRA0000023 | D43: Jaska ABT | E43: 591190.97 | F43: 6489221.4 | G43: 54501:002:1360 | H43: 78.12 | I43: 0.7 | J43: 4.98 | K43: 5.05 | L43: 3.61 | M43: =H43-L43 -> 74.51 | N43: 42838 | O43: Metall 108mm: +0,6-1,4m; HDPE 60mm: +0,6-5,05m; F 0,05-4,05m | P43: Peen kuni kruusliiv: kollakaspruun, kesktihe, niiske-märg, sisaldab veerised ja munakaid; ei haise naftasaaduste järgi | Q43: 2.9 | R43: Peenliiv: mustjaspruun, ülemine 0,2 m õline kiht, kesktihe, veeküllastunud; alates 3,8 m kollakaspruun tihe; haiseb naftasaaduste järgi | AI43: OÜ Tällevere Agro | AJ43: 10998264 | AK43: 4359805 Ilmar Kõvtomas; rullitonu@hot.ee | AM43: Viljandi | AN43: Suure-Jaani | AO43: Korras | AP43: VPA on terve. Avamiseks 6-kant võti 8. Veepinnal paks naftasaaduste kiht, proovivõtutoru alla ei lähe. Algne sügavus oli oli 5,05m. | AQ43: Proovi ei võeta, kuna see iseloomustab vaid naftasaaduste lahustuvust vees. | AR43: - | AS43: Jätkata seiret. | AT43: Jääkreostuse likvideerimise projekti ettevalmistus endistel militaar- ja industriaalaladel, Maves nr-5168
A44: 19861 | B44: PA-6526 | C44: JRA0000023 | D44: Jaska ABT | E44: 591260.93 | F44: 6489274.8 | G44: 54501:002:1360 | H44: 77.88 | I44: 0.86 | J44: 6 | K44: 7.4 | L44: 4.27 | M44: =H44-L44 -> 73.61 | N44: 42838 | O44: Metall 108mm: +0,75-1,25m; HDPE 90mm: +0,6-7,4m; F 1,4-7,4m | P44: Peenliiv: mustjaspruun, ülemine 0,2 m õline kiht, kesktihe, veeküllastunud; alates 3,8 m kollakaspruun tihe; haiseb naftasaaduste järgi | Q44: 2.9 | R44: Peenliiv: mustjaspruun, ülemine 0,2 m õline kiht, kesktihe, veeküllastunud; alates 3,8 m kollakaspruun tihe; haiseb naftasaaduste järgi | AI44: OÜ Tällevere Agro | AJ44: 10998264 | AK44: 4359805 Ilmar Kõvtomas; rullitonu@hot.ee | AM44: Viljandi | AN44: Suure-Jaani | AO44: Korras | AP44: VPA on terve. Avamiseks 6-kant võti 8. Sisemine plasttoru on 31cm metalltorust madalamal. Algne sügavus oli oli 7,4m. Veepinnal naftasaaduste kihti pole. | AQ44: Proov võeti pumbaga MP-1. Pumpamisel annab väga palju liivast setet. | AR44: Proovi võtmisel 03.10.2017 oli vett VPA-s 36l, pumba sügavus oli 5,75m manteltoru otsast. Proov võeti pärast 4-kordse veekoguse välja pumpamist (8 minutit) sagedusel 120Hz. q 0,07. S 0,86 | AS44: Jätkata seiret. | AT44: Jääkreostuse likvideerimise projekti ettevalmistus endistel militaar- ja industriaalaladel, Maves nr-5168
A45: 19827 | B45: PA-1905 | C45: JRA0000044 | D45: Kapasto ABT | E45: 426784 | F45: 6531394.1 | G45: 63901:001:1229 | H45: 21.57 | I45: 0.57 | J45: 2.84 | K45: 2.8 | L45: 2.22 | M45: =H45-L45 -> 19.35 | N45: 42818 | O45: Metall 108mm: +0,6-1,4m; HDPE: 60mm +0,6-2,8m; F 0,05-2,8m | P45: Keskliiv: kruusa vahekihtidega, kollakaspruun, kesktihe, niiske; ei haise naftasaaduste järgi | Q45: 1.5 | R45: Kruus: kruusliiva vahekihtidega, pruunikaskollane, kesktihe, märg; ei haise naftasaaduste järgi | AI45: OSAÜHING Kapastu | AJ45: 10261888 | AK45: 5091069, talguline@gmail.com | AM45: Hiiu | AN45: Pühalepa vald | AO45: Korras | AP45: VPA on terve. Avamiseks 6-kantvõti 8. VPA sügavus vaid 2,84m, Veepinnal naftasaaduste kihti pole. | AQ45: Proov võeti pumbaga MP-1 | AR45: Proovi võtmisel 05.04.2017 oli vett VPA-s 2,4l, pumba sügavus oli 3,1m manteltoru otsast. Proov võeti pärast 4-kordse veekoguse väljapumpamist (105 sekundit) sagedusel 100Hz. VPA tootlikkust limiteerib filtertoru läbimõõt. q 0,017. S 0,88 | AS45: Jätkata seiret. | AT45: Jääkreostuse likvideerimise projekti ettevalmistus endistel militaar- ja industriaalaladel, Maves nr-5168
B46: PA-1 | C46: JRA0000013 | D46: Keila-Joa raketibaas | E46: 518155.1 | F46: 6586192.7 | G46: 19801:011:0641 | H46: 29.08 | I46: 0.08 | K46: 9.2 | L46: =I46+0.52 -> 0.6 | M46: =H46-L46 -> 28.48 | N46: 35782 | O46: Metall 146mm: +0,1-1,0m; 112mm: F 1,0-9,2m | P46: Lubjakivi: õhukesekihiline, pruun, õline | Q46: 0.5 | R46: Lubjakivi: helehall, paksukihiline, väga tugev, vähelõheline | S46: 2 | T46: Lubjakivi: tumehall, paksukihiline, kesktugev, vähelõheline | U46: 5.5 | V46: Oiidlubjakivi | W46: 5.7 | X46: Lubjakivi: tumehall, palju kaverne | AI46: Pangapealse Arenduse OÜ | AJ46: 12867891 | AK46: 6007004; raamatupidamine@cellnex.eu | AM46: Harju | AN46: Harku vald | AO46: Hävinud/likvideeritud | AP46: VPA on hävinud. | AQ46: - | AR46: - | AS46: - | AT46: Gefährdungsabschätzung für die Liegenschaft Raketenbasis Keila Joa (Estland), IABG Umwelt, Dezember 1994
B47: PA-2 | C47: JRA0000013 | D47: Keila-Joa raketibaas | E47: 518228.94 | F47: 6586177.9 | G47: 19801:011:0641 | H47: 29.01 | I47: 0.1 | J47: 7.3 | K47: 9.1 | L47: 1.17 | M47: =H47-L47 -> 27.84 | N47: 42893 | O47: Metall 146mm: +0,1-1,0m; 112mm: F 0-1,0m; 93mm: F 1,0-9,1m | P47: Muld | Q47: 0.25 | R47: Lubjakivi: nõrgalt murenenud, õhukesekihiline | S47: 1 | T47: Lubjakivi: paksukihiline, lillakate kihipindadega, väga tugev | U47: 2.8 | V47: Lubjakivi: paksukihiline, tugev, üksute mergli vahekihtidega, sügavusel 4,5m kavernid | W47: 5.1 | X47: Lubjakivi: dolomitiseerunud, väga tugev, oiididega | Y47: 6.2 | Z47: Lubjakivi: dolomitiseerunud, tugev, oiididega | AA47: 6.5 | AB47: Glaukoniitlubjakivi | AI47: Pangapealse Arenduse OÜ | AJ47: 12867891 | AK47: 6007004; raamatupidamine@cellnex.eu | AM47: Harju | AN47: Harku vald | AO47: Avariis | AP47: Metallmantel on väljavõetud. Plastikmantel lahti, ei ole lubjakivis kinni. Päis on keere keermes. Pinnavesi ei ole lubjakivist isoleeritud ja saab valguda plastiktoru tagant VPA-sse. Algne sügavus oli oli 9,1m. Veepinnal naftasaaduste kihti pole. | AQ47: Proovi ei võetud. | AR47: - | AS47: VPA nõuetekohaselt likvideerida. | AT47: Gefährdungsabschätzung für die Liegenschaft Raketenbasis Keila Joa (Estland), IABG Umwelt, Dezember 1995
B48: PA-3 | C48: JRA0000013 | D48: Keila-Joa raketibaas | E48: 518199.19 | F48: 6586152.5 | G48: 19801:011:0641 | H48: 29.24 | I48: 0.45 | J48: 0.7 | K48: 7 | L48: 1,15 kinni | M48: 28,09 kinni | N48: 42893 | O48: Metall 146mm: +0,1-1m; 93mm: F 1,0-7,0m | P48: Täitepinnas: kivid, muld | Q48: 0.8 | R48: Lubjakivi: paksukihiline, alates 3,5m keskmisekihiline | AI48: Pangapealse Arenduse OÜ | AJ48: 12867891 | AK48: 6007004; raamatupidamine@cellnex.eu | AM48: Harju | AN48: Harku vald | AO48: Avariis | AP48: Metallmantel on väljavõetud. Plastiktoru päiseta, pealt lahti. VPA on 0,7m sügavuselt kinni. Algne sügavus oli oli 7m. | AQ48: Proovi ei võetud. | AR48: - | AS48: VPA puhastada ja nõuetekohaselt likvideerida. | AT48: Gefährdungsabschätzung für die Liegenschaft Raketenbasis Keila Joa (Estland), IABG Umwelt, Dezember 1996
B49: PA-4 | C49: JRA0000013 | D49: Keila-Joa raketibaas | E49: 518156.58 | F49: 6586131.5 | G49: 19801:011:0641 | H49: 29.65 | I49: 0.1 | J49: 9.35 | K49: 9.5 | L49: 2.85 | M49: =H49-L49 -> 26.8 | N49: 42893 | O49: Metall 146mm: +0,1-1,0m; 93mm F 1,0-9,5m | P49: Lubjakivi: õhukesekihiline | Q49: 0.5 | R49: Lubjakivi oiididega | S49: 3.7 | T49: Lubjakivi | AI49: Pangapealse Arenduse OÜ | AJ49: 12867891 | AK49: 6007004; raamatupidamine@cellnex.eu | AM49: Harju | AN49: Harku vald | AO49: Avariis | AP49: Päis puudub, pealt avatud. Algne sügavus oli oli 9,5m. Põhjas pehme sete. Veepinnal naftasaaduste kihti pole, vesi puhas. | AQ49: Proov võeti pumbaga MP-1. | AR49: Proovi võtmisel 25.10.2017 oli vett VPA-s 58l, pumba sügavus oli 9,2m manteltoru otsast. Proov võeti pärast 1-kordse veekoguse välja pumpamist (4 minutiga alanes veetase pumbani) sagedusel 250Hz. q 0,025. S 7,97 | AS49: Jätkata seiret. | AT49: Gefährdungsabschätzung für die Liegenschaft Raketenbasis Keila Joa (Estland), IABG Umwelt, Dezember 1997
B50: PA-5 | C50: JRA0000013 | D50: Keila-Joa raketibaas | E50: 518195.85 | F50: 6586112.7 | G50: 19801:011:0641 | H50: 29.94 | I50: 0.38 | J50: 8.15 | K50: 9.1 | L50: 2.94 | M50: =H50-L50 -> 27 | N50: 42893 | O50: Metall 146mm: +0,1-1,63m; 93mm: F 1,63-9,1 | P50: Täitepinnas: muld, veerised, lubjakivi lahmakad, samiin | Q50: 1 | R50: Lubjakivi: hall, paksukihiline, kesktugev kuni tugev, kohati dolomitiseerunud, õhukeste mergli vahekihtidega, vähe lõheline; keskosas raudoiididega, allosas glaukoniitlubjakivi | AI50: Pangapealse Arenduse OÜ | AJ50: 12867891 | AK50: 6007004; raamatupidamine@cellnex.eu | AM50: Harju | AN50: Harku vald | AO50: Avariis | AP50: Päis puudub, VPA pealt lahti. Põhjas 10cm pehmet setet. Algne sügavus oli oli 9,1m. Veepinnal naftasaaduste kihti pole, vesi puhas. | AQ50: Proov võeti pumbaga MP-1. | AR50: Proovi võtmisel 25.10.2017 oli vett VPA-s 50l, pumba sügavus oli 8,3m manteltoru otsast. Proov võeti pärast 4-kordse veekoguse välja pumpamist (10 minutit) sagedusel 250Hz. q 0,32. S 0,17 | AS50: VPA puhastada algse sügavuseni, sulgeda päisega ja jätkata seiret. | AT50: Keila-Joa endise raketibaasi täiendavad seirepuuraugud, RAS REI nr 9087X
B51: PA-6 | C51: JRA0000013 | D51: Keila-Joa raketibaas | E51: 518297.7 | F51: 6586109.6 | G51: 19801:011:0641 | H51: 29.08 | I51: -0.05 | J51: 8.3 | K51: 9.2 | L51: 1.52 | M51: =H51-L51 -> 27.56 | N51: 42893 | O51: Metall 146mm: +0,1-1m; 93mm F 1,0-9,2m | P51: Muld: | Q51: 0.1 | R51: Lubjakivi: õhukesekihiline | S51: 0.3 | T51: Lubjakivi: paksukihiline, 2,4m suur lõhe, setet täis | U51: 4.2 | V51: Lubjakivi: oiididega | AI51: Pangapealse Arenduse OÜ | AJ51: 12867891 | AK51: 6007004; raamatupidamine@cellnex.eu | AM51: Harju | AN51: Harku vald | AO51: Avariis | AP51: Metallkaitsetoru on välja võetud. Plastikust päis on keere keermes. Algne sügavus oli oli 9,2m. Veepinnal naftasaaduste kihti pole, vesi puhas. | AQ51: Proov võeti pumbaga MP-1. | AR51: Proovi võtmisel 25.10.2017 oli vett VPA-s 53l, pumba sügavus oli 7,95m manteltoru otsast. Proov võeti pärast 4-kordse veekoguse välja pumpamist (10 minutit) sagedusel 250Hz. q 0,35. S 0,23 | AS51: VPA puhastada ja nõuetekohaselt likvideerida. | AT51: Gefährdungsabschätzung für die Liegenschaft Raketenbasis Keila Joa (Estland), IABG Umwelt, Dezember 1999
B52: PA-7 | C52: JRA0000013 | D52: Keila-Joa raketibaas | E52: 518092.91 | F52: 6586283.5 | G52: 19801:011:0641 | H52: 29.23 | I52: 0.57 | J52: 7.65 | K52: 8.7 | L52: 1.09 | M52: =H52-L52 -> 28.14 | N52: 42893 | O52: Metall 146mm: +0,1-0,5m; 93mm F 0,5-8,7m | P52: Lubjakivi | AI52: Pangapealse Arenduse OÜ | AJ52: 12867891 | AK52: 6007004; raamatupidamine@cellnex.eu | AM52: Harju | AN52: Harku vald | AO52: Avariis | AP52: Metallkaitsetoru on välja võetud. Plastiktoru on lahti, ei ole lubjakivis kinni. Päis on keere keermes. Pinnavesi ei ole lubjakivist isoleeritud ja saab valguda plastiktoru tagant VPA-sse. Algne sügavus oli oli 8,7m. Veepinnal naftasaaduste kihti pole. | AQ52: Proovi ei võetud. | AR52: - | AS52: VPA-le paigaldada metallkaitsetoru, isoleerida pinnaveest ja jätkata seiret. | AT52: Gefährdungsabschätzung für die Liegenschaft Raketenbasis Keila Joa (Estland), IABG Umwelt, Dezember 2000
A53: PA-8 | B53: PA-8a | C53: JRA0000013 | D53: Keila-Joa raketibaas | E53: 517872.76 | F53: 6585921.1 | G53: 19801:001:2835 | H53: 27.45 | I53: 0.46 | J53: 7 | K53: 8 | L53: 3.8 | M53: =H53-L53 -> 23.65 | N53: 42893 | O53: Metall 122mm: +0,4-0,6m; 93mm: F 0,6-8,0m | P53: Muld veeristega | Q53: 0.2 | R53: Lubjakivi: hall, paksukihiline, kesktugev kuni tugev, kohati dolomitiseerunud, õhukeste mergli vahekihtidega, vähe lõheline. Sügavusel 3-4m raudoiidid, sügavusel 7-7,9m glaukoniitlubjakivi. Vesi ilmus 2,6m. | S53: 7.9 | T53: Glaukoniitliivakivi | AI53: Eesti Vabariik | AM53: Harju | AN53: Harku vald | AO53: Korras | AP53: VPA on terve. VPA avamiseks 6-kantvõti 8. Algne sügavus oli oli 8m. Veepinnal naftasaaduste kihti pole, vesi puhas. | AQ53: Proov võeti pumbaga MP-1. | AR53: Proovi võtmisel 25.10.2017 oli vett VPA-s 32,6l, pumba sügavus oli 7,05m manteltoru otsast. Proov võeti pärast 4-kordse veekoguse välja pumpamist (7 minutit) sagedusel 250Hz. q 0,33. S 0,36 | AS53: Jätkata seiret. | AT53: Keila-Joa endise raketibaasi täiendavad seirepuuraugud, RAS REI nr 9087X
B54: PA-9a | C54: JRA0000013 | D54: Keila-Joa raketibaas | E54: 518222.47 | F54: 6585657.8 | G54: 19801:011:1640 | H54: 27.85 | I54: 0.51 | J54: 8 | K54: 8 | L54: 1.73 | M54: =H54-L54 -> 26.12 | N54: 42893 | O54: Metall 122mm: +0,47-1,33m; 93mm: F 1,33-8,0m | P54: Täitepinnas: muld, lubjakivi lahmakad, puidujäätmed, tihenemata | Q54: 1.05 | R54: Lubjakivi: murenenud, kollakashall, õhukeseskihiline | S54: 2.2 | T54: Lubjakivi: hall, keskmisekihiline, kesktugev | U54: 3 | V54: Lubjakivi: hall, lõheline, alates 3,2m vähene veeeraldus, vahemikus 3,9-4,0m mõõdukas veeeraldus | W54: 4 | X54: Lubjakivi: hall, keskmisekihiline, kesktugev | Y54: 4.5 | Z54: Lubjakivi: hall, tugev, raudoiididega | AA54: 4.9 | AB54: Lubjakivi: hall, keskmisekihiline, kesktugev või tugev | AC54: 6 | AD54: Lubjakivi: hall, väga lõheline, savika lõhetäitega, glaukoniiditeradega | AI54: Malle Lääts | AJ54: 43711170214 | AM54: Harju | AN54: Harku vald | AO54: Avariis | AP54: Päis puudub, VPA pealt lahti. Sügavus 8m, põhjas pehme sete. Veepinnal 8cm paksune õlkiht. | AQ54: Proovi ei võeta, kuna see iseloomustaks vaid naftasaaduste lahustuvust vees | AR54: - | AS54: VPA-st naftasaadused eemaldada (vajadusel korduvalt), sulgeda VPA päisega ja jätkata seiret. | AT54: Gefährdungsabschätzung für die Liegenschaft Raketenbasis Keila Joa (Estland), IABG Umwelt, Dezember 2002
B55: PA-12 | C55: JRA0000013 | D55: Keila-Joa raketibaas | E55: 518202.88 | F55: 6586042.8 | G55: 19801:011:0641 | H55: 28.86 | I55: 0.23 | J55: 8.1 | K55: 8.2 | L55: 3.08 | M55: =H55-L55 -> 25.78 | N55: 42893 | O55: Metall 127mm: +0,21-0,8; 112mm: F 0,80-5,2; 93mm F 5,2-8,2m | P55: Muld | Q55: 0.25 | R55: Lubjakivi: kollakashall, nõrgalt murenenud, õhukesekihiline, kesktugev | S55: 1 | T55: Lubjakivi: helehall, paksukihiline, väga tugev; sügavusel 2,6m kollase saviliivase ainega täitunud lõhe | U55: 2.8 | V55: Lubjakivi: tumehall, paksukihiline, kesktugev või tugev, üksikute õhukeste mergli vahekihtidega; sügavusel 4,5-5,1m väheste kavernidega; 5,1m vee vähene juurdevool | W55: 5.1 | X55: Lubjakivi: tumehall, väga tugev, dolomitiseerunud, ülaosas raudoiididega; sügavusel 5,7m lõhe | Y55: 6.2 | Z55: Lubjakivi: tumehall, tugev või kesktugev, paksukihiline, õhukeste mergli vahekihtidega, allosas glaukoniidi teradega | AI55: Pangapealse Arenduse OÜ | AJ55: 12867891 | AK55: 6007004; raamatupidamine@cellnex.eu | AM55: Harju | AN55: Harku vald | AO55: Korras | AP55: VPA on terve. VPA avamiseks padrunvõti 17. Algne sügavus oli oli 8,2m. Põhjas pehme sete. Veepinnal naftasaaduste kihti pole, vesi puhas. | AQ55: Proov võeti pumbaga MP-1. | AR55: Proovi võtmisel 25.10.2017 oli vett VPA-s 49l, pumba sügavus oli 8m manteltoru otsast. Proov võeti pärast 4-kordse veekoguse välja pumpamist (10 minutit) sagedusel 250Hz. q 0,35. S 0,23 | AS55: Jätkata seiret. | AT55: Keila-Joa endise raketibaasi saneerimis- ja seirepuuraugud, RAS REI nr-8775X
A56: PA-13 | B56: PA-13 | C56: JRA0000013 | D56: Keila-Joa raketibaas | E56: 518237.64 | F56: 6586097.7 | G56: 19801:011:0641 | H56: 29.02 | I56: 0.2 | J56: 4.65 | K56: 4.8 | L56: 1.81 | M56: =H56-L56 -> 27.21 | N56: 42893 | O56: Metall 127mm: +0,18-0,8m; 112mm F 0,8-3,5m; 93mm: F 3,5-4,8m | P56: Täitepinnas: muld, kruus, veerised, tihenenud | Q56: 0.8 | R56: Lubjakivi: helehall, paksukihiline, tugev; Sügavusel 3,30m ilmus vesi | S56: 3.5 | T56: Lubjakivi: tumehall, keskmisekihiline, tugev või kesktugev, väheste mergli vahekihtidega | AI56: Pangapealse Arenduse OÜ | AJ56: 12867891 | AK56: 6007004; raamatupidamine@cellnex.eu | AM56: Harju | AN56: Harku vald | AO56: Avariis | AP56: Päis puudub, VPA pealt lahti. Sügavus 4,65m. Algne sügavus oli oli 4,8m. Veepinnal naftasaaduste kihti pole, vesi puhas. | AQ56: Proov võeti pumbaga MP-1. | AR56: Proovi võtmisel 25.10.2017 oli vett VPA-s 31l, pumba sügavus oli 4,6m manteltoru otsast. Proov võeti pärast 10-kordse veekoguse välja pumpamist (16 minutit) sagedusel 250Hz. q 0,33. S 0,2 | AS56: VPA sulgeda päisega ja jätkata seiret. | AT56: Keila-Joa endise raketibaasi saneerimis- ja seirepuuraugud, RAS REI nr-8775X
A57: PA-14 | B57: PA-14 | C57: JRA0000013 | D57: Keila-Joa raketibaas | E57: 517990.86 | F57: 6586051.6 | G57: 19801:011:0641 | H57: 28.69 | I57: 0.32 | J57: 0.12 | K57: 8 | L57: 0,38 kinni | M57: 28,31 kinni | N57: 42893 | O57: Metall 127mm: +0,22-0,8m; 112mm: F 0,8-3,7m; 93mm: F 3,7-8,0m | P57: Lubjakivi: nõrgalt murenenud, õhukesekihiline | Q57: 0.5 | R57: Lubjakivi: hall, paksukihiline, tugev, alates 3m üksikute õhukeste mergli vahekihtidega; 3,3m sügavusel saviliivaga täitunud lõhe; sügavusel 4,1m lõhe | S57: 5.5 | T57: Lubjakivi: hall, tugev või kesktugev, õhukeste mergli vahekihtidega, ülaosas raudoiididega, allosas glaukoniidi teradega | AI57: Pangapealse Arenduse OÜ | AJ57: 12867891 | AK57: 6007004; raamatupidamine@cellnex.eu | AM57: Harju | AN57: Harku vald | AO57: Avariis | AP57: Päis puudub, VPA pealt lahti. VPA on 0,12m sügavuselt kinni. Algne sügavus oli oli 8m. Veepinnal naftasaaduste kihti pole. | AQ57: Proovi ei võetud. | AR57: - | AS57: VPA puhastada endisele sügavusele 8m ja jätkata seiret. | AT57: Keila-Joa endise raketibaasi saneerimis- ja seirepuuraugud, RAS REI nr-8775X
A58: PA-15 | B58: PA-15 | C58: JRA0000013 | D58: Keila-Joa raketibaas | E58: 518199.85 | F58: 6586142.7 | G58: 19801:011:0641 | H58: 29.04 | I58: 0.25 | J58: 5.42 | K58: 7 | L58: 1.38 | M58: =H58-L58 -> 27.66 | N58: 42893 | O58: Metall 127mm: +0,22-0,77m; 112mm: F 0,77-6,5m; 93mm: F 6,5-7,0m | P58: Täitepinnas: lubjakiviv lahmakad, muld, samiinine | Q58: 0.55 | R58: Lubjakiviv: murenenud, samiinine | S58: 0.7 | T58: Lubjakivi: hall, paksukihiline, tugev või kesktugev, allosas väheste õhukeste mergli vahekihtidega; sügavusel 3,8m ja 4,2m lõhed; vesi ilmus lõhest sügavusel 5,2m | U58: 5.2 | V58: Lubjakivi: hall, tugev, või kesktugev, õhukeste mergli vahakihtidega; ülaosas raudoiididega | AI58: Pangapealse Arenduse OÜ | AJ58: 12867891 | AK58: 6007004; raamatupidamine@cellnex.eu | AM58: Harju | AN58: Harku vald | AO58: Avariis | AP58: Plastiktoru päiseta, pealt lahti. Algne sügavus oli oli 7m. Veepinnal naftasaaduste kihti pole, vesi puhas. | AQ58: Proov võeti pumbaga MP-1. | AR58: Proovi võtmisel 25.10.2017 oli vett VPA-s 37,5l, pumba sügavus oli 5,4m manteltoru otsast. Proov võeti pärast 4-kordse veekoguse välja pumpamist (28 minutit) sagedusel 150Hz. Veetaseme sügavusel 1,7m torust oli kuulda vee jooksmist VPA-sse. q 0,09. S 1,44 | AS58: VPA-le paigaldada uus metallkaitsetoru ja päis, isoleerida pinnaveest ja jätkata seiret. | AT58: Keila-Joa endise raketibaasi saneerimis- ja seirepuuraugud, RAS REI nr-8775X
A59: PA-16 | B59: PA-16 | C59: JRA0000013 | D59: Keila-Joa raketibaas | E59: 518239.72 | F59: 6585962 | G59: 19801:011:0641 | H59: 29.31 | I59: 0.24 | J59: 6.95 | K59: 7.2 | L59: 3.03 | M59: =H59-L59 -> 26.28 | N59: 42893 | O59: Metall 127mm: +0,24-0,75m; 112mm: F 0,75-4,6m; 93mm: F 4,6-7,2m | P59: Muld | Q59: 0.1 | R59: Lubjakivi: murenenud | S59: 0.3 | T59: Lubjakivi: hall, paksukihiline, tugev või kesktugev, alates 3m sügavuselt üksikute merglivahekihtidega. Sügavusel 2,40m lõhe pruuni saviliivase täitematerjaliga. Sügavusel 3m lõhe | U59: 4.2 | V59: Lubjakivi: hall, kesktugev või tugev, ülaosas raudooididega, allosas glaukoniiditeradega, sügavusel 3,3-3,5m mergli vahekiht. Sügavusel 5,2 ja 6,5 lõhed. | AI59: Pangapealse Arenduse OÜ | AJ59: 12867891 | AK59: 6007004; raamatupidamine@cellnex.eu | AM59: Harju | AN59: Harku vald | AO59: Korras | AP59: VPA on terve. VPA avamiseks padrunvõti 17. Algne sügavus oli oli 7,2m. Põhjas pehme sete. Veepinnal naftasaaduste kihti pole, vesi puhas. | AQ59: Proov võeti pumbaga MP-1. | AR59: Proovi võtmisel 25.10.2017 oli vett VPA-s 38l, pumba sügavus oli 6,95m manteltoru otsast. Proov võeti pärast 4-kordse veekoguse välja pumpamist (8 minutit) sagedusel 250Hz. q 0,34. S 0,1 | AS59: VPA nõuetekohaselt likvideerida. | AT59: Keila-Joa endise raketibaasi saneerimis- ja seirepuuraugud, RAS REI nr-8775X
B60: PA-17 | C60: JRA0000013 | D60: Keila-Joa raketibaas | E60: 518167.56 | F60: 6586114.1 | G60: 19801:011:0641 | H60: 28.99 | I60: 0.17 | J60: 7 | K60: 7.2 | L60: 2.27 | M60: =H60-L60 -> 26.72 | N60: 42893 | O60: Metall 127mm: +0,13-0,8m; 93mm: F 0,8-7,2m | P60: Lubjakivi: murenenud, pruunikashall, kesktugev, õhukesekihiline | Q60: 0.5 | R60: Lubjakivi, helehall, paksukihiline, tugev või väga tugev | S60: 2 | T60: Lubjakivi: tumehall, paksukihiline, kesktugev või tugev, üksikute õhukeste merglivahekihtidega, kohati väheseid kaverne ja lõhesid. Sügavusel 4,5 veelõhe | U60: 5.5 | V60: Lubjakivi: paksukihiline, raudoiididega | W60: 6.2 | X60: Lubjakivi: dolomitiseerunud, tumehall, paksukihiline, rohkete kavernidega | AI60: Pangapealse Arenduse OÜ | AJ60: 12867891 | AK60: 6007004; raamatupidamine@cellnex.eu | AM60: Harju | AN60: Harku vald | AO60: Avariis | AP60: Päis puudub, VPA pealt lahti. Algne sügavus oli oli 7,2m. Veepinnal naftasaaduste kihti pole, vesi puhas. | AQ60: Proov võeti pumbaga MP-1. | AR60: Proovi võtmisel 25.10.2017 oli vett VPA-s 48l, pumba sügavus oli 6,9m manteltoru otsast. Proov võeti pärast 4-kordse veekoguse välja pumpamist (12 minutit) sagedusel 250Hz. q 0,27. S 0,8 | AS60: VPA sulgeda päisega ja jätkata seiret. | AT60: Keila-Joa endise raketibaasi saneerimis- ja seirepuuraugud, RAS REI nr-8775X
B61: PA-18 | C61: JRA0000013 | D61: Keila-Joa raketibaas | E61: 518081 | F61: 6586108 | G61: 19801:011:0641 | H61: 29.56 | I61: 0.36 | K61: 7.5 | L61: =I61+3.65 -> 4.01 | M61: =H61-L61 -> 25.55 | N61: 42893 | O61: Metall 122mm: +0,36-0,64m; 93mm: F 0,64-7,5m | P61: Muld: veeristega | Q61: 0.3 | R61: Lubjakivi: valdavalt paksukihiline, kesktugev kuni tugev, kohati dolomitiseerunud, õhukeste mergli vahekihtidega, kohati väheseid kaverne ja lõhesid; vahemikus 3,5-4m raudoiididega; vesi ilmus lõhest 5,1m sügavusel | AI61: Pangapealse Arenduse OÜ | AJ61: 12867891 | AK61: 6007004; raamatupidamine@cellnex.eu | AM61: Harju | AN61: Harku vald | AO61: Hävinud/likvideeritud | AP61: VPA on hävinud. | AQ61: - | AR61: - | AS61: - | AT61: Keila-Joa endise raketibaasi täiendavad seirepuuraugud, RAS REI nr 9087X
B62: PA-19 | C62: JRA0000013 | D62: Keila-Joa raketibaas | E62: 518263.73 | F62: 6586039 | G62: 19801:011:0641 | H62: 29.76 | I62: 0.34 | J62: 7.9 | K62: 8 | L62: 2.81 | M62: =H62-L62 -> 26.95 | N62: 42893 | O62: Metall 122mm: +0,27-0,73m; 93mm: F 0,73-8,0m | P62: Muld: veeristega | Q62: 0.15 | R62: Lubjakivi: murenenud, kollakashall, õhukeseskihiline | S62: 0.35 | T62: Lubjakivi: paksukihiline, kesktugev kuni tugev, kohati dolomitiseerunud, õhukeste mergli vahekihtidega; 3,5-4m raudoiididega, sügavusel 7,5m glaukoniidi teradega; 3,6m sügavusel samiinihaisuga lõhe; vesi ilmus lõhest 6,1m sügavusel | AI62: Pangapealse Arenduse OÜ | AJ62: 12867891 | AK62: 6007004; raamatupidamine@cellnex.eu | AM62: Harju | AN62: Harku vald | AO62: Korras | AP62: VPA on terve. VPA avamiseks 6-kantvõti 8. Algne sügavus oli oli 8,0m. Veepinnal naftasaaduste kihti pole, vesi puhas. | AQ62: Proov võeti pumbaga MP-1. | AR62: Proovi võtmisel 25.10.2017 oli vett VPA-s 47l, pumba sügavus oli 7,95m manteltoru otsast. Proov võeti pärast 4-kordse veekoguse välja pumpamist (10 minutit) sagedusel 250Hz. q 0,32. S 0,46 | AS62: Jätkata seiret. | AT62: Keila-Joa endise raketibaasi täiendavad seirepuuraugud, RAS REI nr 9087X
A63: 19837 | B63: PA-1217 | C63: JRA0000017 | D63: Kopli Kaubajaam | E63: 541149.02 | F63: 6589468.2 | G63: 78401:101:1602 | H63: 14.03 | I63: 1.07 | J63: 0.11 | K63: 1.6 | L63: 1,18 kinni | M63: 1,18 kinni | N63: 42893 | O63: Metall 108mm: +0,9-1,1m; HDPE: 60mm F +0,4-1,6m | P63: Täitepinnas: muld, killustik, tellise tükid; ei haise naftasaaduste järgi | Q63: 0.8 | R63: Peenliiv: kollakspruun, kesktihe, veeküllastunud; ei haise naftasaaduste järgi | S63: 1.3 | T63: Tolmliiv: hall, tihe, veeküllastunud, sisaldab orgaanilist ainet; ei haise naftasaaduste järgi | U63: 2 | V63: Aleuriit: hall, tihe; ei haise naftasaaduste järgi | AI63: Eesti Vabariik | AJ63: - | AK63: 5201679 Kai Peet; | AL63: AS Eesti Raudtee | AM63: Harju | AN63: Tallinn | AO63: Avariis | AP63: Metallkaitsetoru kõver, varem on kaitsetoru olnud üle maapinna 0,9m. VPA täisloobitud sügavusel 0,11m (torust 1,18m) või on 60mm plasttoru katki. Algne sügavus oli 1,6m. | AQ63: Proovi ei võetud. | AR63: - | AS63: VPA puhastada ja nõuetekohaselt likvideerida. | AT63: Jääkreostuse likvideerimise projekti ettevalmistus endistel militaar- ja industriaalaladel, Maves nr-5168
A64: 19838 | B64: PA-1225 | C64: JRA0000017 | D64: Kopli Kaubajaam | E64: 540721.16 | F64: 6589734.9 | G64: 78401:101:1988 | H64: 12.73 | I64: 0.51 | J64: 3.73 | K64: 3.7 | L64: 3.25 | M64: =H64-L64 -> 9.48 | N64: 42893 | O64: Metall 108mm: +0,5-1,5m; HDPE: 60mm F +0,3-3,7m | P64: Täitepinnas: muld, killustik, peenliiv; alates 1,2m šlakk, pruun; ei haise naftasaaduste järgi | Q64: 1.4 | R64: Täitepinnas: keskliiv, must, tihe, veeküllastunud; ei haise naftasaaduste järgi | S64: 2.6 | T64: Keskliiv: must, tihe, niiske, veeküllastunud; haiseb nõrgalt naftasaaduste järgi | U64: 2.9 | V64: Aleuriit: helehall, tihe, veeküllastunud; ei haise naftasaaduste järgi | W64: 3.1 | X64: Savi: pruunikashall, kõva; ei haise naftasaaduste järgi | Y64: 3.3 | Z64: Aleuriit: helehall, tihe, niiske, sisaldab liivakivi tükke; ei haise naftasaaduste järgi | AI64: OÜ Mentenon | AJ64: 10570106 | AK64: 5201679 Kai Peet; 6663111; teet@rrk.ee | AM64: Harju | AN64: Tallinn | AO64: Korras | AP64: VPA on terve. Avamiseks 6-kantvõti 8. 60mm plasttoru on välisest metallkaitsetorust 0,2m madalamal. Veepinnal naftasaaduste kihti pole. | AQ64: Proov võeti baileriga. | AR64: Proovi võtmiseks pumbaga MP-1 oli vett vähe, vaid 3,6l. Proov võeti baileriga pärast 4-kordse mahu väljavõtmist. Veetase VPA-s taastus 0,6m (4...3,4m mõõdetuna manteltoru otsast) 330 sekundiga. | AS64: VPA puhastada ja nõuetekohaselt likvideerida. | AT64: Jääkreostuse likvideerimise projekti ettevalmistus endistel militaar- ja industriaalaladel, Maves nr-5168
B65: VPA-1 | C65: JRA0000017 | D65: Kopli Kaubajaam | E65: 540202.59 | F65: 6590173.9 | G65: 78401:101:1692 | H65: 12.9 | I65: 0.29 | J65: 7.18 | K65: 7.8 | L65: 3.38 | M65: =H65-L65 -> 9.52 | N65: 42893 | O65: PVC 200mm: +0,2-0,8m; HDPE 90mm: +0,2-7,8m; F 1,8-7,8m | P65: Täitepinnas: killustik, liiv | Q65: 2.5 | R65: Täitepinnas: must peenliiv, alumine 0,5m betoon | S65: 5 | T65: Aleuriitne liivakivi aleuriitse savi vahekihtidega | AI65: Eesti Vabariik | AJ65: - | AM65: Harju | AN65: Tallinn | AO65: Korras | AP65: VPA on terve. Avamiseks ristpea kruvikeeraja. 90mm plasttoru on välisest kaitsetorust 2,5cm madalamal. Algne sügavus oli oli 7,8m. Veepinnal naftasaaduste kihti pole, vesi puhas. | AQ65: Proov võeti pumbaga MP-1. Pumpamisel tuleb palju tolmliiva setet. Taastub aeglaselt. | AR65: Proovi võtmisel 06.10.2017 oli vett VPA-s 21l, pumba sügavus oli 7,2m manteltoru otsast. Proov võeti pärast 1-kordse veekoguse välja pumpamist (3 minutit - alanes veetase pumbani) sagedusel 105Hz. q 0,03. S 3,5 | AS65: VPA puhastada ja nõuetekohaselt likvideerida. | AT65: Kopli kaubajaama vaatluspuuraukude rajamine, Maves nr-12110
B66: VPA-2 | C66: JRA0000017 | D66: Kopli Kaubajaam | E66: 540014.51 | F66: 6590100.6 | G66: Reformimata riigimaa | H66: 9.94 | I66: 0.35 | J66: 7.28 | K66: 7.7 | L66: 2.43 | M66: =H66-L66 -> 7.51 | N66: 42893 | O66: PVC 200mm: +0,3-0,7m; HDPE 90mm: +0,3-7,7m; F 1,7-7,7m | P66: Täitepinnas: killustik, liiv | Q66: 1.8 | R66: Täitepinnas: peenliiv kollakashall, kesktihe, niiske, alates 2,5m must | S66: 3 | T66: Saviliiv: tumehall, sitkeplastne | U66: 3.5 | V66: Saviliivmoreen: hall, sitkeplastne | W66: 4.4 | X66: Aleuriitne liivakivi aleuriitse savi vahekihtidega | AI66: AS Eesti Raudtee | AM66: Harju | AN66: Tallinn | AO66: Avariis | AP66: VPA 200mm kaitsetoru on katki. Sisemine 90mm plasttoru 2cm välisest kaitsetorust madalamal. Algne sügavus oli 7,7m. Veepinnal naftasaaduste kihti pole. | AQ66: Proov võeti pumbaga MP-1. Pumpamisel tuleb palju liivasetet. | AR66: Proovi võtmisel 06.10.2017 oli vett VPA-s 26l, pumba sügavus oli 7,35m manteltoru otsast. Proov võeti pärast 4-kordse veekoguse välja pumpamist (24 minutit) sagedusel 90Hz. q 0,07. S 0,88 | AS66: VPA puhastada ja nõuetekohaselt likvideerida. | AT66: Kopli kaubajaama vaatluspuuraukude rajamine, Maves nr-12111
B67: VPA-3 | C67: JRA0000017 | D67: Kopli Kaubajaam | E67: 539947.37 | F67: 6590075.6 | G67: Reformimata riigimaa | H67: 8.92 | I67: 0.28 | J67: 7.6 | K67: 7.85 | L67: 1.98 | M67: =H67-L67 -> 6.94 | N67: 42893 | O67: PVC 200mm: +0,15-0,85m; HDPE 90mm: +0,15-7,85m; F 1,85-7,85m | P67: Täitepinnas: killustik, kruus | Q67: 0.8 | R67: Täitepinnas: peenliiv kollane, tihe, niiske, alates 1,8m must | S67: 3.5 | T67: Kruusliiv: hall, tihe | U67: 4.8 | V67: Aleuriitne liivakivi aleuriitse savi vahekihtidega | AI67: AS Eesti Raudtee | AM67: Harju | AN67: Tallinn | AO67: Avariis | AP67: VPA 200mm kaitsetoru on katki. Avamiseks ristpea kruvikeeraja. Sisemine 90mm plasttoru 3cm välisest kaitsetorust madalamal. Algne sügavus oli 7,85m. Veepinnal naftasaaduste kihti pole. | AQ67: Proov võeti pumbaga MP-1. | AR67: Proovi võtmisel 06.10.2017 oli vett VPA-s 35l, pumba sügavus oli 8,65m manteltoru otsast. Proov võeti pärast 1-kordse veekoguse välja pumpamist (32 minutit) sagedusel 90Hz. q 0,018. S 2,3 | AS67: VPA puhastada ja nõuetekohaselt likvideerida. | AT67: Kopli kaubajaama vaatluspuuraukude rajamine, Maves nr-12112
B68: VPA-4 | C68: JRA0000017 | D68: Kopli Kaubajaam | E68: 540836.75 | F68: 6589727.9 | G68: 78401:101:1602 | H68: 13.32 | I68: 0.32 | J68: 6.1 | K68: 5.7 | L68: 2.37 | M68: =H68-L68 -> 10.95 | N68: 42893 | O68: PVC 200mm: +0,3-0,7m; HDPE 90mm: +0,3-5,7m; F 1,7-5,7m | P68: Täitepinnas: muld, killustik, liiv | Q68: 2.1 | R68: Aluspõhja liiv: (murenenud liivakivi) | S68: 2.8 | T68: Aleuriitne liivakivi aleuriitse savi vahekihtidega | AI68: Eesti Vabariik | AJ68: - | AK68: 5201679 Kai Peet; | AL68: AS Eesti Raudtee | AM68: Harju | AN68: Tallinn | AO68: Korras | AP68: VPA on terve. Avamiseks ristpea kruvikeeraja. Sisemine 90mm plasttoru 9cm välisest kaitsetorust madalamal. Algne sügavus oli 6,1m. Veepinnal naftasaaduste kihti pole. | AQ68: Proov võeti pumbaga MP-1. | AR68: Proovi võtmisel 06.10.2017 oli vett VPA-s 20l, pumba sügavus oli 5,7m manteltoru otsast. Proov võeti pärast 1-kordse veekoguse välja pumpamist (20 minutit) sagedusel 80Hz. q 0,005. S 3,23 | AS68: VPA puhastada ja nõuetekohaselt likvideerida. | AT68: Kopli kaubajaama vaatluspuuraukude rajamine, Maves nr-12113
B69: VPA-5 | C69: JRA0000017 | D69: Kopli Kaubajaam | E69: 540801.68 | F69: 6589732.5 | G69: 78401:101:1602 | H69: 13.34 | I69: 0.46 | J69: 4 | K69: 5.6 | L69: 2.74 | M69: =H69-L69 -> 10.6 | N69: 42893 | O69: PVC 200mm: +0,4-0,6m; HDPE 90mm: +0,4-5,6m; F 1,6-5,6m | P69: Täitepinnas: asfalt 0,1m ja killustik, alates 0,3m liiv | Q69: 0.8 | R69: Peenliiv: kollakaspruun kuni hall, tihe, niiske | S69: 2.6 | T69: Aleuriitne liivakivi aleuriitse savi vahekihtidega | AI69: Eesti Vabariik | AJ69: - | AK69: 5201679 Kai Peet; | AL69: AS Eesti Raudtee | AM69: Harju | AN69: Tallinn | AO69: Korras | AP69: VPA on terve. Avamiseks ristpea kruvikeeraja. Sisemine 90mm plasttoru 5cm välisest kaitsetorust madalamal. Algne sügavus oli 5,6m, põhjas savikas sete. Veepinnal naftasaaduste kihti pole. | AQ69: Proov võeti pumbaga MP-1. | AR69: Proovi võtmisel 06.10.2017 oli vett VPA-s 10,25l, pumba sügavus oli 4,2m manteltoru otsast. Proov võeti pärast 4-kordse veekoguse välja pumpamist (25 minutit) sagedusel 87Hz. q 0,018. S 1,03 | AS69: VPA puhastada ja nõuetekohaselt likvideerida. | AT69: Kopli kaubajaama vaatluspuuraukude rajamine, Maves nr-12114
B70: VPA-6 | C70: JRA0000017 | D70: Kopli Kaubajaam | E70: 540796.11 | F70: 6589696.8 | G70: 78401:101:1988 | H70: 12.86 | I70: 0.31 | J70: 5.15 | K70: 5.75 | L70: 2.43 | M70: =H70-L70 -> 10.43 | N70: 42893 | O70: PVC 200mm: +0,25-0,75m; HDPE 90mm: +0,25-5,75m; F 1,75-5,75m | P70: Täitepinnas: muld, liiv | Q70: 2.2 | R70: Peenliiv: kollakashall, tihe, niiske | S70: 3 | T70: Murenenud liivakivi | U70: 3.2 | V70: Aleuriitne liivakivi aleuriitse savi vahekihtidega | AI70: OÜ Mentenon | AJ70: 10570106 | AK70: 5201679 Kai Peet; 6663111; teet@rrk.ee | AM70: Harju | AN70: Tallinn | AO70: Korras | AP70: VPA on terve. Avamiseks ristpea kruvikeeraja. Sisemine 90mm plasttoru 6cm välisest kaitsetorust madalamal. Algne sügavus oli 5,75m, põhjas savikas rauane sete. Veepinnal naftasaaduste kihti pole. | AQ70: Proov võeti pumbaga MP-1. | AR70: Proovi võtmisel 06.10.2017 oli vett VPA-s 14l, pumba sügavus oli 4,7m manteltoru otsast. Proov võeti pärast 4-kordse veekoguse välja pumpamist (23 minutit) sagedusel 110Hz. q 0,018. S 1,03 | AS70: VPA puhastada ja nõuetekohaselt likvideerida. | AT70: Kopli kaubajaama vaatluspuuraukude rajamine, Maves nr-12115
B71: VPA-7 | C71: JRA0000017 | D71: Kopli Kaubajaam | E71: 540866.16 | F71: 6589828.8 | G71: 78401:101:1602 | H71: 13.98 | I71: 0.34 | J71: 5.63 | K71: 5.8 | L71: 1.59 | M71: =H71-L71 -> 12.39 | N71: 42893 | O71: PVC 200mm: +0,20-0,80m; HDPE 90mm: +0,20-5,80m; F 1,80-5,80m | P71: Täitepinnas: muld, liiv | Q71: 1.6 | R71: Aleuriitne liivakivi aleuriitse savi vahekihtidega | AI71: Eesti Vabariik | AJ71: - | AK71: 5201679 Kai Peet; | AL71: AS Eesti Raudtee | AM71: Harju | AN71: Tallinn | AO71: Korras | AP71: VPA on terve. Avamiseks ristpea kruvikeeraja. Sisemine 90mm plasttoru 7cm välisest kaitsetorust madalamal. Algne sügavus oli 5,8m. Veepinnal naftasaaduste kihti pole. | AQ71: Proov võeti pumbaga MP-1. | AR71: Proovi võtmisel 06.10.2017 oli vett VPA-s 20l, pumba sügavus oli 4,9m manteltoru otsast. Proov võeti pärast 4-kordse veekoguse välja pumpamist (10 minutit) sagedusel 120Hz. q 0,13. S 3,7 | AS71: VPA puhastada ja nõuetekohaselt likvideerida. | AT71: Kopli kaubajaama vaatluspuuraukude rajamine, Maves nr-12116
B72: VPA-8 | C72: JRA0000017 | D72: Kopli Kaubajaam | E72: 540969.47 | F72: 6589759.9 | G72: 78401:101:1602 | H72: 13.85 | I72: 0.31 | J72: 5.67 | K72: 5.7 | L72: 1.52 | M72: =H72-L72 -> 12.33 | N72: 42893 | O72: PVC 200mm: +0,3-0,7m; HDPE 90mm: +0,3-5,7m; F 1,7-5,7m | P72: Täitepinnas: muld, liiv | Q72: 1.4 | R72: Aleuriitne liivakivi aleuriitse savi vahekihtidega | AI72: Eesti Vabariik | AJ72: - | AK72: 5201679 Kai Peet; | AL72: AS Eesti Raudtee | AM72: Harju | AN72: Tallinn | AO72: Korras | AP72: VPA on terve. Avamiseks ristpea kruvikeeraja. Sisemine 90mm plasttoru 3cm välisest kaitsetorust madalamal. Algne sügavus oli 5,7m. Veepinnal naftasaaduste kihti pole. | AQ72: Proov võeti pumbaga MP-1. | AR72: Proovi võtmisel 06.10.2017 oli vett VPA-s 23,5l, pumba sügavus oli 5,7m manteltoru otsast. Proov võeti pärast 4-kordse veekoguse välja pumpamist (22 minutit) sagedusel 120Hz. 6 minitiga sagedusel 200Hz alanes veetase pumbani. q 0,07. S 4,41 | AS72: VPA puhastada ja nõuetekohaselt likvideerida. | AT72: Kopli kaubajaama vaatluspuuraukude rajamine, Maves nr-12117
B73: VPA-9 | C73: JRA0000017 | D73: Kopli Kaubajaam | E73: 540889.36 | F73: 6589802 | G73: 78401:101:1602 | H73: 14.18 | I73: 0.6 | J73: 4.4 | K73: 5.7 | L73: 1.58 | M73: =H73-L73 -> 12.6 | N73: 42893 | O73: PVC 200mm: +0,3-0,7m; HDPE 90mm: +0,3-5,7m; F 1,7-5,7m | P73: Täitepinnas: muld, liiv | Q73: 0.8 | R73: Peenliiv: kollakashall, tihe, niiske | S73: 1.3 | T73: Murenenud liivakivi | U73: 1.6 | V73: Aleuriitne liivakivi aleuriitse savi vahekihtidega | AI73: Eesti Vabariik | AJ73: - | AK73: 5201679 Kai Peet; | AL73: AS Eesti Raudtee | AM73: Harju | AN73: Tallinn | AO73: Korras | AP73: VPA on terve. Avamiseks ristpea kruvikeeraja. Sisemine 90mm plasttoru 17cm välisest kaitsetorust madalamal. Algne sügavus oli 5,7m. Veepinnal naftasaaduste kihti pole. | AQ73: Proov võeti pumbaga MP-1. | AR73: Proovi võtmisel 06.10.2017 oli vett VPA-s 17l, pumba sügavus oli 4,9m manteltoru otsast. Proov võeti pärast 4-kordse veekoguse välja pumpamist (8 minutit) sagedusel 120Hz. q 0,14. S 3,21 | AS73: VPA puhastada ja nõuetekohaselt likvideerida. | AT73: Kopli kaubajaama vaatluspuuraukude rajamine, Maves nr-12118
A74: 19825 | B74: PA-1301 | C74: JRA0000032 | D74: Kose katlamaja | E74: 548089.14 | F74: 6591905.3 | G74: Reformimata riigimaa | H74: 3.27 | I74: 0.76 | J74: 4.95 | K74: 5.25 | L74: 1.74 | M74: =H74-L74 -> 1.53 | N74: 42893 | O74: Metall 108mm: +0,75-1,25m; HDPE: 60mm +0,75-5,25m; F 1,25-5,25m | P74: Muld: turvastunud | Q74: 0.4 | R74: Täitepinnas: killustik, segatud saviliivaga, kuiv | S74: 0.7 | T74: Peenliiv: kollakaspruun, kohev, niiske | U74: 2.2 | V74: Turvas: must, hästi lagunenud | W74: 2.8 | X74: Kruusliiv: must, kohev, märg; ei haise naftasaaduste järgi | Y74: 4.5 | Z74: Savikas tolmliiv: tumehall, pehmeplastne, saviliiva ja tolmliiva vahekihtidega | AM74: Harju | AN74: Tallinn | AO74: Korras | AP74: VPA on terve. Päise avamiseks 6-kantvõti 8. Algne sügavus oli oli 5,6m. Põhjas pehme sete. Veepinnal naftasaaduste kihti pole. | AQ74: Proov võeti pumbaga MP-1. | AR74: Proovi võtmisel 19.10.2017 oli vett VPA-s 12,5l, pumba sügavus oli 5,45m manteltoru otsast. Proov võeti pärast 4-kordse veekoguse välja pumpamist (8 minutit) sagedusel 100Hz. q 0,11. S 0,66 | AS74: VPA puhastada ja nõuetekohaselt likvideerida. | AT74: Jääkreostuse likvideerimise projekti ettevalmistus endistel militaar- ja industriaalaladel, Maves nr-5168
A75: 50435 | B75: VPA-1309 | C75: JRA0000032 | D75: Kose katlamaja | E75: 548132.07 | F75: 6591915.6 | G75: Reformimata riigimaa | H75: 2.87 | I75: 0.78 | J75: 4.9 | K75: 5.2 | L75: 1.54 | M75: =H75-L75 -> 1.33 | N75: 42893 | O75: Metall 122mm: +0,75-1,05m; HDPE 90mm +0,80-5,20m; F 1,2-5,2m | P75: Täitepinnas | Q75: 4 | R75: Keskliiv | S75: 4.5 | T75: Saviliiv | AM75: Harju | AN75: Tallinn | AO75: Korras | AP75: VPA on terve. Päise avamiseks 6-kantvõti 8. Sisemine plasttoru 3cm kaitsetorust kõrgemal. Mõõtmised on kõik tehtud kaitsetorust. Algne sügavus oli oli 5,2m. Veepinnal naftasaaduste kihti pole. | AQ75: Proov võeti pumbaga MP-1. | AR75: Proovi võtmisel 19.10.2017 oli vett VPA-s 20,7l, pumba sügavus oli 5,5m manteltoru otsast. Proov võeti pärast 4-kordse veekoguse välja pumpamist (13 minutit) sagedusel 100Hz. q 0,016. S 3,71 | AS75: VPA puhastada ja nõuetekohaselt likvideerida. | AT75: Seirepuuraugu projekt No JR13, Maves nr-10065
A76: 50436 | B76: VPA-1310 | C76: JRA0000032 | D76: Kose katlamaja | E76: 548149.16 | F76: 6591887.1 | G76: Reformimata riigimaa | H76: 3.17 | I76: 0.99 | J76: 4.75 | K76: 5.3 | L76: 1.32 | M76: =H76-L76 -> 1.85 | N76: 42893 | O76: Metall 122mm: +0,65-1,25m; HDPE 90mm +0,70-5,30m; F 1,3-5,3m | P76: Täitepinnas | Q76: 4 | R76: Keskliiv | S76: 4.5 | T76: Saviliiv | AM76: Harju | AN76: Tallinn | AO76: Avariis | AP76: Päise kinnituspolt ära murtud, kaitsetoru püütud välja tõmmata (ca 20cm). Päis tuleb ära haamriga tagudes. Kõik mõõtmised tehtud plasttoru ülemisest äärest. Plasttoru kõrgus üle maapinna 0,79m. Veepinnal naftasaaduste kihti pole. | AQ76: Proov võeti pumbaga MP-1. | AR76: Proovi võtmisel 19.10.2017 oli vett VPA-s 20,3l, pumba sügavus oli 5,3m manteltoru otsast. Proov võeti pärast 4-kordse veekoguse välja pumpamist (12 minutit) sagedusel 100Hz. q 0,1. S 1,65 | AS76: VPA puhastada ja nõuetekohaselt likvideerida. | AT76: Seirepuuraugu projekt No JR13, Maves nr-10066
A77: 19821 | B77: PA-201 | C77: JRA0000033 | D77: Kose-Risti ABT | E77: 566930.03 | F77: 6559493.1 | G77: 33801:001:0428 | H77: 65.534 | I77: 0.56 | J77: 15.6 | K77: 16 | L77: 9.31 | M77: =H77-L77 -> 56.224 | N77: 42837 | O77: Metall 108mm: +1,0-9,5m; F 93mm 9,5-16,0m | P77: Kruus: hallikaskollane, kesktihe, kuiv, sisaldab veeriste vahekihte; ei haise naftasaaduste järgi | Q77: 1.7 | R77: Saviliivmoreen: kollakashall, sitke, sisaldab kuni 30% veeriseid; alates 5 m nõrk naftasaaduste lõhn | S77: 8.6 | T77: Lubjakivi | AI77: Eesti Vabariik | AJ77: - | AM77: Harju | AN77: Kose vald | AO77: Korras | AP77: VPA on terve. Päis puudus, paigaldati uus sinine päis, avamiseks 6-kantvõti 8. Veepinnal naftasaaduste kihti pole. Algne sügavus oli oli 16m. | AQ77: Proov võeti pumbaga MP-1. | AR77: Proovi võtmisel 25.09.2017 oli vett VPA-s 36,75l, pumba sügavus oli 14,5m manteltoru otsast. Proov võeti pärast 4-kordse veekoguse välja pumpamist (13 minutit) sagedusel 200Hz. q 0,18. S 0,01 | AS77: Jätkata seiret. | AT77: Jääkreostuse likvideerimise projekti ettevalmistus endistel militaar- ja industriaalaladel, Maves nr-5168
A78: 19822 | B78: PA-202 | C78: JRA0000033 | D78: Kose-Risti ABT | E78: 566939.6 | F78: 6559426.1 | G78: 33801:001:0428 | H78: 63.2 | I78: 0.7 | K78: 4.45 | L78: =I78+4.1 -> 4.8 | M78: =H78-L78 -> 58.4 | N78: 38929 | O78: Metall 108mm: +0,7-1,55m; HDPE: 60mm +0,55-4,45m; F 1,55-4,45m | P78: Täitepinnas: peenliiv, pruunikashall, kohev, kuiv; ei haise naftasaaduste järgi | Q78: 0.4 | R78: Täitepinnas: kruus, pruunikashall, kohev, kuiv, alates 0,6m tahkunud naftasaaduste vahekihtidega | S78: 1.2 | T78: Kruus: hallikaspruun, kesktihe, niiske; haiseb naftasaaduste järgi | U78: 3.8 | V78: Saviliivmoreen: pruunikashall, poolpehme, sisaldab kuni 30% veeriseid, alates 5m sisaldab kuni 45% veeriseid; haiseb naftasaaduste järgi | AI78: Eesti Vabariik | AJ78: - | AM78: Harju | AN78: Kose vald | AO78: Hävinud/likvideeritud | AP78: Likvideeritud puhastustööde käigus 2010.a | AQ78: - | AR78: - | AS78: - | AT78: Jääkreostuse likvideerimise projekti ettevalmistus endistel militaar- ja industriaalaladel, Maves nr-5168
A79: 50433 | B79: VPA-207 | C79: JRA0000033 | D79: Kose-Risti ABT | E79: 566929.99 | F79: 6559427.3 | G79: 33801:001:0428 | H79: 63.741 | I79: 0.49 | J79: 10.15 | K79: 11.5 | L79: 7.47 | M79: =H79-L79 -> 56.271 | N79: 42837 | O79: R/Vmetall 114,3mm: +0,5-8,65m; F 93mm 8,65-11,5m | P79: Kruus | Q79: 8 | R79: Lubjakivi | AI79: Eesti Vabariik | AJ79: - | AM79: Harju | AN79: Kose vald | AO79: Korras | AP79: VPA on terve. Avamiseks 6-kantvõti 8. Veepinnal naftasaaduste kihti pole. Algne sügavus oli oli 11,5m. | AQ79: Proov võeti pumbaga MP-1. | AR79: Proovi võtmisel 25.09.2017 oli vett VPA-s 15,25l, pumba sügavus oli 10,4m manteltoru otsast. Proov võeti pärast 4-kordse veekoguse välja pumpamist (5 minutit) sagedusel 200Hz. q 0,21. S 0,08 | AS79: Jätkata seiret. | AT79: Seirepuuraugu projekt No JR02
A80: 50434 | B80: VPA-208 | C80: JRA0000033 | D80: Kose-Risti ABT | E80: 566977.39 | F80: 6559442.1 | G80: 33801:001:0428 | H80: 69.76 | I80: 0.65 | J80: 18.2 | K80: 19.7 | L80: 13.41 | M80: =H80-L80 -> 56.35 | N80: 42837 | O80: R/Vmetall 114,3mm: +0,65-14,5m; F 93mm 14,5-19,7m | P80: Kruus | Q80: 14.2 | R80: Lubjakivi | AI80: Eesti Vabariik | AJ80: - | AM80: Harju | AN80: Kose vald | AO80: Korras | AP80: VPA on terve. Avamiseks padrunvõti 17. Veepinnal naftasaaduste kihti pole. VPA Algne sügavus oli olit 19,7m. | AQ80: Proov võeti pumbaga MP-1. | AR80: Proovi võtmisel 25.09.2017 oli vett VPA-s 30,5l, pumba sügavus oli 14,6m manteltoru otsast. Proov võeti pärast 4-kordse veekoguse välja pumpamist (5 minutit) sagedusel 200Hz. q 0,14. S 0,03 | AS80: Jätkata seiret. | AT80: Seirepuuraugu projekt No JR02
A81: 19829 | B81: PA-5701 | C81: JRA0000058 | D81: Kõrkküla ABT | E81: 397034.79 | F81: 6459048 | G81: 37301:004:0112 | H81: 7.58 | I81: 0.51 | J81: 3.55 | K81: 3.5 | L81: 0.47 | M81: =H81-L81 -> 7.11 | N81: 42817 | O81: Metall 108mm: +0,5-1,5m; HDPE 60mm: +0,5-3,5m; F 0,5-3,5m | P81: Täitepinnas: muld | Q81: 0.3 | R81: Täitepinnas: Peenliiv, segamini mullaga, tumehall, kohev, märg, sisaldab õlist vett; haiseb nõrgalt naftasaaduste järgi | S81: 1.5 | T81: Peenliiv: hall, kesktihe, märg, sisaldab õlist vett; haiseb nõrgalt naftasaaduste järgi | U81: 3.4 | V81: Liivsavi: rohekashall, voolav, alates sügavusest 5,5m pruun; ei haise naftasaaduste järgi | W81: 6.5 | X81: Lubjakivi | AI81: Trevental OÜ | AJ81: 12023839 | AK81: 53310250 Uno Metsmaa; trevental@gmail.com | AM81: Saare | AN81: Kärla linn | AO81: Korras | AP81: VPA on terve. Avamiseks 6-kantvõti 8. Veepinnal naftasaaduste kihti pole. Veepinnal naftasaaduste kihti pole. | AQ81: Proov võeti pumbaga MP-1. | AR81: Proovi võtmisel 12.10.2017 oli vett VPA-s 5,9l, pumba sügavus oli 3,8m manteltoru otsast. Proov võeti pärast 4-kordse veekoguse välja pumpamist (10 minutit) sagedusel 75Hz. Pumbates 100Hz alanes veetase pumbani. q 0,04. S 1,6 | AS81: Jätkata seiret. | AT81: Jääkreostuse likvideerimise projekti ettevalmistus endistel militaar- ja industriaalaladel, Maves nr-5168
A82: 19830 | B82: PA-5711 | C82: JRA0000058 | D82: Kõrkküla ABT | E82: 397033.98 | F82: 6459050 | G82: 37301:004:0112 | H82: 7.99 | I82: 0.86 | J82: 8.09 | K82: 8.4 | L82: 0.72 | M82: =H82-L82 -> 7.27 | N82: 42817 | O82: Metall 108mm: +0,75-6,75m; 92mm: F 6,75-8,4m | P82: Täitepinnas: muld | Q82: 0.3 | R82: Täitepinnas: peenliiv, segatud mullaga, tumehall, kohev, märg, sisaldab õlist vett; haiseb nõrgalt naftasaaduste järgi | S82: 1.5 | T82: Peenliiv: hall, kesktihe, märg, sisaldab õlist vett; haiseb nõrgalt naftasaaduste järgi | U82: 3.4 | V82: Liivsavi: rohekashall, voolav, alates sügavusest 5,5m pruun; ei haise naftasaaduste järgi | W82: 6.5 | X82: Lubjakivi | AI82: Trevental OÜ | AJ82: 12023839 | AK82: 53310250 Uno Metsmaa; trevental@gmail.com | AM82: Saare | AN82: Kärla linn | AO82: Korras | AP82: VPA on terve. Avamiseks 6-kantvõti 8. Veepinnal naftasaaduste kihti pole. Veepinnal naftasaaduste kihti pole. | AQ82: Proov võeti pumbaga MP-1. | AR82: Proovi võtmisel 12.10.2017 oli vett VPA-s 55l, pumba sügavus oli 7m manteltoru otsast. Proov võeti pärast 4-kordse veekoguse välja pumpamist (13 minutit) sagedusel 200Hz. q 0,28. S 0,21 | AS82: Jätkata seiret. | AT82: Jääkreostuse likvideerimise projekti ettevalmistus endistel militaar- ja industriaalaladel, Maves nr-5168
A83: 19826 | B83: PA-1801 | C83: JRA0000043 | D83: Kärdla Naftabaas | E83: 428074.46 | F83: 6541603.3 | G83: 37101:003:0069 | H83: 2.33 | I83: 0.51 | J83: 3.83 | K83: 5.5 | L83: 1.49 | M83: =H83-L83 -> 0.84 | N83: 42818 | O83: Metall 108mm: +0,5-3,9m; 93mm: F 3,9-5,5m | P83: Täitepinnas: kruus segamini mullaga, tumehall, kohev, kuiv; ei haise naftasaaduste järgi | Q83: 0.4 | R83: Saviliivmoreen: väga kõva, kollakashall, sisaldab kuni 50% veeriseid, alates 1,6m, hall, märg; ei haise naftasaaduste järgi | S83: 2.3 | T83: Lokaalmoreen: hall, sisaldab >60% jämepurdu, märg; ei haise naftasaaduste järgi | U83: 3.5 | V83: Lubjakivi: hall | AI83: Eesti Vabariik | AJ83: - | AM83: Hiiu | AN83: Kärdla linn | AO83: Korras | AP83: VPA on terve. Avamiseks 6-kantvõti 8; Algne sügavus oli oli 5,5m. VPA töötav osa on kinni varisenud. Veepinnal naftasaaduste kilet pole. | AQ83: Proov võeti pumbaga MP-1 | AR83: Proovi võtmisel 05.04.2017 oli vett VPA-s 17,6l, pumba sügavus 4m manteltoru otsast. Proov võeti pärast 4-kordse veekoguse välja pumpamist (5 minutit) sagedusel 200Hz. q 0,27. S 0,18 | AS83: VPA tuleb puhastada esialgsele sügavusele ja jätkata seiret. | AT83: Jääkreostuse likvideerimise projekti ettevalmistus endistel militaar- ja industriaalaladel, Maves nr-5168
A84: 19858 | B84: PA-6121 | C84: JRA0000028 | D84: Kärkna ABT | E84: 654654.2 | F84: 6483315.8 | G84: 79401:001:0168 | H84: 42.85 | I84: 0.5 | K84: 5.5 | L84: 3.7 | M84: =H84-L84 -> 39.15 | N84: 39008 | O84: Metall 108mm: +0,5-1,5m; HDPE 60mm: +0,5-5,5m; F 0,5-4,5m | P84: Täitepinnas: asfalt, üksik kiht bituumenit, killustik | Q84: 0.3 | R84: Peenliiv: hallikaskollane, kohev, niiske-märg; haiseb naftasaaduste järgi, allpool 0,1m hall; ei haise naftasaaduste järgi | S84: 1.8 | T84: Saviliivmoreen: punakaspruun, sitke, sisaldab 10% veerised; ei haise naftasaaduste järgi | U84: 5.7 | V84: Peenliiv: punakaspruun, tihe, niiske; ei haise naftasaaduste järgi | AI84: aktsiaselts AQUA MARINA | AJ84: 10120426 | AK84: 5029507 Urmas.Koch@gmail.com; 6100100; info@olerex.ee | AL84: AS Olerex Vara | AM84: Tartu | AN84: Tartu vald | AO84: Hävinud/likvideeritud | AP84: VPA on hävinud. VPA on lammutusprahi all, tõenäoliselt katki. | AQ84: Proovi ei võetud. | AR84: - | AS84: Reostust pole olnud ja VPA taastamist tuleb kaaluda. | AT84: Jääkreostuse likvideerimise projekti ettevalmistus endistel militaar- ja industriaalaladel, Maves nr-5168
A85: 19859 | B85: PA-6126 | C85: JRA0000028 | D85: Kärkna ABT | E85: 654652.7 | F85: 6483313.8 | G85: 79401:001:0168 | H85: 43.1 | I85: 0.75 | K85: 10.55 | L85: =I85+3.35 -> 4.1 | M85: =H85-L85 -> 39 | N85: 39008 | O85: Metall 108mm: +0,75-1,25m; HDPE 90mm: +0,75-10,55m; F 6,55-10,55m | P85: Täitepinnas: asfalt, üksik bituumenikiht, killustik | Q85: 0.3 | R85: Peenliiv: hallikaskollane, kohev, niiske-märg; haiseb naftasaaduste järgi, allpool 0,1 m hall; ei haise naftasaaduste järgi | S85: 1.8 | T85: Saviliivmoreen: punakaspruun, sitke, sisaldab 10% veerised; ei haise naftasaaduste järgi | U85: 5.7 | V85: Peenliiv: punakaspruun, tihe, veeküllastunud; ei haise naftasaaduste järgi | AI85: aktsiaselts AQUA MARINA | AJ85: 10120426 | AK85: 5029507 Urmas.Koch@gmail.com; 6100100; info@olerex.ee | AL85: AS Olerex Vara | AM85: Tartu | AN85: Tartu vald | AO85: Hävinud/likvideeritud | AP85: VPA on hävinud. VPA on lammutusprahi all, tõenäoliselt katki. | AQ85: Proovi ei võetud. | AR85: - | AS85: Reostust pole olnud ja VPA taastamist tuleb kaaluda. | AT85: Jääkreostuse likvideerimise projekti ettevalmistus endistel militaar- ja industriaalaladel, Maves nr-5168
A86: 19831 | B86: PA-7009 | C86: JRA0000027 | D86: Lagedi ABT | E86: 552411.57 | F86: 6585366.7 | G86: 65301:003:0633 | H86: 39.5 | I86: -0.052 | J86: 5.39 | K86: 4.7 | L86: 1.88 | M86: =H86-L86 -> 37.62 | N86: 38959 | O86: Metall 108mm: +0,8-1,2m; HDPE 60mm: F +0,3-4,7m | P86: Täitepinnas: saviliiv, veerised, mullane; haiseb naftasaaduste järgi; alates 1,0m õline | Q86: 1.5 | R86: Muld, õline | S86: 2.2 | T86: Keskliiv: rohekashall, kesktihe, märg; haiseb naftasaaduste järgi | U86: 2.6 | V86: Saviliivmoreen: hall, sitke, haiseb nõrgalt naftasaaduste järgi, sisaldab 30% jämepurdu; alates 5,3m 50% jämepurdu | AI86: PVS&500 OÜ | AJ86: 12240347 | AK86: 3377110; pavel@suslov.ee | AM86: Harju | AN86: Rae vald | AO86: Korras | AP86: VPA on terve. Toru kõrgust on vähendatud, maapinda muudetud, toru ümber on paigutatud betoonrõngas ja sellest ka varasem VPA sügavuse erinevus. Avamiseks 6-kantvõti 8. Plasttoru on metallkaitsetorust 31cm madalamal. Veepinnal naftasaaduste kihti pole. | AQ86: Proov võeti pumbaga MP-1. Pump ja mõõdulint said põhjas naftasaadustega määritud. | AR86: Proovi võtmisel 25.10.2017 oli vett VPA-s 8l, pumba sügavus 5m manteltoru otsast. Proov võeti pärast 1-kordset veekoguse välja pumpamist (14 minutit) sagedusel 95Hz. q 0,009. S 3,67 | AS86: Jätkata seiret. | AT86: Jääkreostuse likvideerimise projekti ettevalmistus endistel militaar- ja industriaalaladel, Maves nr-5168
A87: 19832 | B87: PA-7010 | C87: JRA0000027 | D87: Lagedi ABT | E87: 552338.99 | F87: 6585510.5 | G87: 65301:003:0774 | H87: 40.6 | I87: 0.4 | J87: 11.2 | K87: 13 | L87: 2.84 | M87: =H87-L87 -> 37.76 | N87: 38959 | O87: Matall 108mm: +0,7-9,3m; 93mm: F 9,3-13m | P87: Täitepinnas: kruus saviliivaga, kesktihe, kollakashall, niiske | Q87: 0.7 | R87: Saviliivmoreen: kollakaspruun, sitke, 30% jämepurdu; alates 2,7m hall | S87: 8.7 | T87: Lubjakivi | AI87: PVS&500 OÜ | AJ87: 12240347 | AK87: 3377110; pavel@suslov.ee | AM87: Harju | AN87: Rae vald | AO87: Avariis | AP87: VPA kaitsetoru kõveraks sõidetud. Asub territooriumi aia taga, ligipääs keeruline. Maapinda on ümberringi muudetud. Avamiseks 6-kantvõti 8. Veepinnal naftasaaduste kihti pole. | AQ87: Proov võeti pumbaga MP-1. | AR87: Proovi võtmisel 25.10.2017 oli vett VPA-s 65l, pumba sügavus 11,3m manteltoru otsast. Proov võeti pärast 4-kordset veekoguse välja pumpamist (16 minutit) sagedusel 200Hz. q 0,27. S 0,28 | AS87: Jätkata seiret. | AT87: Jääkreostuse likvideerimise projekti ettevalmistus endistel militaar- ja industriaalaladel, Maves nr-5168
A88: 19854 | B88: PA-4515 | C88: JRA0000031 | D88: Lasila ABT | E88: 624616.85 | F88: 6569222 | G88: 66204:003:0075 | H88: 107.56 | I88: 0.63 | J88: 6.6 | K88: 6.35 | L88: 3.57 | M88: =H88-L88 -> 103.99 | N88: 42850 | O88: Metall 108mm: +0,65-1,3m; HDPE 60mm: +0,65-6,35m; F 0,35-6,35m | P88: Täitepinnas: kruus veeristega, kollakashall, kesktihe, niiske; allpool 0,2m määrdunud ja must | Q88: 0.6 | R88: Kruusliiv: kollakashall, kesktihe, niiske; ei haise naftasaaduste järgi | S88: 1 | T88: Peenliiv: kollakaspruun, kesktihe, niiske; ei haise naftasaaduste järgi | U88: 2.3 | V88: Kruusane liiv: kollakashall, kesktihe, niiske; ei haise naftasaaduste järgi | W88: 2.6 | X88: Peenliiv: kollakashall, tihe, niiske; ei haise naftasaaduste järgi | Y88: 3.2 | Z88: Peenliiv: kollakashall, tihe, niiske; ei haise naftasaaduste järgi | AA88: 6.6 | AB88: Peenliiv: kollakashall, tihe, veeküllastunud; ei haise naftasaaduste järgi | AC88: 7.4 | AD88: Kruus: kollakashall, tihe, veeküllastunud; ei haise naftasaaduste järgi | AI88: AS Lasila Betoon | AJ88: 10128422 | AK88: 3226949; lasbet@hot.ee | AM88: Lääne-Viru | AN88: Rakvere vald | AO88: Korras | AP88: VPA on terve. Maapinda VPA ümber on tõstetud ca 0,1m. Päise avamiseks 6-kantvõti 8. Veepinnal naftasaaduste kihti pole. Põhjas savikas sete. | AQ88: Proov võeti baileriga | AR88: Proovi võtmiseks 29.08.2017 pumbaga MP-1 oli vett vähe, vaid 6,2l. Proov võeti baileriga pärast 4-kordse veekoguse (25l) väljavõtmist. Veetase VPA-s taastus aeglaselt, 15 minutiga. | AS88: Jätkata seiret. | AT88: Jääkreostuse likvideerimise projekti ettevalmistus endistel militaar- ja industriaalaladel, Maves nr-5168
A89: 19855 | B89: PA-4516 | C89: JRA0000031 | D89: Lasila ABT | E89: 624647.97 | F89: 6569240.4 | G89: 66204:003:0075 | H89: 108.57 | I89: 0.67 | J89: 10.05 | K89: 10 | L89: 4.55 | M89: =H89-L89 -> 104.02 | N89: 42850 | O89: Metall 108mm: +0,7-8,4m; F 93mm: 8,4-10m | P89: Täitepinnas: kruus; ei haise naftasaaduste järgi | Q89: 0.3 | R89: Keskliiv: kollakaspruun, kesktihe, niiske, sisaldab üksikuid veeriseid; ei haise naftasaaduste järgi | S89: 4.8 | T89: Peenliiv: kollakaspruun, kesktihe, niiske, alates 4,8 m veeküllastunud, alates 5,2 m kollakashall; ei haise naftasaaduste järgi | U89: 5.8 | V89: Savikas liiv: kollakashall, kesktihe, veeküllastunud; ei haise naftasaaduste järgi | W89: 6 | X89: Kruus: kollakashall, tihe, veeküllastunud; ei haise naftasaaduste järgi | Y89: 7.6 | Z89: Lubjakivi: hall, lõheline | AI89: AS Lasila Betoon | AJ89: 10128422 | AK89: 3226949; lasbet@hot.ee | AM89: Lääne-Viru | AN89: Rakvere vald | AO89: Korras | AP89: VPA on terve. Maapind puuraugu lähiümbruses on ära kaevatud. Päise avamiseks 6-kantvõti 8. Veepinnal naftasaaduste kihti pole. | AQ89: Proov võeti pumbaga MP-1 | AR89: Proovi võtmisel 29.08.2017 oli vett VPA-s 34l, pumba sügavus 10,4m manteltoru otsast. Proov võeti pärast 4-kordse veekoguse välja pumpamist (16 minutit) sagedusel 150Hz. q 0,14. S 0,05 | AS89: Jätkata seiret. | AT89: Jääkreostuse likvideerimise projekti ettevalmistus endistel militaar- ja industriaalaladel, Maves nr-5168
B90: PA-1 | C90: JRA0000048 | D90: Maadevahe ABT | E90: 438442.69 | F90: 6473447.1 | G90: 85801:005:0278 | H90: 3.63 | I90: 0.68 | J90: 7.3 | K90: 7.3 | L90: 1.02 | M90: =H90-L90 -> 2.61 | N90: 42829 | O90: Metall 108mm: +0,65-3,4m; 93mm: F 3,4-7,3m | P90: Täitepinnas: kruus, kollakaspruun, veeristega, veeküllastunud | Q90: 1.4 | R90: Muld | S90: 1.6 | T90: Lokaalmoreen: hall, veeküllastunud, õliga läbiimbunud | U90: 3.1 | V90: Lubjakivi: hall, keskkõva | AI90: Katrin Kumm | AJ90: 46808210022 | AM90: Saare | AN90: Valjala vald | AO90: Korras | AP90: VPA on terve. Avamiseks 6-kantvõti 8. Veepinnal naftasaaduste kihti pole, kuid põhjas on vedel õli. | AQ90: Proovi ei võeta, kuna see iseloomustab vaid naftasaaduste lahustuvust vees. | AR90: - | AS90: Säilitada VPA puhastustööde tarbeks. Puhastustööde käigus tuleb selgitada, kas õlikiht VPA tühjaks pumpamise järgselt taastub. | AT90: Saare Teedevalitsuse Maadevahe bituumenibaasi põlevkiviõli reostuse uuring, Maves nr-9011
A91: 19795 | B91: PA-16 | C91: JRA0000048 | D91: Maadevahe ABT | E91: 438498.95 | F91: 6473343.3 | G91: 85801:001:1121 | H91: 4.95 | I91: 0.45 | J91: 11.1 | K91: 10.5 | L91: 2.41 | M91: =H91-L91 -> 2.54 | N91: 42829 | O91: Metall 127mm: +0,4-7,1m; 98mm: F 7,1-10,5m | P91: Täitepinnas: mullane kruus, pruun, kesktihe, niiske, sisaldab lahmakaid | Q91: 1 | R91: Saviliivmoreen: kollakaspruun, kõva, sisaldab 35% jämepurdu, alates sügavusest 2,5m hall, sisaldab 45% jämepurdu ja lubjakivi lahmakaid; nõrga kütusehaisuga, allosas sisaldab õliklimpidega vett | S91: 3.8 | T91: Lubjakivi: hall, keskkõva; sisaldab õliklimpidega vett | AI91: Eesti Vabariik | AJ91: - | AM91: Saare | AN91: Valjala vald | AO91: Korras | AP91: VPA on terve. Avamiseks padrunvõti 14. Veepinnal naftasaaduste kihti ega põhjas paksu õli pole. | AQ91: Proov võeti pumbaga MP-1. | AR91: Proovi võtmisel 12.10.2017 oli vett VPA-s 64l, pumba sügavus 9m manteltoru otsast. Proov võeti pärast 1-kordset veekoguse välja pumpamist (5 minutiga alanes veetase pumbani) sagedusel 200Hz. q 0,28. S 6,64 | AS91: Jätkata seiret. | AT91: Endise Maadevahe bituumenibaasi pinna- ja põhjavee õlireostus (JRK-74), Maves nr-5197
A92: 19796 | B92: PA-17 | C92: JRA0000048 | D92: Maadevahe ABT | E92: 438348.29 | F92: 6473207 | G92: 85801:005:0136 | H92: 4.76 | I92: 0.73 | J92: 15.7 | K92: 15.6 | L92: 2.09 | M92: =H92-L92 -> 2.67 | N92: 42829 | O92: Metall 127mm: +0,7-6,4m; 98mm: F 6,4-15,6m | P92: Saviliivmoreen: kollakaspruun, kõva, sisaldab jämepurdu ja lubjakivi lahmakaid | Q92: 3.2 | R92: Lubjakivi: hall, keskkõva | AI92: Olavi Heinlo | AJ92: 37505180227 | AM92: Saare | AN92: Valjala vald | AO92: Korras | AP92: VPA on terve. Avamiseks padrunvõti 14. Veepinnal naftasaaduste kihti ega põhjas paksu õli pole. | AQ92: Proov võeti pumbaga MP-1. | AR92: Proovi võtmisel 12.10.2017 oli vett VPA-s 101l, pumba sügavus 9m manteltoru otsast. Proov võeti pärast 1-kordset veekoguse välja pumpamist (10 minutiga alanes veetase pumbani) sagedusel 150Hz. q 0,18. S 6,95 | AS92: Jätkata seiret. | AT92: Endise Maadevahe bituumenibaasi pinna- ja põhjavee õlireostus (JRK-74), Maves nr-5197
B93: VPA-1 | C93: JRA0000048 | D93: Maadevahe ABT | E93: 438453.23 | F93: 6473329.1 | G93: 85801:001:1121 | H93: 5.14 | I93: 0.42 | J93: 5.1 | K93: 5.1 | L93: 2.01 | M93: =H93-L93 -> 3.13 | N93: 42829 | O93: Metall 108mm: +0,4-3,6m; 93mm: F 3,6-5,1m | P93: Täitepinnas: kruus, liivane, pruun, kesktihe, niiske; sisaldab hangunud õliviirge | Q93: 1.2 | R93: Saviliivmoreen: kollakaspruun, kõva, sisaldab >35% jämepurdu, alates 2,6m hall, sisaldab 45% jämepurdu ja lubjakivi lahmakaid; haiseb nõrgalt naftasaaduste järgi, allosas õliklimpidega vett | S93: 3.5 | T93: Lubjakivi: hall, keskkõva | AI93: Eesti Vabariik | AJ93: - | AM93: Saare | AN93: Valjala vald | AO93: Korras | AP93: VPA on terve. Avamiseks padrunvõti 14. Veepinnal naftasaaduste kihti pole, kuid põhjas on paks vedel õli | AQ93: Proovi ei võeta, kuna see iseloomustab vaid naftasaaduste lahustuvust vees. | AR93: - | AS93: Säilitada VPA puhastustööde tarbeks. Puhastustööde käigus tuleb selgitada, kas õlikiht VPA tühjaks pumpamise järgselt taastub. | AT93: Endise Maadevahe bituumenibaasi jääkreostuse uurimine ja seirevõrgu rajamine, Maves nr-4096
B94: VPA-2 | C94: JRA0000048 | D94: Maadevahe ABT | E94: 438371.21 | F94: 6473333.6 | G94: 85801:005:0278 | H94: 5.34 | I94: 0.19 | J94: 4.6 | K94: 5.2 | L94: 2.67 | M94: =H94-L94 -> 2.67 | N94: 42829 | O94: Metall 108mm: +0,2-3,8m; 93mm: F 3,8-5,2m | P94: Täitepinnas: kruus, liivane, pruun, kesktihe, niiske | Q94: 1.9 | R94: Saviliivmoreen: kollakaspruun, kõva, sisaldab >35% jämepurdu | S94: 3.4 | T94: Lokaalmoreen: sisaldab õlist vett | U94: 5.1 | V94: Lubjakivi: hall, keskkõva; sisaldab õlihaisuga vett | AI94: Katrin Kumm | AJ94: 46808210022 | AM94: Saare | AN94: Valjala vald | AO94: Korras | AP94: VPA on terve. Avamiseks padrunvõti 14. Algne VPA sügavus oli 5,6m. Veepinnal naftasaaduste kihti ega põhjas paksu õli pole. | AQ94: Proov võeti pumbaga MP-1. Võib esineda võimalus, et naftasaadused tulevad pumpamisel VPA-sse. | AR94: Proovi võtmisel 12.10.2017 oli vett VPA-s 18l, pumba sügavus 4,8m manteltoru otsast. Proov võeti pärast 4-kordse veekoguse välja pumpamist (10 minutit) sagedusel 113Hz. Vesi haises naftasaaduste ja/või põlevkiviõli järgi. q 0,11. S 0,76 | AS94: Jätkata seiret. | AT94: Endise Maadevahe bituumenibaasi jääkreostuse uurimine ja seirevõrgu rajamine, Maves nr-4096
B95: VPA-3 | C95: JRA0000048 | D95: Maadevahe ABT | E95: 438368.76 | F95: 6473422.1 | G95: 85801:005:0278 | H95: 3.48 | I95: 0.57 | J95: 4.04 | K95: 4 | L95: 0.96 | M95: =H95-L95 -> 2.52 | N95: 42829 | O95: Metall 108mm: +0,55-2,95m; 93mm: F 2,95-4,0m | P95: Täitepinnas: kruus, liivane, pruun, kesktihe, märg; kütusehaisuga | Q95: 1.4 | R95: Muld: kütusehaisuga | S95: 1.8 | T95: Saviliivmoreen: kollakaspruun, pehmeplastne, sisaldab >35% jämepurdu ja õliklimpidega vett | U95: 2.8 | V95: Lokaalmoreen: sisaldab õlist vett | W95: 3.4 | X95: Lubjakivi: hall, keskkõva; sisaldab õliklimpidega vett | AI95: Katrin Kumm | AJ95: 46808210022 | AM95: Saare | AN95: Valjala vald | AO95: Korras | AP95: VPA on terve. Avamiseks kuuskantvõti 8. Veepinnal naftasaaduste kihti pole, kuid põhjas on 32cm paksu vedelat õli. | AQ95: Proovi ei võeta, kuna see iseloomustab vaid naftasaaduste lahustuvust vees. | AR95: - | AS95: Säilitada VPA puhastustööde tarbeks. Puhastustööde käigus tuleb selgitada, kas õlikiht VPA tühjaks pumpamise järgselt taastub. | AT95: Endise Maadevahe bituumenibaasi jääkreostuse uurimine ja seirevõrgu rajamine, Maves nr-4096
B96: VPA-4 | C96: JRA0000048 | D96: Maadevahe ABT | E96: 438416.35 | F96: 6473450.1 | G96: 85801:001:1121 | H96: 3.38 | I96: 0.27 | J96: 4.04 | K96: 4 | L96: 1.04 | M96: =H96-L96 -> 2.34 | N96: 42829 | O96: Metall 108mm: +0,25-3,25m; 93mm: F 3,25-4,0m | P96: Täitepinnas: saviliiv veeristega, pruunikashall, plastne | Q96: 0.3 | R96: Täitepinnas: saviliiv, pruunikashall, plastne, allosas liivsavi vahekihtidega, nõrga kütusehaisuga | S96: 2.8 | T96: Liivsavi: sinakashall, pehmeplastne, õhukeste liiva vahekihtidega | U96: 3.2 | V96: Saviliivmoreen: hall, pehmeplastne, sisaldab >35% jämepurdu ja õliklimpidega vett | W96: 3.5 | X96: Lubjakivi: hall, keskkõva; sisaldab õlihaisuga vett | AI96: Eesti Vabariik | AJ96: - | AM96: Saare | AN96: Valjala vald | AO96: Korras | AP96: VPA on terve. Avamiseks padrunvõti 14. Veepinnal naftasaaduste kihti pole, kuid põhjas on 10cm paksu õli. | AQ96: Proovi ei võeta, kuna see iseloomustab vaid naftasaaduste lahustuvust vees. | AR96: - | AS96: Säilitada VPA puhastustööde tarbeks. Puhastustööde käigus tuleb selgitada, kas õlikiht VPA tühjaks pumpamise järgselt taastub. | AT96: Endise Maadevahe bituumenibaasi jääkreostuse uurimine ja seirevõrgu rajamine, Maves nr-4096
B97: VPA-4a | C97: JRA0000048 | D97: Maadevahe ABT | E97: 438416.67 | F97: 6473449.4 | G97: 85801:001:1121 | H97: 3.58 | I97: 0.48 | J97: 3.45 | K97: 3.35 | L97: 1.23 | M97: =H97-L97 -> 2.35 | N97: 42829 | O97: Metall 108mm: +0,45-1,55m; PVC 63mm: 0,45-3,35m F 1,35-3,35m | P97: Täitepinnas: saviliiv veeristega, pruunikashall, plastne | Q97: 0.3 | R97: Täitepinnas: saviliiv, pruunikashall, plastne, allosas liivsavi vahekihtidega, nõrga kütusehaisuga | S97: 2.8 | T97: Liivsavi: sinakashall, pehmeplastne, õhukeste liiva vahekihtidega | U97: 3.2 | V97: Saviliivmoreen: hall, pehmeplastne, sisaldab >35% jämepurdu ja õliklimpidega vett | W97: 3.5 | X97: Lubjakivi: hall, keskkõva; sisaldab õlihaisuga vett | AI97: Eesti Vabariik | AJ97: - | AM97: Saare | AN97: Valjala vald | AO97: Korras | AP97: VPA on terve. Avamiseks padrunvõti 14; sisemine plasttoru +0,43m maapinnast. Veepinnal naftasaaduste kihti pole, kuid põhjas on pehme sete - õli. | AQ97: Proovi ei võeta, kuna see iseloomustab vaid naftasaaduste lahustuvust vees. | AR97: - | AS97: Säilitada VPA puhastustööde tarbeks. Puhastustööde käigus tuleb selgitada, kas õlikiht VPA tühjaks pumpamise järgselt taastub. | AT97: Endise Maadevahe bituumenibaasi jääkreostuse uurimine ja seirevõrgu rajamine, Maves nr-4096
B98: VPA-5 | C98: JRA0000048 | D98: Maadevahe ABT | E98: 438488.48 | F98: 6473404.2 | G98: 85801:001:1121 | H98: 3.01 | I98: 0.06 | J98: 3.8 | K98: 4 | L98: 0.74 | M98: =H98-L98 -> 2.27 | N98: 42829 | O98: Metall 108mm: +0,1-2,9m; 93mm: F 2,9-4,0m | P98: Muld | Q98: 0.1 | R98: Täitepinnas: saviliiv, veeristega, kollakashall, plastne | S98: 1.3 | T98: Saviliivmoreen: hall, pehmeplastne, sisaldab kruusa ja >35% jämepurdu ning õliklimpidega vett | U98: 3.1 | V98: Lubjakivi: hall, keskkõva; sisaldab õliklimpidega vett | AI98: Eesti Vabariik | AJ98: - | AM98: Saare | AN98: Valjala vald | AO98: Korras | AP98: VPA on terve. Avamiseks padrunvõti 14. VPA on võrreldes rajatuga 0,2m madalam. Veepinnal naftasaaduste kihti pole, kuid põhjas 3,7-3,8m on paks õli. | AQ98: Proovi ei võeta, kuna see iseloomustab vaid naftasaaduste lahustuvust vees. | AR98: - | AS98: Säilitada VPA puhastustööde tarbeks. Puhastustööde käigus tuleb selgitada, kas õlikiht VPA tühjaks pumpamise järgselt taastub. | AT98: Endise Maadevahe bituumenibaasi jääkreostuse uurimine ja seirevõrgu rajamine, Maves nr-4096
B99: VPA-14 | C99: JRA0000048 | D99: Maadevahe ABT | E99: 438423.09 | F99: 6473415.6 | G99: 85801:001:1121 | H99: 5.01 | I99: 0.43 | J99: 3.88 | K99: 3.8 | L99: 2.24 | M99: =H99-L99 -> 2.77 | N99: 42829 | O99: Metall 108mm: +0,45-1,55m; PVC 63mm: +0,2-3,8m; F 1,8-3,8m | P99: Täitepinnas: saviliiva vahetäitega veeristik, hall, kuiv, sisaldab munakaid | Q99: 0.6 | R99: Täitepinnas: saviliiv mullane, veeriste ja lahmakatega, plastne; vahemikus 0,8-1,5m bituumeniga segunenud, alates sügavusest 1,5 m kõva | S99: 1.8 | T99: Saviliivmoreen: hall, voolavplastne, sisaldab 35% jämepurdu ja õliklimpidega vett | U99: 4.2 | V99: Lubjakivi | AI99: Eesti Vabariik | AJ99: - | AM99: Saare | AN99: Valjala vald | AO99: Korras | AP99: VPA on terve. Avamiseks 6-kantvõti 8; sisemine plasttoru +0,16m maapinnast. Veepinnal naftasaaduste kihti pole, kuid põhjas on pehme sete - õli. | AQ99: Proovi ei võeta, kuna see iseloomustab vaid naftasaaduste lahustuvust vees. | AR99: - | AS99: Säilitada VPA puhastustööde tarbeks. Puhastustööde käigus tuleb selgitada, kas õlikiht VPA tühjaks pumpamise järgselt taastub. | AT99: Endise Maadevahe bituumenibaasi jääkreostuse uurimine ja seirevõrgu rajamine, Maves nr-4096
B100: VPA-15 | C100: JRA0000048 | D100: Maadevahe ABT | E100: 438455.09 | F100: 6473432.4 | G100: 85801:005:0278 | H100: 3.7 | I100: 0.63 | J100: 3 | K100: 3.1 | L100: 1.32 | M100: =H100-L100 -> 2.38 | N100: 42829 | O100: Metall 108mm: +0,55-1,45m; PVC 63mm: +0,1-3,1m; F 1,1-3,1m | P100: Täitepinnas: saviliiv, veeristega, pruunikashall, kõva, sisaldab hangunud pigi vahekihte | Q100: 1.2 | R100: Turvas: mustjaspruun | S100: 1.5 | T100: Liivsavi: rohekashall, pehmeplastne | U100: 2.4 | V100: Saviliivmoreen: hall, pehmpeplastne, sisaldab jämepurdu 30%; nõrga kütusehaisuga, allosas sisaldab õliklimpidega vett | W100: 3.3 | X100: Lubjakivi | AI100: Katrin Kumm | AJ100: 46808210022 | AM100: Saare | AN100: Valjala vald | AO100: Korras | AP100: VPA on terve. Avamiseks 6-kantvõti 8. Veepinnal naftasaaduste kihti pole, kuid põhjas on pehme sete - õli. | AQ100: Proovi ei võeta, kuna see iseloomustab vaid naftasaaduste lahustuvust vees. | AR100: - | AS100: Säilitada VPA puhastustööde tarbeks. Puhastustööde käigus tuleb selgitada, kas õlikiht VPA tühjaks pumpamise järgselt taastub. | AT100: Endise Maadevahe bituumenibaasi jääkreostuse uurimine ja seirevõrgu rajamine, Maves nr-4096
...

Sheet Töötlus
A1: Kataster | B1: Uuringupunkti_nr | C1: JRO | D1: Uuringuala | E1: X lambert | F1: Y lambert | G1: Maaüksuse katastritunnus | H1: Suudme_(toru)_ABS | I1: Toru_üle_maapinna | J1: PA_sygavus_maapinnast | K1: PA_algne_sygavus_maapinnast | L1: Veetase_suudmest_(torust) | M1: Veetaseeme_ABS | N1: Veetaseme_kuupäev | O1: Algne_konstruktsioon | P1: KIHT1 | Q1: K2_ALG | R1: KIHT2 | S1: K3_ALG | T1: KIHT3 | U1: K4_ALG | V1: KIHT4 | W1: K5_ALG | X1: KIHT5 | Y1: K6_ALG | Z1: KIHT6 | AA1: K7_ALG | AB1: KIHT7 | AC1: K8_ALG | AD1: KIHT8 | AE1: K9_ALG | AF1: KIHT9 | AG1: K10_ALG | AH1: KIHT10 | AI1: Maaomanik | AJ1: Reg_nr_isikukood | AK1: Kontaktid | AL1: Maa_kasutaja | AM1: Maakond | AN1: Vald_linn | AO1: VPA_seisund | AP1: Märkused | AQ1: Proovivõtmise_tingimused | AR1: Ettepanekud | AS1: Esialgsed andmed_ Töö_nimetus_nr | CI1: =AO1 -> VPA_seisund | CJ1: =AP1 -> Märkused | CK1: =AQ1 -> Proovivõtmise_tingimused | CL1: =AR1 -> Ettepanekud | CM1: =AS1 -> Esialgsed andmed_ Töö_nimetus_nr
A2: 19845 | B2: PA-2434 | C2: JRA0000020 | D2: Ahtme mnt 86 ABT | E2: 695443.3 | F2: 6579869.4 | G2: 32206:002:0014 | H2: 70.08 | I2: 0.55 | J2: 18.04 | K2: 20.35 | L2: 12.83 | M2: =H2-L2 -> 57.25 | N2: 42843 | O2: Metall 108mm: +0,55-4,60m; 93mm F 4,60-20,35m | P2: Täitepinnas: killustik, ehituskivide tükid, tahkunud bituumeni vahekihid; ei haise naftasaaduste järgi; alates 1,1m muld, keskliija saviliiv; ei haise naftasaaduste järgi | Q2: 2.1 | R2: Turvas: pruun, halvasti lagunenud; ei haise naftasaaduste järgi | S2: 2.3 | T2: Kruusliiv: pruun, kesktihe, veeküllastunud; ei haise naftasaaduste järgi | U2: 2.6 | V2: Saviliivmoreen: kollakaspruun, sitke, sisaldab 10% jämepurdu; ei haise naftasaaduste järgi, alates 3,2m rohekashall; ei haise naftasaaduste järgi | W2: 4.1 | X2: Lubjakivi: hall, lõheline; lõhed 9,0; 11,5; 18 ja 20,3m (sügavusel 20,3m põlevkivi kiht) | AI2: Eesti Vabariik; AS Tref | AJ2: -; 10080052 | AK2: 5241515 Sergei Bogdanov; 7371700; moonika@tref.ee | AL2: AS Tref | AM2: Ida-Viru | AN2: Kohtla-Järve linn | AO2: =algandmed!AP2 -> VPA on terve. Avamiseks 6-kantvõti 8. Veepinnal naftasaaduste kihti pole. Algne sügavus oli oli 20,35m. | AP2: =algandmed!AQ2 -> Proov võeti baileriga. Vesi taastus aeglaselt. | AQ2: =algandmed!AR2 -> Proovi võtmisel 28.08.2017 pumbaga MP-1 oli vett VPA-s 40l, pumba sügavus 17,2m manteltoru otsast. Pumbates 200Hz alanes veetase 4 minutiga pumbani, rohke sete ummistas pumba. Proov võeti baileriga pärast 1-kordse veekoguse väljapumpamist. | AR2: =algandmed!AS2 -> Jätkata seiret. | AS2: Jääkreostuse likvideerimise projekti ettevalmistus endistel militaar- ja industriaalaladel, Maves nr-5168 | AU2: =LEN(A2) -> 5 | AV2: =LEN(B2) -> 7 | AW2: =LEN(C2) -> 10 | AX2: =LEN(D2) -> 16 | AY2: =LEN(E2) -> 8 | AZ2: =LEN(F2) -> 10 | BA2: =LEN(G2) -> 14 | BB2: =LEN(H2) -> 5 | ... CM2: =LEN(AS2) -> 105 | CN2: =SUM(AU2:CM2) -> 1322
A3: 19846 | B3: PA-2435 | C3: JRA0000020 | D3: Ahtme mnt 86 ABT | E3: 695275.1 | F3: 6579913.3 | G3: 32206:002:0002 | H3: 71.3 | I3: 0.54 | J3: 19.2 | K3: 19.7 | L3: 15.29 | M3: =H3-L3 -> 56.01 | N3: 42843 | O3: Metall 108mm: +0,50-4,30m; 93mm: F 4,30-19,70m | P3: Täitepinnas: muld, liiv; ei haise naftasaaduste järgi | Q3: 0.8 | R3: Täitepinnas: liiv, reostunud õline kiht, haiseb põlevkiviõli järgi | S3: 0.9 | T3: Muld: ei haise naftasaaduste järgi | U3: 1 | V3: Liiv: vaheldumisi tolmliiva ja peenliiva kihid, kollakaspruun, kesktihe, veeküllastunud; ei haise naftasaaduste järgi | W3: 1.4 | X3: Saviliivmoreen: pruunikashall, sitke, sisaldab 10% jämepurdu; ei haise naftasaaduste järgi, alates 2,0m rohekashall, alates 2,5m sinakashall | Y3: 4 | Z3: Lubjakivi: hall, lõheline, mõnevõrra savikas; lõhed 17,3 ja 18,0m (sügavusel 17,3m põlevkivi kiht) | AI3: Eesti Vabariik; Eesti Energia Kaevandused AS | AJ3: -; 10032389 | AK3: -; kaevandused@energia.ee | AL3: AS Tref | AM3: Ida-Viru | AN3: Kohtla-Järve linn | AO3: =algandmed!AP3 -> VPA on terve. Avamiseks 6-kantvõti 8. Veepinnal naftasaaduste kihti pole. Algne sügavus oli oli 19,7m. | AP3: =algandmed!AQ3 -> Proov võeti baileriga. Vesi taastus aeglaselt. | AQ3: =algandmed!AR3 -> Proovi võtmisel 28.08.2017 pumbaga MP-1 oli vett VPA-s 30l, pumba sügavus 19m manteltoru otsast. Pumbates 250Hz alanes veetase 3 minutiga pumbani, rohke sete ummistas pumba. Proov võeti baileriga pärast 1-kordse veekoguse väljapumpamist. | AR3: =algandmed!AS3 -> Jätkata seiret. | AS3: Jääkreostuse likvideerimise projekti ettevalmistus endistel militaar- ja industriaalaladel, Maves nr-5168 | AU3: =LEN(A3) -> 5 | AV3: =LEN(B3) -> 7 | AW3: =LEN(C3) -> 10 | AX3: =LEN(D3) -> 16 | AY3: =LEN(E3) -> 8 | AZ3: =LEN(F3) -> 10 | BA3: =LEN(G3) -> 14 | BB3: =LEN(H3) -> 4 | ... CM3: =LEN(AS3) -> 105 | CN3: =SUM(AU3:CM3) -> 1283
B4: VPA-3 | C4: JRA0000020 | D4: Ahtme mnt 86 ABT | E4: 695332.66 | F4: 6579958.8 | G4: 32206:002:0015 | H4: 71.24 | I4: 0.83 | J4: 5.25 | K4: 5.25 | L4: 1.06 | M4: =H4-L4 -> 70.18 | N4: 42843 | O4: Metall 114mm: +0,75-0,75m; HDPE: 90mm: +0,75-5,25m; F 0,75-5,25m | P4: Täitepinnas | Q4: 0.3 | R4: Muld ja turvas | S4: 0.9 | T4: Saviliivmoreen | U4: 4.1 | V4: Lubjakivi | AI4: Eesti Vabariik | AJ4: - | AM4: Ida-Viru | AN4: Kohtla-Järve linn | AO4: =algandmed!AP4 -> VPA on terve. Avamiseks 6-kantvõti 8. Veepinnal paks naftasaaduste kiht (fenool). Sügavusel 5,57-6,06m (toru otsast) paks õli. | AP4: =algandmed!AQ4 -> Proovi ei võeta, kuna see iseloomustab vaid naftasaaduste lahustuvust vees. | AQ4: =algandmed!AR4 -> - | AR4: =algandmed!AS4 -> Tühjendada VPA naftasaadustest (vajadusel korduvalt) ja jätkata seiret. | AS4: Seirepuuraugu projekt No JR24 (VPA-3), Maves nr-11101 | AU4: =LEN(A4) -> 0 | AV4: =LEN(B4) -> 5 | AW4: =LEN(C4) -> 10 | AX4: =LEN(D4) -> 16 | AY4: =LEN(E4) -> 9 | AZ4: =LEN(F4) -> 10 | BA4: =LEN(G4) -> 14 | BB4: =LEN(H4) -> 5 | ... CM4: =LEN(AS4) -> 53 | CN4: =SUM(AU4:CM4) -> 582
B5: VPA-4 | C5: JRA0000020 | D5: Ahtme mnt 86 ABT | E5: 695303.18 | F5: 6579828.4 | G5: 32206:002:0014 | H5: 71.32 | I5: 0.69 | J5: 5.22 | K5: 5.35 | L5: 1.08 | M5: =H5-L5 -> 70.24 | N5: 42843 | O5: Metall 114mm: +0,65-0,85m; HDPE: 90mm: +0,65-5,35m; F 0,65-5,35m | P5: Täitepinnas | Q5: 0.5 | R5: Muld | S5: 0.8 | T5: Saviliivmoreen | U5: 3.6 | V5: Lubjakivi | AI5: Eesti Vabariik; AS Tref | AJ5: -; 10080052 | AK5: 5241515 Sergei Bogdanov; 7371700; moonika@tref.ee | AL5: AS Tref | AM5: Ida-Viru | AN5: Kohtla-Järve linn | AO5: =algandmed!AP5 -> VPA on terve. Avamiseks 6-kantvõti 8. Plasttoru 1,5cm metalltorust madalamal. Veepinnal naftasaaduste kihti pole. Algne sügavus oli oli 5,35m. | AP5: =algandmed!AQ5 -> Proov võeti baileriga | AQ5: =algandmed!AR5 -> Proovi võtmiseks 28.08.2017 pumbaga MP-1 oli vähe vett. Veetase alanes pumbani 6 minutiga. Proov võeti baileriga pärast VPA 1-kordset tühjendamist. Vee juurdevool VPA-sse on vähene. | AR5: =algandmed!AS5 -> Jätkata seiret. | AS5: Seirepuuraugu projekt No JR24 (VPA-4 ja VPA-5), Maves nr-11101 | AU5: =LEN(A5) -> 0 | AV5: =LEN(B5) -> 5 | AW5: =LEN(C5) -> 10 | AX5: =LEN(D5) -> 16 | AY5: =LEN(E5) -> 9 | AZ5: =LEN(F5) -> 10 | BA5: =LEN(G5) -> 14 | BB5: =LEN(H5) -> 5 | ... CM5: =LEN(AS5) -> 62 | CN5: =SUM(AU5:CM5) -> 742
B6: VPA-5 | C6: JRA0000020 | D6: Ahtme mnt 86 ABT | E6: 695368.67 | F6: 6579821.8 | G6: 32206:002:0014 | H6: 71.69 | I6: 0.76 | J6: 5.35 | K6: 5.35 | L6: 3.62 | M6: =H6-L6 -> 68.07 | N6: 42843 | O6: Metall 114mm: +0,7-0,8m; HDPE: 90mm: +0,7-5,35m; F 0,8-5,35m | P6: Täitepinnas | Q6: 1.2 | R6: Liiv | S6: 2 | T6: Saviliiv | U6: 2.9 | V6: Saviliivmoreen | W6: 4.9 | X6: Lubjakivi | AI6: Eesti Vabariik; AS Tref | AJ6: -; 10080052 | AK6: 5241515 Sergei Bogdanov; 7371700; moonika@tref.ee | AL6: AS Tref | AM6: Ida-Viru | AN6: Kohtla-Järve linn | AO6: =algandmed!AP6 -> VPA on terve. Avamiseks 6-kantvõti 8. Plasttoru 2cm metalltorust madalamal. Veepinnal naftasaaduste kihti pole. | AP6: =algandmed!AQ6 -> Proov võeti baileriga | AQ6: =algandmed!AR6 -> Proovi võtmiseks 28.08.2017 pumbaga MP-1 oli vähe vett. Veetase alanes pumbani 5 minutiga. Vee juurdevool VPA-sse on vähene. Proov võeti baileriga pärast VPA 1-kordset tühjendamist. | AR6: =algandmed!AS6 -> Jätkata seiret. | AS6: Seirepuuraugu projekt No JR24 (VPA-4 ja VPA-5), Maves nr-11101 | AU6: =LEN(A6) -> 0 | AV6: =LEN(B6) -> 5 | AW6: =LEN(C6) -> 10 | AX6: =LEN(D6) -> 16 | AY6: =LEN(E6) -> 9 | AZ6: =LEN(F6) -> 10 | BA6: =LEN(G6) -> 14 | BB6: =LEN(H6) -> 5 | ... CM6: =LEN(AS6) -> 62 | CN6: =SUM(AU6:CM6) -> 716
A7: 19847 | B7: PA-2520 | C7: JRA0000078 | D7: Ahtme mnt 88 ABT | E7: 695071.03 | F7: 6579831 | G7: 32206:002:0015 | H7: 72.26 | I7: 0.63 | J7: 11.35 | K7: 11.35 | L7: 6.88 | M7: =H7-L7 -> 65.38 | N7: 42843 | O7: Metall 108mm: +0,6-4,2m; 93mm F 4,2-11,35m | P7: Täitepinnas: ehituskivide tükid, saviliiv, kruus; ei haise naftasaaduste järgi | Q7: 0.9 | R7: Muld: ei haise naftasaaduste järgi | S7: 1.2 | T7: Turvas: pruun, keskmiselt lagunenud; ei haise naftasaaduste järgi | U7: 1.5 | V7: Peenliiv: pruunikashall, kesktihe, veeküllastunud; ei haise naftasaaduste järgi | W7: 1.7 | X7: Saviliiv: kollakashall, sitke; ei haise naftasaaduste järgi | Y7: 2 | Z7: Kruus: pruunikashall, kesktihe, veeküllastunud; ei haise naftasaaduste järgi | AA7: 2.2 | AB7: Saviliivmoreen: kollakashall, sitke, sisaldab 10% jämepurdu; ei haise naftasaaduste järgi, alates 2,6 m rohekashall | AC7: 3.7 | AD7: Lubjakivi: hall, lõheline | AI7: Eesti Vabariik | AJ7: - | AM7: Ida-Viru | AN7: Kohtla-Järve linn | AO7: =algandmed!AP7 -> VPA on terve. Avamiseks 6-kantvõti 8. Veepinnal naftasaaduste kihti pole. | AP7: =algandmed!AQ7 -> Proov võeti baileriga | AQ7: =algandmed!AR7 -> Proovi võtmisel 28.08.2017 pumbaga MP-1 oli vett vaid 0,42m. Pump vett üles ei toonud. Proov võeti baileriga pärast VPA 1-kordset tühjendamist. Vesi oli savine | AR7: =algandmed!AS7 -> Jätkata seiret. | AS7: Jääkreostuse likvideerimise projekti ettevalmistus endistel militaar- ja industriaalaladel, Maves nr-5168 | AU7: =LEN(A7) -> 5 | AV7: =LEN(B7) -> 7 | AW7: =LEN(C7) -> 10 | AX7: =LEN(D7) -> 16 | AY7: =LEN(E7) -> 9 | AZ7: =LEN(F7) -> 10 | BA7: =LEN(G7) -> 14 | BB7: =LEN(H7) -> 5 | ... CM7: =LEN(AS7) -> 105 | CN7: =SUM(AU7:CM7) -> 1109
A8: 19848 | B8: PA-2521 | C8: JRA0000078 | D8: Ahtme mnt 88 ABT | E8: 694956.1 | F8: 6579882.2 | G8: 32206:002:0001 | H8: 72.55 | I8: 0.55 | K8: 11.3 | L8: =I8+8.45 -> 9 | M8: =H8-L8 -> 63.55 | N8: 38848 | O8: Metall 108mm: +0,55-5,45m; 93mm F 5,45-11,3m | P8: Täitepinnas: ehituskivide tükid, killustik, liiv; ei haise naftasaaduste järgi | Q8: 0.6 | R8: Muld: ei haise naftasaaduste järgi | S8: 0.7 | T8: Peenliiv: pruun, kesktihe, veeküllastunud; haiseb naftasaaduste järgi | U8: 1.4 | V8: Saviliivmoreen: rohekashall, sitke, sisaldab 15% jämepurdu; haiseb naftasaaduste järgi | W8: 1.7 | X8: Saviliivmoreen: rohekashall, sitke, sisaldab 15% jämepurdu; ei haise naftasaaduste järgi | Y8: 4.9 | Z8: Lubjakivi: üksikud lõheds, vesi ilmus alates lõhest sügavusest 8,7m | AI8: OÜ Coniery | AJ8: 10401763 | AK8: 5063534; 3361303, 3361459; coniery@hot.ee | AL8: OÜ Coniery | AM8: Ida-Viru | AN8: Kohtla-Järve linn | AO8: =algandmed!AP8 -> VPA on hävinud. | AP8: =algandmed!AQ8 -> - | AQ8: =algandmed!AR8 -> - | AR8: =algandmed!AS8 -> - | AS8: Jääkreostuse likvideerimise projekti ettevalmistus endistel militaar- ja industriaalaladel, Maves nr-5168 | AU8: =LEN(A8) -> 5 | AV8: =LEN(B8) -> 7 | AW8: =LEN(C8) -> 10 | AX8: =LEN(D8) -> 16 | AY8: =LEN(E8) -> 8 | AZ8: =LEN(F8) -> 9 | BA8: =LEN(G8) -> 14 | BB8: =LEN(H8) -> 5 | ... CM8: =LEN(AS8) -> 105 | CN8: =SUM(AU8:CM8) -> 791
B9: PA-1 | C9: JRA0000037 | D9: Balti laevaremonditehas | E9: 537534 | F9: 6591493 | G9: 78408:806:0100 | H9: 3.35 | K9: 4.8 | L9: 3.45 | M9: =H9-L9 -> -0.1 | N9: 36845 | P9: Täitepinnas: muld, liiv, lubjakivi lahmakad, ehituspraht tihenenud. Alates sügavusest 3,45 maapinnast veeküllastunud | AI9: MaCat Investment OÜ | AJ9: 12198214 | AK9: 5052017 Margus Salu; 6092800; 5105905; sergei@dekoil.ee | AM9: Harju | AN9: Tallinn | AO9: =algandmed!AP9 -> VPA on hävinud. | AP9: =algandmed!AQ9 -> - | AQ9: =algandmed!AR9 -> - | AR9: =algandmed!AS9 -> - | AS9: Kopli ps Kopli lahe äärse maa-ala reostusuuringud II, Maves 2120 | AU9: =LEN(A9) -> 0 | AV9: =LEN(B9) -> 4 | AW9: =LEN(C9) -> 10 | AX9: =LEN(D9) -> 23 | AY9: =LEN(E9) -> 6 | AZ9: =LEN(F9) -> 7 | BA9: =LEN(G9) -> 14 | BB9: =LEN(H9) -> 4 | ... CM9: =LEN(AS9) -> 64 | CN9: =SUM(AU9:CM9) -> 376
B10: PA-2 | C10: JRA0000037 | D10: Balti laevaremonditehas | E10: 537497 | F10: 6591532 | G10: 78408:806:0100 | H10: 3.25 | K10: 4.3 | L10: 3.2 | M10: =H10-L10 -> 0.05 | N10: 36845 | P10: Täitepinnas: muld, liiv, lubjakivi lahmakad, ehituspraht tihenenud. Alates sügavusest 3,20 maapinnast veeküllastunud | Q10: 3.8 | R10: Liivsavi (sinisavi): sinakashall, kõva | AI10: MaCat Investment OÜ | AJ10: 12198214 | AK10: 5052017 Margus Salu; 6092800; 5105905; sergei@dekoil.ee | AM10: Harju | AN10: Tallinn | AO10: =algandmed!AP10 -> VPA on hävinud. | AP10: =algandmed!AQ10 -> - | AQ10: =algandmed!AR10 -> - | AR10: =algandmed!AS10 -> - | AS10: Kopli ps Kopli lahe äärse maa-ala reostusuuringud II, Maves 2121 | AU10: =LEN(A10) -> 0 | AV10: =LEN(B10) -> 4 | AW10: =LEN(C10) -> 10 | AX10: =LEN(D10) -> 23 | AY10: =LEN(E10) -> 6 | AZ10: =LEN(F10) -> 7 | BA10: =LEN(G10) -> 14 | BB10: =LEN(H10) -> 4 | ... CM10: =LEN(AS10) -> 64 | CN10: =SUM(AU10:CM10) -> 430
B11: PA-3 | C11: JRA0000037 | D11: Balti laevaremonditehas | E11: 537282 | F11: 6591688 | G11: 78408:808:0260 | H11: 3.15 | K11: 4.6 | L11: 2.9 | M11: =H11-L11 -> 0.25 | N11: 36845 | P11: Killustik | Q11: 0.6 | R11: Täitepinnas: saviliiv, liiv, lubjakivi lahmakad, slakk, ehituspraht tihenenud. Alates sügavusest 2,90 m maapinnast veeküllastunud | S11: 4 | T11: Liivsavi: sinakashall, kõva, sisaldab liivakivi mügi | AI11: BLRT Grupp Aktsiaselts | AJ11: 10068499 | AK11: 53229922 Olga Korobtsova; o.korobtsova@blrt.ee; 6102408; blrt@blrt.ee | AM11: Harju | AN11: Tallinn | AO11: =algandmed!AP11 -> VPA on hävinud. | AP11: =algandmed!AQ11 -> - | AQ11: =algandmed!AR11 -> - | AR11: =algandmed!AS11 -> - | AS11: Kopli ps Kopli lahe äärse maa-ala reostusuuringud II, Maves 2122 | AU11: =LEN(A11) -> 0 | AV11: =LEN(B11) -> 4 | AW11: =LEN(C11) -> 10 | AX11: =LEN(D11) -> 23 | AY11: =LEN(E11) -> 6 | AZ11: =LEN(F11) -> 7 | BA11: =LEN(G11) -> 14 | BB11: =LEN(H11) -> 4 | ... CM11: =LEN(AS11) -> 64 | CN11: =SUM(AU11:CM11) -> 470
B12: PA-4 | C12: JRA0000037 | D12: Balti laevaremonditehas | E12: 537456 | F12: 6591468 | G12: 78408:808:0260 | H12: 2.8 | K12: 4 | L12: 2.85 | M12: =H12-L12 -> -0.05 | N12: 36845 | P12: Täitepinnas: lubjakivi lahmakad, liiv, ehituspraht tihenenud. Alates sügavusest 2,85 m maapinnast veeküllastunud | AI12: BLRT Grupp Aktsiaselts | AJ12: 10068499 | AK12: 53229922 Olga Korobtsova; o.korobtsova@blrt.ee; 6102408; blrt@blrt.ee | AM12: Harju | AN12: Tallinn | AO12: =algandmed!AP12 -> VPA on hävinud. | AP12: =algandmed!AQ12 -> - | AQ12: =algandmed!AR12 -> - | AR12: =algandmed!AS12 -> - | AS12: Kopli ps Kopli lahe äärse maa-ala reostusuuringud II, Maves 2123 | AU12: =LEN(A12) -> 0 | AV12: =LEN(B12) -> 4 | AW12: =LEN(C12) -> 10 | AX12: =LEN(D12) -> 23 | AY12: =LEN(E12) -> 6 | AZ12: =LEN(F12) -> 7 | BA12: =LEN(G12) -> 14 | BB12: =LEN(H12) -> 3 | ... CM12: =LEN(AS12) -> 64 | CN12: =SUM(AU12:CM12) -> 401
B13: PA-5 | C13: JRA0000037 | D13: Balti laevaremonditehas | E13: 537407 | F13: 6591584 | G13: 78408:808:0260 | H13: 2.95 | K13: 4.5 | L13: 2.8 | M13: =H13-L13 -> 0.15 | N13: 36845 | P13: Täitepinnas: muld, liiv, saviliiv, lubjakivi lahmakad, ehituspraht tihenenud. Alates sügavusest 2,80 m maapinnast veeküllastunud | Q13: 4 | R13: Liivsavi (sinisavi): sinakashall, kõva | AI13: BLRT Grupp Aktsiaselts | AJ13: 10068499 | AK13: 53229922 Olga Korobtsova; o.korobtsova@blrt.ee; 6102408; blrt@blrt.ee | AM13: Harju | AN13: Tallinn | AO13: =algandmed!AP13 -> VPA on hävinud. | AP13: =algandmed!AQ13 -> - | AQ13: =algandmed!AR13 -> - | AR13: =algandmed!AS13 -> - | AS13: Kopli ps Kopli lahe äärse maa-ala reostusuuringud II, Maves 2124 | AU13: =LEN(A13) -> 0 | AV13: =LEN(B13) -> 4 | AW13: =LEN(C13) -> 10 | AX13: =LEN(D13) -> 23 | AY13: =LEN(E13) -> 6 | AZ13: =LEN(F13) -> 7 | BA13: =LEN(G13) -> 14 | BB13: =LEN(H13) -> 4 | ... CM13: =LEN(AS13) -> 64 | CN13: =SUM(AU13:CM13) -> 443
B14: PA-6 | C14: JRA0000037 | D14: Balti laevaremonditehas | E14: 537467 | F14: 6591651 | G14: 78408:808:0260 | H14: 3.2 | K14: 3 | L14: 1.9 | M14: =H14-L14 -> 1.3 | N14: 36845 | P14: Täitepinnas: muld, liiv, lubjakivi lahmakad, ehituspraht tihenenud | Q14: 1.5 | R14: Saviliiv: pruunikashall, pehmeplastne | S14: 2.7 | T14: Liivsavi (sinisavi): sinakashall, kõva | AI14: BLRT Grupp Aktsiaselts | AJ14: 10068499 | AK14: 53229922 Olga Korobtsova; o.korobtsova@blrt.ee; 6102408; blrt@blrt.ee | AM14: Harju | AN14: Tallinn | AO14: =algandmed!AP14 -> VPA on hävinud. | AP14: =algandmed!AQ14 -> - | AQ14: =algandmed!AR14 -> - | AR14: =algandmed!AS14 -> - | AS14: Kopli ps Kopli lahe äärse maa-ala reostusuuringud II, Maves 2125 | AU14: =LEN(A14) -> 0 | AV14: =LEN(B14) -> 4 | AW14: =LEN(C14) -> 10 | AX14: =LEN(D14) -> 23 | AY14: =LEN(E14) -> 6 | AZ14: =LEN(F14) -> 7 | BA14: =LEN(G14) -> 14 | BB14: =LEN(H14) -> 3 | ... CM14: =LEN(AS14) -> 64 | CN14: =SUM(AU14:CM14) -> 419
B15: PA-7 | C15: JRA0000037 | D15: Balti laevaremonditehas | E15: 537280 | F15: 6591583 | G15: 78408:808:0260 | H15: 3.25 | K15: 4.6 | L15: 3.3 | M15: =H15-L15 -> -0.05 | N15: 36845 | P15: Täitepinnas: liiv, killustik, muld, lubjakivi lahmakad, tihenenud | Q15: 0.5 | R15: Täitepinnas: peenliiv kollakaspruun, tihenenud, niiske | S15: 2.5 | T15: Täitepinnas: liiv, lubjakivi tükid, saviliiv. Alates süg. 3,30m maapinnast veeküllastunud | AI15: BLRT Grupp Aktsiaselts | AJ15: 10068499 | AK15: 53229922 Olga Korobtsova; o.korobtsova@blrt.ee; 6102408; blrt@blrt.ee | AM15: Harju | AN15: Tallinn | AO15: =algandmed!AP15 -> VPA on hävinud. | AP15: =algandmed!AQ15 -> - | AQ15: =algandmed!AR15 -> - | AR15: =algandmed!AS15 -> - | AS15: Kopli ps Kopli lahe äärse maa-ala reostusuuringud II, Maves 2126 | AU15: =LEN(A15) -> 0 | AV15: =LEN(B15) -> 4 | AW15: =LEN(C15) -> 10 | AX15: =LEN(D15) -> 23 | AY15: =LEN(E15) -> 6 | AZ15: =LEN(F15) -> 7 | BA15: =LEN(G15) -> 14 | BB15: =LEN(H15) -> 4 | ... CM15: =LEN(AS15) -> 64 | CN15: =SUM(AU15:CM15) -> 505
B16: PA-8 | C16: JRA0000037 | D16: Balti laevaremonditehas | E16: 537114 | F16: 6591683 | G16: 78408:808:0260 | H16: 3.3 | K16: 4.5 | L16: 3.4 | M16: =H16-L16 -> -0.1 | N16: 36844 | P16: Täitepinnas: killustik, liiv, muld, lubjakivi lahmakad, tihenenud | Q16: 0.6 | R16: Täitepinnas: peenliiv kollakaspruun, tihenenud, niiske. | S16: 2.4 | T16: Tolmliiv: kollakashall, kesktihe, niiske. Alates süg. 3,40m maapinnast veeküllastunud | AI16: BLRT Grupp Aktsiaselts | AJ16: 10068499 | AK16: 53229922 Olga Korobtsova; o.korobtsova@blrt.ee; 6102408; blrt@blrt.ee | AM16: Harju | AN16: Tallinn | AO16: =algandmed!AP16 -> VPA on hävinud. | AP16: =algandmed!AQ16 -> - | AQ16: =algandmed!AR16 -> - | AR16: =algandmed!AS16 -> - | AS16: Kopli ps Kopli lahe äärse maa-ala reostusuuringud II, Maves 2127 | AU16: =LEN(A16) -> 0 | AV16: =LEN(B16) -> 4 | AW16: =LEN(C16) -> 10 | AX16: =LEN(D16) -> 23 | AY16: =LEN(E16) -> 6 | AZ16: =LEN(F16) -> 7 | BA16: =LEN(G16) -> 14 | BB16: =LEN(H16) -> 3 | ... CM16: =LEN(AS16) -> 64 | CN16: =SUM(AU16:CM16) -> 486
B17: PA-9 | C17: JRA0000037 | D17: Balti laevaremonditehas | E17: 537063 | F17: 6591718 | G17: 78408:808:0260 | H17: 3.35 | K17: 4.6 | L17: 3.3 | M17: =H17-L17 -> 0.05 | N17: 36844 | P17: Täitepinnas: killustik, liiv, tihenenud | Q17: 0.6 | R17: Täitepinnas: peenliiv kollakaspruun, sis. veeriseid, tihenenud, niiske | S17: 2 | T17: Täitepinnas: liiv, lubjakivi tükid, saviliiv. Alates süg. 3,50m maapinnast veeküllastunud | AI17: BLRT Grupp Aktsiaselts | AJ17: 10068499 | AK17: 53229922 Olga Korobtsova; o.korobtsova@blrt.ee; 6102408; blrt@blrt.ee | AM17: Harju | AN17: Tallinn | AO17: =algandmed!AP17 -> VPA on hävinud. | AP17: =algandmed!AQ17 -> - | AQ17: =algandmed!AR17 -> - | AR17: =algandmed!AS17 -> - | AS17: Kopli ps Kopli lahe äärse maa-ala reostusuuringud II, Maves 2128 | AU17: =LEN(A17) -> 0 | AV17: =LEN(B17) -> 4 | AW17: =LEN(C17) -> 10 | AX17: =LEN(D17) -> 23 | AY17: =LEN(E17) -> 6 | AZ17: =LEN(F17) -> 7 | BA17: =LEN(G17) -> 14 | BB17: =LEN(H17) -> 4 | ... CM17: =LEN(AS17) -> 64 | CN17: =SUM(AU17:CM17) -> 492
B18: PA-10 | C18: JRA0000037 | D18: Balti laevaremonditehas | E18: 537026 | F18: 6591740 | G18: 78408:808:0260 | H18: 3.35 | K18: 3.5 | L18: 3.4 | M18: =H18-L18 -> -0.05 | N18: 36844 | P18: Täitepinnas: liiv, muld, killustik, lubjakivi lahmakad, tihenenud. Alates süg. 3,40 m maapinnast veeküllastunud | AI18: BLRT Grupp Aktsiaselts | AJ18: 10068499 | AK18: 53229922 Olga Korobtsova; o.korobtsova@blrt.ee; 6102408; blrt@blrt.ee | AM18: Harju | AN18: Tallinn | AO18: =algandmed!AP18 -> VPA on hävinud. | AP18: =algandmed!AQ18 -> - | AQ18: =algandmed!AR18 -> - | AR18: =algandmed!AS18 -> - | AS18: Kopli ps Kopli lahe äärse maa-ala reostusuuringud II, Maves 2129 | AU18: =LEN(A18) -> 0 | AV18: =LEN(B18) -> 5 | AW18: =LEN(C18) -> 10 | AX18: =LEN(D18) -> 23 | AY18: =LEN(E18) -> 6 | AZ18: =LEN(F18) -> 7 | BA18: =LEN(G18) -> 14 | BB18: =LEN(H18) -> 4 | ... CM18: =LEN(AS18) -> 64 | CN18: =SUM(AU18:CM18) -> 403
B19: PA-11 | C19: JRA0000037 | D19: Balti laevaremonditehas | E19: 537038 | F19: 6591938 | G19: 78408:808:0260 | H19: 6 | K19: 4.7 | L19: 1.9 | M19: =H19-L19 -> 4.1 | N19: 36844 | P19: Täitepinnas: liiv, killustik, muld, lubjakivi lahmakad, tihenenud | Q19: 1 | R19: Täitepinnas: peenliiv hallikaspruun, tihenenud, niiske | S19: 2 | T19: Saviliivmoreen: sinakashall, sitkeplastne, sis. jämepurdu 20-30% | U19: 3.8 | V19: Liivsavi (sinisavi): sinakashall, kõva | AI19: BLRT Grupp Aktsiaselts | AJ19: 10068499 | AK19: 53229922 Olga Korobtsova; o.korobtsova@blrt.ee; 6102408; blrt@blrt.ee | AM19: Harju | AN19: Tallinn | AO19: =algandmed!AP19 -> VPA on hävinud. | AP19: =algandmed!AQ19 -> - | AQ19: =algandmed!AR19 -> - | AR19: =algandmed!AS19 -> - | AS19: Kopli ps Kopli lahe äärse maa-ala reostusuuringud II, Maves 2130 | AU19: =LEN(A19) -> 0 | AV19: =LEN(B19) -> 5 | AW19: =LEN(C19) -> 10 | AX19: =LEN(D19) -> 23 | AY19: =LEN(E19) -> 6 | AZ19: =LEN(F19) -> 7 | BA19: =LEN(G19) -> 14 | BB19: =LEN(H19) -> 1 | ... CM19: =LEN(AS19) -> 64 | CN19: =SUM(AU19:CM19) -> 499
B20: PA-12 | C20: JRA0000037 | D20: Balti laevaremonditehas | E20: 536941 | F20: 6591923 | G20: 78408:808:0260 | H20: 5.25 | K20: 4.6 | L20: 2.4 | M20: =H20-L20 -> 2.85 | N20: 36844 | P20: Täitepinnas: slakk, muld, liiv, lubjakivi tükid, tihenenud | Q20: 0.6 | R20: Tolmliiv kollakaspruun, kesktihe, niiske. Sisaldab saviliiva vahekihte | S20: 2 | T20: Saviliiv, kollakaspruun, pehmeplastne, sisaldab veeriseid | AI20: BLRT Grupp Aktsiaselts | AJ20: 10068499 | AK20: 53229922 Olga Korobtsova; o.korobtsova@blrt.ee; 6102408; blrt@blrt.ee | AM20: Harju | AN20: Tallinn | AO20: =algandmed!AP20 -> VPA on hävinud. | AP20: =algandmed!AQ20 -> - | AQ20: =algandmed!AR20 -> - | AR20: =algandmed!AS20 -> - | AS20: Kopli ps Kopli lahe äärse maa-ala reostusuuringud II, Maves 2131 | AU20: =LEN(A20) -> 0 | AV20: =LEN(B20) -> 5 | AW20: =LEN(C20) -> 10 | AX20: =LEN(D20) -> 23 | AY20: =LEN(E20) -> 6 | AZ20: =LEN(F20) -> 7 | BA20: =LEN(G20) -> 14 | BB20: =LEN(H20) -> 4 | ... CM20: =LEN(AS20) -> 64 | CN20: =SUM(AU20:CM20) -> 466
B21: PA-13 | C21: JRA0000037 | D21: Balti laevaremonditehas | E21: 536847 | F21: 6591875 | G21: 78408:808:0260 | H21: 3.55 | K21: 4.5 | L21: 3.3 | M21: =H21-L21 -> 0.25 | N21: 36843 | P21: Asfalt | Q21: 0.1 | R21: Killustik | S21: 0.5 | T21: Täitepinnas: liiv, lubjakivi lahmakad, betoon, tihenenud | U21: 1.4 | V21: Täitepinnas: liiv, kruus, lubjakivitükid. Alates süg. 3,30 m veeküllastunud | AI21: BLRT Grupp Aktsiaselts | AJ21: 10068499 | AK21: 53229922 Olga Korobtsova; o.korobtsova@blrt.ee; 6102408; blrt@blrt.ee | AM21: Harju | AN21: Tallinn | AO21: =algandmed!AP21 -> VPA on hävinud. | AP21: =algandmed!AQ21 -> - | AQ21: =algandmed!AR21 -> - | AR21: =algandmed!AS21 -> - | AS21: Kopli ps Kopli lahe äärse maa-ala reostusuuringud II, Maves 2132 | AU21: =LEN(A21) -> 0 | AV21: =LEN(B21) -> 5 | AW21: =LEN(C21) -> 10 | AX21: =LEN(D21) -> 23 | AY21: =LEN(E21) -> 6 | AZ21: =LEN(F21) -> 7 | BA21: =LEN(G21) -> 14 | BB21: =LEN(H21) -> 4 | ... CM21: =LEN(AS21) -> 64 | CN21: =SUM(AU21:CM21) -> 432
B22: PA-14 | C22: JRA0000037 | D22: Balti laevaremonditehas | E22: 536965 | F22: 6592085 | G22: 78408:808:0260 | H22: 5.05 | K22: 3.5 | L22: - | N22: 36843 | P22: Täitepinnas: liiv, killustik, muld, tihenenud | Q22: 0.5 | R22: Peenliiv: pruunikashall, kesktihe, niiske | S22: 1.8 | T22: Täitepinnas: liiv, lubjakivi tükid, saviliiv | U22: 2.8 | V22: Saviliivmoreen: hall, pehme- või sitkeplastne, sis. jämepurdu 20% | W22: 3.2 | X22: Liivsavi (sinisavi): sinakashall, kõva | AI22: BLRT Grupp Aktsiaselts | AJ22: 10068499 | AK22: 53229922 Olga Korobtsova; o.korobtsova@blrt.ee; 6102408; blrt@blrt.ee | AM22: Harju | AN22: Tallinn | AO22: =algandmed!AP22 -> VPA on hävinud. | AP22: =algandmed!AQ22 -> - | AQ22: =algandmed!AR22 -> - | AR22: =algandmed!AS22 -> - | AS22: Kopli ps Kopli lahe äärse maa-ala reostusuuringud II, Maves 2133 | AU22: =LEN(A22) -> 0 | AV22: =LEN(B22) -> 5 | AW22: =LEN(C22) -> 10 | AX22: =LEN(D22) -> 23 | AY22: =LEN(E22) -> 6 | AZ22: =LEN(F22) -> 7 | BA22: =LEN(G22) -> 14 | BB22: =LEN(H22) -> 4 | ... CM22: =LEN(AS22) -> 64 | CN22: =SUM(AU22:CM22) -> 516
B23: PA-15 | C23: JRA0000037 | D23: Balti laevaremonditehas | E23: 536734 | F23: 6592209 | G23: 78408:808:0260 | H23: 3.85 | K23: 4.6 | L23: 2.4 | M23: =H23-L23 -> 1.45 | N23: 36843 | P23: Täitepinnas: liiv, killustik, muld, lubjakivi lahmakad, tihenenud | Q23: 0.5 | R23: Täitepinnas: peenliiv kollakaspruun, tihenenud, niiske | S23: 2.5 | T23: Täitepinnas: liiv, lubjakivi tükid, saviliiv, veeküllastunud | AI23: BLRT Grupp Aktsiaselts | AJ23: 10068499 | AK23: 53229922 Olga Korobtsova; o.korobtsova@blrt.ee; 6102408; blrt@blrt.ee | AM23: Harju | AN23: Tallinn | AO23: =algandmed!AP23 -> VPA on hävinud. | AP23: =algandmed!AQ23 -> - | AQ23: =algandmed!AR23 -> - | AR23: =algandmed!AS23 -> - | AS23: Kopli ps Kopli lahe äärse maa-ala reostusuuringud II, Maves 2134 | AU23: =LEN(A23) -> 0 | AV23: =LEN(B23) -> 5 | AW23: =LEN(C23) -> 10 | AX23: =LEN(D23) -> 23 | AY23: =LEN(E23) -> 6 | AZ23: =LEN(F23) -> 7 | BA23: =LEN(G23) -> 14 | BB23: =LEN(H23) -> 4 | ... CM23: =LEN(AS23) -> 64 | CN23: =SUM(AU23:CM23) -> 462
B24: PA-16 | C24: JRA0000037 | D24: Balti laevaremonditehas | E24: 536705 | F24: 6592228 | G24: 78408:808:0260 | H24: 4 | K24: 4.8 | L24: 3.6 | M24: =H24-L24 -> 0.4 | N24: 36843 | P24: Muld | Q24: 0.1 | R24: Killustik | S24: 0.4 | T24: Betoon | U24: 0.6 | V24: Täitepinnas: saviliiv, liiv, veerised. Alates süg. 3,60 m maapinnast veeküllastunud | W24: 4 | AI24: BLRT Grupp Aktsiaselts | AJ24: 10068499 | AK24: 53229922 Olga Korobtsova; o.korobtsova@blrt.ee; 6102408; blrt@blrt.ee | AM24: Harju | AN24: Tallinn | AO24: =algandmed!AP24 -> VPA on hävinud. | AP24: =algandmed!AQ24 -> - | AQ24: =algandmed!AR24 -> - | AR24: =algandmed!AS24 -> - | AS24: Kopli ps Kopli lahe äärse maa-ala reostusuuringud II, Maves 2135 | AU24: =LEN(A24) -> 0 | AV24: =LEN(B24) -> 5 | AW24: =LEN(C24) -> 10 | AX24: =LEN(D24) -> 23 | AY24: =LEN(E24) -> 6 | AZ24: =LEN(F24) -> 7 | BA24: =LEN(G24) -> 14 | BB24: =LEN(H24) -> 1 | ... CM24: =LEN(AS24) -> 64 | CN24: =SUM(AU24:CM24) -> 385
B25: PA-17 | C25: JRA0000037 | D25: Balti laevaremonditehas | E25: 536826 | F25: 6592184 | G25: 78408:808:0260 | H25: 3.5 | K25: 4.2 | L25: 1.9 | M25: =H25-L25 -> 1.6 | N25: 36843 | P25: Asfalt | Q25: 0.1 | R25: Killustik | S25: 0.4 | T25: Täitepinnas: liiv, killustik, muld | U25: 1 | V25: Täitepinnas: peenliiv tumepruun, tihenenud, alates süg. 1,90 m veeküllastunud | W25: 3.8 | X25: Tolmliiv: hall, kesktihe, veeküllastunud, sisaldab orgaanikat | Y25: 4 | Z25: Liivsavi (sinisavi): sinakashall, kõva | AI25: BLRT Grupp Aktsiaselts | AJ25: 10068499 | AK25: 53229922 Olga Korobtsova; o.korobtsova@blrt.ee; 6102408; blrt@blrt.ee | AM25: Harju | AN25: Tallinn | AO25: =algandmed!AP25 -> VPA on hävinud. | AP25: =algandmed!AQ25 -> - | AQ25: =algandmed!AR25 -> - | AR25: =algandmed!AS25 -> - | AS25: Kopli ps Kopli lahe äärse maa-ala reostusuuringud II, Maves 2136 | AU25: =LEN(A25) -> 0 | AV25: =LEN(B25) -> 5 | AW25: =LEN(C25) -> 10 | AX25: =LEN(D25) -> 23 | AY25: =LEN(E25) -> 6 | AZ25: =LEN(F25) -> 7 | BA25: =LEN(G25) -> 14 | BB25: =LEN(H25) -> 3 | ... CM25: =LEN(AS25) -> 64 | CN25: =SUM(AU25:CM25) -> 511
B26: PA-18 | C26: JRA0000037 | D26: Balti laevaremonditehas | E26: 537053 | F26: 6592125 | G26: 78408:808:0260 | H26: 7.7 | K26: 1.8 | L26: - | N26: 36843 | P26: Täitepinnas: liiv, killustik, muld, tihenenud | Q26: 1.4 | R26: Saviliivmoreen: hall, sitke- või kõvaplastne | S26: 1.5 | T26: Liivsavi (sinisavi): sinakashall, kõva | AI26: BLRT Grupp Aktsiaselts | AJ26: 10068499 | AK26: 53229922 Olga Korobtsova; o.korobtsova@blrt.ee; 6102408; blrt@blrt.ee | AM26: Harju | AN26: Tallinn | AO26: =algandmed!AP26 -> VPA on hävinud. | AP26: =algandmed!AQ26 -> - | AQ26: =algandmed!AR26 -> - | AR26: =algandmed!AS26 -> - | AS26: Kopli ps Kopli lahe äärse maa-ala reostusuuringud II, Maves 2137 | AU26: =LEN(A26) -> 0 | AV26: =LEN(B26) -> 5 | AW26: =LEN(C26) -> 10 | AX26: =LEN(D26) -> 23 | AY26: =LEN(E26) -> 6 | AZ26: =LEN(F26) -> 7 | BA26: =LEN(G26) -> 14 | BB26: =LEN(H26) -> 3 | ... CM26: =LEN(AS26) -> 64 | CN26: =SUM(AU26:CM26) -> 403
A27: 19842 | B27: PA-1561 | C27: JRA0000012 | D27: Bekkeri sadam | E27: 537831.27 | F27: 6591163.7 | G27: 78408:808:0047 | H27: 5.53 | I27: 0.51 | J27: 3 | K27: 3.5 | L27: 1.68 | M27: =H27-L27 -> 3.85 | N27: 42898 | O27: Metall 108mm: +0,5-1,05m; HDPE: 60mm +0,5-3,5; F 1,05-3,5m | P27: Täitepinnas: killustik, ehituskivide tükid, muld; ei haise naftasaaduste järgi | Q27: 0.7 | R27: Täitepinnas: killustik, ehituskivide tükid, muld, alates 0,9m kruusliija killustik; haiseb naftasaaduste järgi | S27: 2 | T27: Savikas liiv: määrdunud kollane ja hall vaheldumisi, kesktihe, niiske; haiseb naftasaaduste järgi | U27: 2.9 | V27: Kruusliiv: määrdunud must, kesktihe, veeküllastunud; haiseb naftasaaduste järgi | W27: 3 | X27: Savikas liiv: kollakashall, tihe, veeküllastunud; ei haise naftasaaduste järgi | Y27: 4.4 | Z27: Saviliiv: rohekashall, tihe, niiske; ei haise naftasaaduste järgi | AA27: 5 | AB27: Savi: rohekashall, kõva; ei haise naftasaaduste järgi | AI27: Aktsiaselts Logman Invest | AJ27: 10361696 | AK27: Aivar Napits 5012195; aivar.napits@gmail.com; 6201602, 6201600; endel.siff@primos.ee | AM27: Harju | AN27: Tallinn | AO27: =algandmed!AP27 -> VPA on terve. Päise avamiseks 6-kantvõti 8. Sisemine plasttoru samal kõrgusel metallkaitsetoruga. Algne sügavus oli 3,5m (maapinda on ehituse käigus tõstetud 0,3m, sellest ka konstruktsiooni muutus). Veepinnal naftasaaduste kihti pole. | AP27: =algandmed!AQ27 -> Proovivõtmisel 09.10.2017.a otsustati proovi mitte võtta, kuna mõõdulint, bailer ja pump MP-1 said filtertoru alumises osas õliseks ja proovi võtmisel iseloomustaks see vaid naftasaaduste lahustuvust vees. | AQ27: =algandmed!AR27 -> - | AR27: =algandmed!AS27 -> Jätkata seiret. | AS27: Jääkreostuse likvideerimise projekti ettevalmistus endistel militaar- ja industriaalaladel, Maves nr-5168 | AU27: =LEN(A27) -> 5 | AV27: =LEN(B27) -> 7 | AW27: =LEN(C27) -> 10 | AX27: =LEN(D27) -> 13 | AY27: =LEN(E27) -> 10 | AZ27: =LEN(F27) -> 11 | BA27: =LEN(G27) -> 14 | BB27: =LEN(H27) -> 4 | ... CM27: =LEN(AS27) -> 105 | CN27: =SUM(AU27:CM27) -> 1415
A28: 19843 | B28: PA-1564 | C28: JRA0000012 | D28: Bekkeri sadam | E28: 537894.35 | F28: 6590989.6 | G28: 78408:808:0047 | H28: 3.54 | I28: 0 | J28: 3.07 | K28: 3.07 | L28: 1.95 | M28: =H28-L28 -> 1.59 | N28: 42898 | O28: Metall 108mm: 0,0-0,4m; HDPE: 60mm 0,07-3,07; F 0,07-3,07m | P28: Täitepinnas: muld, peenliiv, ehituskivide tükid; ei haise naftasaaduste järgi; alates 0,4m savikas liiv: kollakashall, kesktihe, niiske; ei haise naftasaaduste järgi; alates 1,0 m kruus, killustik, ehituspraht; ei haise naftasaaduste järgi | Q28: 1.9 | R28: Täitepinnas: kruus, must, tihe, veeküllastunud; õline, haiseb naftasaaduste järgi | S28: 2.5 | T28: Peenliiv: tumehall, tihe, veeküllastunud; õline, haiseb naftasaaduste järgi | AI28: Aktsiaselts Logman Invest | AJ28: 10361696 | AK28: Aivar Napits 5012195; aivar.napits@gmail.com; 6201602, 6201600; endel.siff@primos.ee | AM28: Harju | AN28: Tallinn | AO28: =algandmed!AP28 -> VPA asub väikeses, pinnaveele avatud lohus. VPA suletud malmkaanega. Plasttoru 7cm allpool malmluugi serva. Maapinda on muudetud ligi 0,5m madalamaks. Algne VPA päis oli 1,2m kõrgemal. Sügavusel 1,35 on takistus ees. Veepinnal naftasaaduste kihti pole. | AP28: =algandmed!AQ28 -> Proovi ei võeta, kuna see ei iseloomusta vaid põhjavett vaid suurte sadude ajal satub sinna ka pinnavesi. | AQ28: =algandmed!AR28 -> - | AR28: =algandmed!AS28 -> VPA tuleb nõuetekohaselt likvideerida. | AS28: Jääkreostuse likvideerimise projekti ettevalmistus endistel militaar- ja industriaalaladel, Maves nr-5168 | AU28: =LEN(A28) -> 5 | AV28: =LEN(B28) -> 7 | AW28: =LEN(C28) -> 10 | AX28: =LEN(D28) -> 13 | AY28: =LEN(E28) -> 10 | AZ28: =LEN(F28) -> 11 | BA28: =LEN(G28) -> 14 | BB28: =LEN(H28) -> 4 | ... CM28: =LEN(AS28) -> 105 | CN28: =SUM(AU28:CM28) -> 1185
A29: 19844 | B29: PA-1570 | C29: JRA0000012 | D29: Bekkeri sadam | E29: 537977.36 | F29: 6590746.1 | G29: 78408:808:0047 | H29: 3.15 | I29: 0.7 | K29: 3.58 | L29: 2.8 | M29: =H29-L29 -> 0.35 | N29: 42535 | O29: Metall 108mm: +0,7-0,95m; HDPE: 60mm +0,42-3,58; F 0,58-3,58m | P29: Täitepinnas: killustik, keskliiv, kesktihe, niiske; ei haise naftasaaduste järgi | Q29: 0.6 | R29: Turvas: tumepruun, hästi lagunenud; ei haise naftasaaduste järgi | S29: 0.75 | T29: Savikas liiv: kollakashall, kesktihe, niiske; ei haise naftasaaduste järgi; alates 1,0m sisaldab liivakivi tükke, alates 2,0m veeküllastunud, alates 3,2m hall; ei haise naftasaaduste järgi | U29: 4.5 | V29: Saviliivmoreen: tumehall, pehme, sisaldab 15% jämepurdu; ei haise naftasaaduste järgi | W29: 4.8 | X29: Liivakivi: murenenud, halli haise naftasaaduste järgi | AI29: Aktsiaselts Logman Invest | AJ29: 10361696 | AK29: Aivar Napits 5012195; aivar.napits@gmail.com; 6201602, 6201600; endel.siff@primos.ee | AM29: Harju | AN29: Tallinn | AO29: =algandmed!AP29 -> Kaitsetoru on maha sõidetud, ilmselt on katki ka plastfilter. | AP29: =algandmed!AQ29 -> Proovi ei võetud. | AQ29: =algandmed!AR29 -> - | AR29: =algandmed!AS29 -> VPA-d mitte taastada ja see tuleb nõetekohaslt likvideerida. | AS29: Jääkreostuse likvideerimise projekti ettevalmistus endistel militaar- ja industriaalaladel, Maves nr-5168 | AU29: =LEN(A29) -> 5 | AV29: =LEN(B29) -> 7 | AW29: =LEN(C29) -> 10 | AX29: =LEN(D29) -> 13 | AY29: =LEN(E29) -> 10 | AZ29: =LEN(F29) -> 11 | BA29: =LEN(G29) -> 14 | BB29: =LEN(H29) -> 4 | ... CM29: =LEN(AS29) -> 105 | CN29: =SUM(AU29:CM29) -> 1010
B30: PA-1 (19) | C30: JRA0000164 | D30: Dekoil OÜ | E30: 536829 | F30: 6592202 | G30: 78408:806:0100 | H30: 7.1 | K30: 4.35 | L30: 3.25 | M30: =H30-L30 -> 3.85 | N30: 36830 | P30: Killustik | Q30: 0.4 | R30: Täitepinnas: liiv, killustik, muld | S30: 0.7 | T30: Tolruliiv: kollakaspruun, kesktihe, alates süg. 3,25 m veeküllastunud | U30: 3.3 | V30: Veerised ja munakad, veeküllastunud | W30: 3.6 | X30: Saviliivmoreen: pruunikashall, sitke- või kõvaplastne, sis. jämepurdu kuni 20% | AI30: Dekoil OÜ | AJ30: 10069369 | AK30: 5052017 Margus Salu; 6102772; dekoil@dekoil.ee | AM30: Harju | AN30: Tallinn | AO30: =algandmed!AP30 -> VPA on hävinud. | AP30: =algandmed!AQ30 -> - | AQ30: =algandmed!AR30 -> - | AR30: =algandmed!AS30 -> - | AS30: Kopli ps Kopli lahe äärse maa-ala reostusuuringud II, Maves 2114 | AU30: =LEN(A30) -> 0 | AV30: =LEN(B30) -> 9 | AW30: =LEN(C30) -> 10 | AX30: =LEN(D30) -> 9 | AY30: =LEN(E30) -> 6 | AZ30: =LEN(F30) -> 7 | BA30: =LEN(G30) -> 14 | BB30: =LEN(H30) -> 3 | ... CM30: =LEN(AS30) -> 64 | CN30: =SUM(AU30:CM30) -> 469
B31: PA-2 (20) | C31: JRA0000164 | D31: Dekoil OÜ | E31: 536772 | F31: 6592243 | G31: 78408:808:0450 | H31: 6.95 | K31: 4.3 | L31: 2.85 | M31: =H31-L31 -> 4.1 | N31: 36830 | P31: Killustik | Q31: 0.3 | R31: Täitepinnas: liiv, saviliiv, lubjakivi tükid | S31: 4.1 | T31: Saviliivmoreen: pruunikashall, sitkeplastne, sis. jämepurdu kuni 20%. | AI31: Dekoil OÜ | AJ31: 10069369 | AK31: 5052017 Margus Salu; 6102772; dekoil@dekoil.ee | AM31: Harju | AN31: Tallinn | AO31: =algandmed!AP31 -> VPA on hävinud. | AP31: =algandmed!AQ31 -> - | AQ31: =algandmed!AR31 -> - | AR31: =algandmed!AS31 -> - | AS31: Kopli ps Kopli lahe äärse maa-ala reostusuuringud II, Maves 2114 | AU31: =LEN(A31) -> 0 | AV31: =LEN(B31) -> 9 | AW31: =LEN(C31) -> 10 | AX31: =LEN(D31) -> 9 | AY31: =LEN(E31) -> 6 | AZ31: =LEN(F31) -> 7 | BA31: =LEN(G31) -> 14 | BB31: =LEN(H31) -> 4 | ... CM31: =LEN(AS31) -> 64 | CN31: =SUM(AU31:CM31) -> 359
B32: PA-3 (21) | C32: JRA0000164 | D32: Dekoil OÜ | E32: 536701 | F32: 6592311 | G32: 78408:808:0450 | H32: 5.55 | K32: 3.2 | L32: - | N32: 36830 | P32: Killustik, liiv | Q32: 0.2 | R32: Täitepinnas: sitkeplastne saviliiv, muld | S32: 1.9 | T32: Kivi | U32: 2 | V32: Saviliivmoreen: pruunikashall, kõvaplastne, sis. jämepurdu kuni 20%. Alates süg. 3,0 m hall, kõva. Vett ei ilmunud 31.10.00 | AI32: Dekoil OÜ | AJ32: 10069369 | AK32: 5052017 Margus Salu; 6102772; dekoil@dekoil.ee | AM32: Harju | AN32: Tallinn | AO32: =algandmed!AP32 -> VPA on hävinud. | AP32: =algandmed!AQ32 -> - | AQ32: =algandmed!AR32 -> - | AR32: =algandmed!AS32 -> - | AS32: Kopli ps Kopli lahe äärse maa-ala reostusuuringud II, Maves 2114 | AU32: =LEN(A32) -> 0 | AV32: =LEN(B32) -> 9 | AW32: =LEN(C32) -> 10 | AX32: =LEN(D32) -> 9 | AY32: =LEN(E32) -> 6 | AZ32: =LEN(F32) -> 7 | BA32: =LEN(G32) -> 14 | BB32: =LEN(H32) -> 4 | ... CM32: =LEN(AS32) -> 64 | CN32: =SUM(AU32:CM32) -> 414
B33: PA-4 (22) | C33: JRA0000164 | D33: Dekoil OÜ | E33: 536693 | F33: 6592449 | G33: 78408:808:0450 | H33: 8 | K33: 5.5 | L33: - | N33: 36830 | P33: Killustik | Q33: 0.3 | R33: Täitepinnas: liiv, saviliiv, killustik | S33: 1.5 | T33: Täitepinnas: saviliiv, liiv, pinnasel on naftasaaduste lõhn | U33: 2.4 | V33: Veerisedja munakad | W33: 2.6 | X33: Saviliivmoreen: pruunikashall, sitke- või kõvaplastne, sis. jämepurdu kuni 20%. Pinnasel on nõrk naftasaaduste lõhn | Y33: 3.7 | Z33: Saviliivmoreen: hall, kõva, sisaldab jämepurdu kuni 20% | AA33: 4.2 | AB33: Liivakivi: sinakashall, nõrgalt tsementeerunud | AI33: Dekoil OÜ | AJ33: 10069369 | AK33: 5052017 Margus Salu; 6102772; dekoil@dekoil.ee | AM33: Harju | AN33: Tallinn | AO33: =algandmed!AP33 -> VPA on hävinud. | AP33: =algandmed!AQ33 -> - | AQ33: =algandmed!AR33 -> - | AR33: =algandmed!AS33 -> - | AS33: Kopli ps Kopli lahe äärse maa-ala reostusuuringud II, Maves 2114 | AU33: =LEN(A33) -> 0 | AV33: =LEN(B33) -> 9 | AW33: =LEN(C33) -> 10 | AX33: =LEN(D33) -> 9 | AY33: =LEN(E33) -> 6 | AZ33: =LEN(F33) -> 7 | BA33: =LEN(G33) -> 14 | BB33: =LEN(H33) -> 1 | ... CM33: =LEN(AS33) -> 64 | CN33: =SUM(AU33:CM33) -> 580
B34: PA-5 (23) | C34: JRA0000164 | D34: Dekoil OÜ | E34: 536655 | F34: 6592569 | G34: 78408:808:0450 | H34: 7.85 | K34: 4.3 | L34: 1.5 | M34: =H34-L34 -> 6.35 | N34: 36830 | P34: Täitepinnas: liiv, killustik, muld, tihenenud | Q34: 1.5 | R34: Täitepinnas: saviliiv, sis. üksikuid veeriseid. PinnaseIan nõrk naftasaaduste lõhn | S34: 3.8 | T34: Saviliivmoreen: pruunikashall, sitkeplastne, sis. jämepurdu kuni 20% | AI34: Dekoil OÜ | AJ34: 10069369 | AK34: 5052017 Margus Salu; 6102772; dekoil@dekoil.ee | AM34: Harju | AN34: Tallinn | AO34: =algandmed!AP34 -> VPA on hävinud. | AP34: =algandmed!AQ34 -> - | AQ34: =algandmed!AR34 -> - | AR34: =algandmed!AS34 -> - | AS34: Kopli ps Kopli lahe äärse maa-ala reostusuuringud II, Maves 2114 | AU34: =LEN(A34) -> 0 | AV34: =LEN(B34) -> 9 | AW34: =LEN(C34) -> 10 | AX34: =LEN(D34) -> 9 | AY34: =LEN(E34) -> 6 | AZ34: =LEN(F34) -> 7 | BA34: =LEN(G34) -> 14 | BB34: =LEN(H34) -> 4 | ... CM34: =LEN(AS34) -> 64 | CN34: =SUM(AU34:CM34) -> 432
B35: PA-6 (24) | C35: JRA0000164 | D35: Dekoil OÜ | E35: 536756.3 | F35: 6592360.6 | G35: 78408:806:0100 | H35: 8.18 | I35: 0.62 | J35: 4.26 | K35: 4.4 | L35: 3.51 | M35: =H35-L35 -> 4.67 | N35: 42902 | P35: Täitepinnas: liiv, killustik, saviliiv, muld, lubi, veerised | AI35: Dekoil OÜ | AJ35: 10069369 | AK35: 5052017 Margus Salu; 6102772; dekoil@dekoil.ee | AM35: Harju | AN35: Tallinn | AO35: =algandmed!AP35 -> VPA on terve. Päis lahtiselt peal. Geoloogilise ehituse ja konstruktsiooni kohta andmed puuduvad. Veepinnal naftasaaduste kihti pole. Veepinnal naftasaaduste kihti pole. Veeproovi ei võeta. | AP35: =algandmed!AQ35 -> Proovi ei võetud, kuna varasema reostus puudub. Jääkreostust pole. | AQ35: =algandmed!AR35 -> - | AR35: =algandmed!AS35 -> Ettepanek on jätta VPA asutusesiseseks seireks. | AS35: Kopli ps Kopli lahe äärse maa-ala reostusuuringud II, Maves 2114 | AU35: =LEN(A35) -> 0 | AV35: =LEN(B35) -> 9 | AW35: =LEN(C35) -> 10 | AX35: =LEN(D35) -> 9 | AY35: =LEN(E35) -> 10 | AZ35: =LEN(F35) -> 11 | BA35: =LEN(G35) -> 14 | BB35: =LEN(H35) -> 4 | ... CM35: =LEN(AS35) -> 64 | CN35: =SUM(AU35:CM35) -> 593
B36: PA-7 | C36: JRA0000164 | D36: Dekoil OÜ | E36: 536857.63 | F36: 6592293.8 | G36: 78408:806:0100 | H36: 8.15 | I36: 0.01 | J36: 3.44 | L36: 1.87 | M36: =H36-L36 -> 6.28 | N36: 42902 | AI36: Dekoil OÜ | AJ36: 10069369 | AK36: 5052017 Margus Salu; 6102772; dekoil@dekoil.ee | AM36: Harju | AN36: Tallinn | AO36: =algandmed!AP36 -> VPA on terve. Päis lahtiselt peal. Konstruktsiooni kohta andmed puuduvad. Kaitsetoru maapinnaga tasa. Veepinnal naftasaaduste kihti pole. Veepinnal naftasaaduste kihti pole. Veeproovi ei võeta. | AP36: =algandmed!AQ36 -> Proovi ei võeta, kuna pole teada, milline on konstruktsioon ja millist veekihti proov iseloomustab. Inventariseerimisel juhuslikult leitud, ei vasta VPA nõuetele. | AQ36: =algandmed!AR36 -> - | AR36: =algandmed!AS36 -> Seiret ei plaanita, pole jääkreostusega seotud. | AU36: =LEN(A36) -> 0 | AV36: =LEN(B36) -> 4 | AW36: =LEN(C36) -> 10 | AX36: =LEN(D36) -> 9 | AY36: =LEN(E36) -> 10 | AZ36: =LEN(F36) -> 11 | BA36: =LEN(G36) -> 14 | BB36: =LEN(H36) -> 4 | ... CM36: =LEN(AS36) -> 0 | CN36: =SUM(AU36:CM36) -> 561
A37: 19862 | B37: PA-6611 | C37: JRA0000052 | D37: Holstre-Nõmme ABT | E37: 596749.67 | F37: 6464688 | G37: 57002:001:0057 | H37: 75.11 | I37: 0.93 | J37: 5.02 | K37: 5.15 | L37: 1.57 | M37: =H37-L37 -> 73.54 | N37: 42838 | O37: Metall 108mm: +0,85-1,15m; HDPE 60mm: +0,85-5,15m; F 0,15-4,15m | P37: Turvas: halvasti lagunenud; ei haise naftasaaduste järgi | Q37: 0.4 | R37: Peenliiv: kollakaspruun, alates 1,0 m pruun, kohev, veeküllastunud; ei haise naftasaaduste järgi | S37: 4 | T37: Peenliiv: pruun, kesktihe, veeküllastunud, õline ja haiseb naftasaaduste järgi | U37: 5.4 | V37: Peenliiv: pruun, tihe, veeküllastunud; ei haise naftasaaduste järgi | W37: 5.8 | X37: Kruus: pruun, tihe, veeküllastunud; ei haise naftasaaduste järgi | Y37: 6.2 | Z37: Savi: pruun, kõva, sisaldab liivakivi tükke | AI37: Henn Moora | AJ37: 36606186019 | AK37: 5276810 Henn Moora | AM37: Viljandi | AN37: Paistu vald | AO37: =algandmed!AP37 -> VPA on terve. Raskesti ligipääsetav, avamiseks 6-kantvõti 8. Veepinnal naftasaaduste kihti pole, põhjas 10cm pehmet setet, kuid mitte naftasaadus. | AP37: =algandmed!AQ37 -> Pumpamiseks saab autoga ca 50m kaugusele. Proov võeti pumbaga MP-1. | AQ37: =algandmed!AR37 -> Proovi võtmisel 03.10.2017 oli vett VPA-s 11,3l, pumba sügavus oli 5,4m manteltoru otsast. Proov võeti pärast 1-kordse veekoguse välja pumpamist (1 minutiga alanes veetase pumbani) sagedusel 120Hz. q 0,005. S 1,8 | AR37: =algandmed!AS37 -> Jätkata seiret. | AS37: Jääkreostuse likvideerimise projekti ettevalmistus endistel militaar- ja industriaalaladel, Maves nr-5168 | AU37: =LEN(A37) -> 5 | AV37: =LEN(B37) -> 7 | AW37: =LEN(C37) -> 10 | AX37: =LEN(D37) -> 17 | AY37: =LEN(E37) -> 10 | AZ37: =LEN(F37) -> 11 | BA37: =LEN(G37) -> 14 | BB37: =LEN(H37) -> 5 | ... CM37: =LEN(AS37) -> 105 | CN37: =SUM(AU37:CM37) -> 1188
A38: 19863 | B38: PA-6628 | C38: JRA0000052 | D38: Holstre-Nõmme ABT | E38: 596904.78 | F38: 6464684.8 | G38: 57002:001:0057 | H38: 76.35 | I38: 0.75 | J38: 8.03 | K38: 7.95 | L38: 3.56 | M38: =H38-L38 -> 72.79 | N38: 42838 | O38: Metall 108mm: +0,75-1,05m; HDPE 90mm: F +0,75-7,95m; | P38: Muld: ei haise naftasaaduste järgi | Q38: 0.3 | R38: Peenliiv: punakaspruun, alates 2m kollakashall, tihe, niiske; ei haise naftasaaduste järgi | S38: 3.9 | T38: Kruus munakatega: kollakashall, tihe; haiseb nõrgalt naftasaaduste järgi | U38: 5.6 | V38: Kruusakas liiv: kollakashall, tihe, niiske, alates 4,5 m veeküllastunud; haiseb nõrgalt naftasaaduste järgi | AI38: Henn Moora | AJ38: 36606186019 | AK38: 5276810 Henn Moora | AM38: Viljandi | AN38: Paistu vald | AO38: =algandmed!AP38 -> Väline kaitsetoru katki, sisemine korras, VPA pealt lahti. Veepinnal naftasaaduste kihti pole. Toru kõrgus maapinnast muutuv, kuna karjääritööd on jätnud toru üksikule saarele. Mõõtmised tehtud sisemisest plasttorust, mille kõrgus on 76,35m. | AP38: =algandmed!AQ38 -> Proov võeti pumbaga MP-1. | AQ38: =algandmed!AR38 -> Proovi võtmisel 03.10.2017 oli vett VPA-s 34l, pumba sügavus oli 8,5m manteltoru otsast. Proov võeti pärast 4-kordse veekoguse välja pumpamist (9 minutit) sagedusel 200Hz. q 0,25. S 0,36 | AR38: =algandmed!AS38 -> VPA-d mitte taastada ja see tuleb likvideerida, kuna on kahjustatud ja jääb karjääri arengule ette. | AS38: Jääkreostuse likvideerimise projekti ettevalmistus endistel militaar- ja industriaalaladel, Maves nr-5168 | AU38: =LEN(A38) -> 5 | AV38: =LEN(B38) -> 7 | AW38: =LEN(C38) -> 10 | AX38: =LEN(D38) -> 17 | AY38: =LEN(E38) -> 10 | AZ38: =LEN(F38) -> 11 | BA38: =LEN(G38) -> 14 | BB38: =LEN(H38) -> 5 | ... CM38: =LEN(AS38) -> 105 | CN38: =SUM(AU38:CM38) -> 1186
A39: 53456 | B39: VK-1 | C39: JRA0000052 | D39: Holstre-Nõmme ABT | E39: 596911.8 | F39: 6464839.9 | G39: 57002:001:0057 | H39: 73.94 | I39: 0.77 | J39: 4.83 | K39: 5 | L39: 1.74 | M39: =H39-L39 -> 72.2 | N39: 42838 | O39: PVH 125mm: +0,5-5,0m; F 1,0-5,0m | P39: Kruus, veerised, munakad | AI39: Henn Moora | AJ39: 36606186019 | AK39: 5276810 Henn Moora | AM39: Viljandi | AN39: Paistu vald | AO39: =algandmed!AP39 -> VPA on terve. Suletud tabalukuga, võti olemas. Sisemine plasttoru 8cm välisest torust madalamal. Algne sügavus oli oli 5m. Veepinnal naftasaaduste kihti pole. | AP39: =algandmed!AQ39 -> Proov võeti pumbaga MP-1. | AQ39: =algandmed!AR39 -> Proovi võtmisel 03.10.2017 oli vett VPA-s 34l, pumba sügavus oli 5,25m manteltoru otsast. Proov võeti pärast 4-kordse veekoguse välja pumpamist (8 minutit) sagedusel 200Hz. q 0,27. S 0,5 | AR39: =algandmed!AS39 -> Jätkata seiret. | AS39: Jääkreostuse likvideerimine Holstre–Nõmme ABT territooriumil. Seirepuurkaevu projekt. Alus-Geoloogia OÜ nr-1415 | AU39: =LEN(A39) -> 5 | AV39: =LEN(B39) -> 4 | AW39: =LEN(C39) -> 10 | AX39: =LEN(D39) -> 17 | AY39: =LEN(E39) -> 10 | AZ39: =LEN(F39) -> 11 | BA39: =LEN(G39) -> 14 | BB39: =LEN(H39) -> 5 | ... CM39: =LEN(AS39) -> 111 | CN39: =SUM(AU39:CM39) -> 707
B40: VPA-1 | C40: JRA0000071 | D40: Ida-Viru naftabaas | E40: 730919.43 | F40: 6588502 | G40: 85101:003:0321 | H40: 31.37 | I40: 0.66 | J40: 5.86 | K40: 5.6 | L40: 1.64 | M40: =H40-L40 -> 29.73 | N40: 42843 | O40: Metall 108mm: +0,62-4,4m; 93mm: F 4,4-5,6m | P40: Täitepinnas: saviliiv, muld, liiv, lubjakivi kamakad ja lahmakad | Q40: 2.5 | R40: Saviliivmoreen: hall, kõvaplastne, sisaldab jämepurdu 20% | S40: 3.5 | T40: Lubjakivi: hall, keskmisekihiline, õhukeste mergli vahekihtidega; sügavusel 5,5m lõhe | AI40: OÜ Souvi | AJ40: 11947412 | AK40: 5055134; 5057767; veljo@bravecapital.ee; 6517001 | AM40: Ida-Viru | AN40: Vaivara vald | AO40: =algandmed!AP40 -> VPA on terve. VPA-l puudus päis, pandi uus päis. Avamiseks 6-kantvõti 8. Veepinnal naftasaaduste kihti pole, põhjas 30cm paks õli. | AP40: =algandmed!AQ40 -> Proovi ei võeta, kuna see iseloomustaks vaid naftasaaduste lahustuvust vees. | AQ40: =algandmed!AR40 -> - | AR40: =algandmed!AS40 -> VPA puhastada õlisest settest ja säilitada edaspidiseks seireks. | AS40: Ida-Viru naftabaasi reostusuuring ja reostuse likvideerimise kava. AS Maves nr 4107 | AU40: =LEN(A40) -> 0 | AV40: =LEN(B40) -> 5 | AW40: =LEN(C40) -> 10 | AX40: =LEN(D40) -> 18 | AY40: =LEN(E40) -> 9 | AZ40: =LEN(F40) -> 10 | BA40: =LEN(G40) -> 14 | BB40: =LEN(H40) -> 5 | ... CM40: =LEN(AS40) -> 83 | CN40: =SUM(AU40:CM40) -> 788
B41: VPA-2 | C41: JRA0000071 | D41: Ida-Viru naftabaas | E41: 730885.99 | F41: 6588439.9 | G41: 85101:003:0321 | H41: 31.46 | I41: 1.01 | J41: 1.28 | K41: 5.1 | L41: 1.63 | M41: =H41-L41 -> 29.83 | N41: 42843 | O41: Metall 108mm: +0,80-4,4m; 93mm: F 4,4-5,1m | P41: Täitepinnas: saviliiv, muld, lubjakivi tükid | Q41: 1 | R41: Saviliiv: kollakashall, kõvaplastne | S41: 2.2 | T41: Saviliivmoreen: hall, kõvaplastne, sisaldab jämepurdu 40% | U41: 4 | V41: Lubjakivi: hall, keskmisekihiline, õhukeste mergli vahekihtidega | AI41: OÜ Souvi | AJ41: 11947412 | AK41: 5055134; 5057767; veljo@bravecapital.ee; 6517001 | AM41: Ida-Viru | AN41: Vaivara vald | AO41: =algandmed!AP41 -> VPA päis katki, pandi uus päis. Avamiseks 6-kantvõti 8. Veepinnal naftasaaduste kihti pole. | AP41: =algandmed!AQ41 -> VPA täisloobitud, sügavus vaid 2,29m torust (1,28m maapinnast). Veesammas VPA manteltoru osas vaid 0,66m. Proovi ei võetud. | AQ41: =algandmed!AR41 -> - | AR41: =algandmed!AS41 -> VPA puhastada settest ja säilitada edaspidiseks seireks. | AS41: Ida-Viru naftabaasi reostusuuring ja reostuse likvideerimise kava. AS Maves nr 4107 | AU41: =LEN(A41) -> 0 | AV41: =LEN(B41) -> 5 | AW41: =LEN(C41) -> 10 | AX41: =LEN(D41) -> 18 | AY41: =LEN(E41) -> 9 | AZ41: =LEN(F41) -> 10 | BA41: =LEN(G41) -> 14 | BB41: =LEN(H41) -> 5 | ... CM41: =LEN(AS41) -> 83 | CN41: =SUM(AU41:CM41) -> 782
B42: VPA-3 | C42: JRA0000071 | D42: Ida-Viru naftabaas | E42: 731172.06 | F42: 6588453.2 | G42: 85101:003:0321 | H42: 31.65 | I42: 0.53 | J42: 6.7 | K42: 6.1 | L42: =I42+1.17 -> 1.7 | M42: =H42-L42 -> 29.95 | N42: 42843 | O42: Metall 108mm: +0,68-2,95m; 93mm: F 2,95-6,1m | P42: Täitepinnas: saviliiv, muld, lubjakivi tükid | Q42: 0.9 | R42: Saviliiv: kollakashall, kõvaplastne | S42: 1.5 | T42: Saviliivmoreen: hall, kõvaplastne, sisaldab jämepurdu 20-30% | U42: 2 | V42: Lubjakivi: hall, keskmisekihiline, õhukeste mergli vahekihtidega | AI42: OÜ Souvi | AJ42: 11947412 | AK42: 5055134; 5057767; veljo@bravecapital.ee; 6517001 | AM42: Ida-Viru | AN42: Vaivara vald | AO42: =algandmed!AP42 -> VPA on terve. Päise avamiseks padrunvõti 17. Veepinnal 0,5cm naftasaaduste kiht. | AP42: =algandmed!AQ42 -> Proovi ei võeta, kuna see iseloomustaks vaid naftasaaduste lahustuvust vees. | AQ42: =algandmed!AR42 -> - | AR42: =algandmed!AS42 -> VPA puhastada naftasaadustest ja säilitada edaspidiseks seireks. | AS42: Ida-Viru naftabaasi reostusuuring ja reostuse likvideerimise kava. AS Maves nr 4107 | AU42: =LEN(A42) -> 0 | AV42: =LEN(B42) -> 5 | AW42: =LEN(C42) -> 10 | AX42: =LEN(D42) -> 18 | AY42: =LEN(E42) -> 9 | AZ42: =LEN(F42) -> 10 | BA42: =LEN(G42) -> 14 | BB42: =LEN(H42) -> 5 | ... CM42: =LEN(AS42) -> 83 | CN42: =SUM(AU42:CM42) -> 736
A43: 19860 | B43: PA-6525 | C43: JRA0000023 | D43: Jaska ABT | E43: 591190.97 | F43: 6489221.4 | G43: 54501:002:1360 | H43: 78.12 | I43: 0.7 | J43: 4.98 | K43: 5.05 | L43: 3.61 | M43: =H43-L43 -> 74.51 | N43: 42838 | O43: Metall 108mm: +0,6-1,4m; HDPE 60mm: +0,6-5,05m; F 0,05-4,05m | P43: Peen kuni kruusliiv: kollakaspruun, kesktihe, niiske-märg, sisaldab veerised ja munakaid; ei haise naftasaaduste järgi | Q43: 2.9 | R43: Peenliiv: mustjaspruun, ülemine 0,2 m õline kiht, kesktihe, veeküllastunud; alates 3,8 m kollakaspruun tihe; haiseb naftasaaduste järgi | AI43: OÜ Tällevere Agro | AJ43: 10998264 | AK43: 4359805 Ilmar Kõvtomas; rullitonu@hot.ee | AM43: Viljandi | AN43: Suure-Jaani | AO43: =algandmed!AP43 -> VPA on terve. Avamiseks 6-kant võti 8. Veepinnal paks naftasaaduste kiht, proovivõtutoru alla ei lähe. Algne sügavus oli oli 5,05m. | AP43: =algandmed!AQ43 -> Proovi ei võeta, kuna see iseloomustab vaid naftasaaduste lahustuvust vees. | AQ43: =algandmed!AR43 -> - | AR43: =algandmed!AS43 -> Jätkata seiret. | AS43: Jääkreostuse likvideerimise projekti ettevalmistus endistel militaar- ja industriaalaladel, Maves nr-5168 | AU43: =LEN(A43) -> 5 | AV43: =LEN(B43) -> 7 | AW43: =LEN(C43) -> 10 | AX43: =LEN(D43) -> 9 | AY43: =LEN(E43) -> 10 | AZ43: =LEN(F43) -> 11 | BA43: =LEN(G43) -> 14 | BB43: =LEN(H43) -> 5 | ... CM43: =LEN(AS43) -> 105 | CN43: =SUM(AU43:CM43) -> 824
A44: 19861 | B44: PA-6526 | C44: JRA0000023 | D44: Jaska ABT | E44: 591260.93 | F44: 6489274.8 | G44: 54501:002:1360 | H44: 77.88 | I44: 0.86 | J44: 6 | K44: 7.4 | L44: 4.27 | M44: =H44-L44 -> 73.61 | N44: 42838 | O44: Metall 108mm: +0,75-1,25m; HDPE 90mm: +0,6-7,4m; F 1,4-7,4m | P44: Peenliiv: mustjaspruun, ülemine 0,2 m õline kiht, kesktihe, veeküllastunud; alates 3,8 m kollakaspruun tihe; haiseb naftasaaduste järgi | Q44: 2.9 | R44: Peenliiv: mustjaspruun, ülemine 0,2 m õline kiht, kesktihe, veeküllastunud; alates 3,8 m kollakaspruun tihe; haiseb naftasaaduste järgi | AI44: OÜ Tällevere Agro | AJ44: 10998264 | AK44: 4359805 Ilmar Kõvtomas; rullitonu@hot.ee | AM44: Viljandi | AN44: Suure-Jaani | AO44: =algandmed!AP44 -> VPA on terve. Avamiseks 6-kant võti 8. Sisemine plasttoru on 31cm metalltorust madalamal. Algne sügavus oli oli 7,4m. Veepinnal naftasaaduste kihti pole. | AP44: =algandmed!AQ44 -> Proov võeti pumbaga MP-1. Pumpamisel annab väga palju liivast setet. | AQ44: =algandmed!AR44 -> Proovi võtmisel 03.10.2017 oli vett VPA-s 36l, pumba sügavus oli 5,75m manteltoru otsast. Proov võeti pärast 4-kordse veekoguse välja pumpamist (8 minutit) sagedusel 120Hz. q 0,07. S 0,86 | AR44: =algandmed!AS44 -> Jätkata seiret. | AS44: Jääkreostuse likvideerimise projekti ettevalmistus endistel militaar- ja industriaalaladel, Maves nr-5168 | AU44: =LEN(A44) -> 5 | AV44: =LEN(B44) -> 7 | AW44: =LEN(C44) -> 10 | AX44: =LEN(D44) -> 9 | AY44: =LEN(E44) -> 9 | AZ44: =LEN(F44) -> 11 | BA44: =LEN(G44) -> 14 | BB44: =LEN(H44) -> 5 | ... CM44: =LEN(AS44) -> 105 | CN44: =SUM(AU44:CM44) -> 1037
A45: 19827 | B45: PA-1905 | C45: JRA0000044 | D45: Kapasto ABT | E45: 426784 | F45: 6531394.1 | G45: 63901:001:1229 | H45: 21.57 | I45: 0.57 | J45: 2.84 | K45: 2.8 | L45: 2.22 | M45: =H45-L45 -> 19.35 | N45: 42818 | O45: Metall 108mm: +0,6-1,4m; HDPE: 60mm +0,6-2,8m; F 0,05-2,8m | P45: Keskliiv: kruusa vahekihtidega, kollakaspruun, kesktihe, niiske; ei haise naftasaaduste järgi | Q45: 1.5 | R45: Kruus: kruusliiva vahekihtidega, pruunikaskollane, kesktihe, märg; ei haise naftasaaduste järgi | AI45: OSAÜHING Kapastu | AJ45: 10261888 | AK45: 5091069, talguline@gmail.com | AM45: Hiiu | AN45: Pühalepa vald | AO45: =algandmed!AP45 -> VPA on terve. Avamiseks 6-kantvõti 8. VPA sügavus vaid 2,84m, Veepinnal naftasaaduste kihti pole. | AP45: =algandmed!AQ45 -> Proov võeti pumbaga MP-1 | AQ45: =algandmed!AR45 -> Proovi võtmisel 05.04.2017 oli vett VPA-s 2,4l, pumba sügavus oli 3,1m manteltoru otsast. Proov võeti pärast 4-kordse veekoguse väljapumpamist (105 sekundit) sagedusel 100Hz. VPA tootlikkust limiteerib filtertoru läbimõõt. q 0,017. S 0,88 | AR45: =algandmed!AS45 -> Jätkata seiret. | AS45: Jääkreostuse likvideerimise projekti ettevalmistus endistel militaar- ja industriaalaladel, Maves nr-5168 | AU45: =LEN(A45) -> 5 | AV45: =LEN(B45) -> 7 | AW45: =LEN(C45) -> 10 | AX45: =LEN(D45) -> 11 | AY45: =LEN(E45) -> 10 | AZ45: =LEN(F45) -> 11 | BA45: =LEN(G45) -> 14 | BB45: =LEN(H45) -> 5 | ... CM45: =LEN(AS45) -> 105 | CN45: =SUM(AU45:CM45) -> 897
B46: PA-1 | C46: JRA0000013 | D46: Keila-Joa raketibaas | E46: 518155.1 | F46: 6586192.7 | G46: 19801:011:0641 | H46: 29.08 | I46: 0.08 | K46: 9.2 | L46: =I46+0.52 -> 0.6 | M46: =H46-L46 -> 28.48 | N46: 35782 | O46: Metall 146mm: +0,1-1,0m; 112mm: F 1,0-9,2m | P46: Lubjakivi: õhukesekihiline, pruun, õline | Q46: 0.5 | R46: Lubjakivi: helehall, paksukihiline, väga tugev, vähelõheline | S46: 2 | T46: Lubjakivi: tumehall, paksukihiline, kesktugev, vähelõheline | U46: 5.5 | V46: Oiidlubjakivi | W46: 5.7 | X46: Lubjakivi: tumehall, palju kaverne | AI46: Pangapealse Arenduse OÜ | AJ46: 12867891 | AK46: 6007004; raamatupidamine@cellnex.eu | AM46: Harju | AN46: Harku vald | AO46: =algandmed!AP46 -> VPA on hävinud. | AP46: =algandmed!AQ46 -> - | AQ46: =algandmed!AR46 -> - | AR46: =algandmed!AS46 -> - | AS46: Gefährdungsabschätzung für die Liegenschaft Raketenbasis Keila Joa (Estland), IABG Umwelt, Dezember 1994 | AU46: =LEN(A46) -> 0 | AV46: =LEN(B46) -> 4 | AW46: =LEN(C46) -> 10 | AX46: =LEN(D46) -> 20 | AY46: =LEN(E46) -> 8 | AZ46: =LEN(F46) -> 9 | BA46: =LEN(G46) -> 14 | BB46: =LEN(H46) -> 5 | ... CM46: =LEN(AS46) -> 104 | CN46: =SUM(AU46:CM46) -> 551
B47: PA-2 | C47: JRA0000013 | D47: Keila-Joa raketibaas | E47: 518228.94 | F47: 6586177.9 | G47: 19801:011:0641 | H47: 29.01 | I47: 0.1 | J47: 7.3 | K47: 9.1 | L47: 1.17 | M47: =H47-L47 -> 27.84 | N47: 42893 | O47: Metall 146mm: +0,1-1,0m; 112mm: F 0-1,0m; 93mm: F 1,0-9,1m | P47: Muld | Q47: 0.25 | R47: Lubjakivi: nõrgalt murenenud, õhukesekihiline | S47: 1 | T47: Lubjakivi: paksukihiline, lillakate kihipindadega, väga tugev | U47: 2.8 | V47: Lubjakivi: paksukihiline, tugev, üksute mergli vahekihtidega, sügavusel 4,5m kavernid | W47: 5.1 | X47: Lubjakivi: dolomitiseerunud, väga tugev, oiididega | Y47: 6.2 | Z47: Lubjakivi: dolomitiseerunud, tugev, oiididega | AA47: 6.5 | AB47: Glaukoniitlubjakivi | AI47: Pangapealse Arenduse OÜ | AJ47: 12867891 | AK47: 6007004; raamatupidamine@cellnex.eu | AM47: Harju | AN47: Harku vald | AO47: =algandmed!AP47 -> Metallmantel on väljavõetud. Plastikmantel lahti, ei ole lubjakivis kinni. Päis on keere keermes. Pinnavesi ei ole lubjakivist isoleeritud ja saab valguda plastiktoru tagant VPA-sse. Algne sügavus oli oli 9,1m. Veepinnal naftasaaduste kihti pole. | AP47: =algandmed!AQ47 -> Proovi ei võetud. | AQ47: =algandmed!AR47 -> - | AR47: =algandmed!AS47 -> VPA nõuetekohaselt likvideerida. | AS47: Gefährdungsabschätzung für die Liegenschaft Raketenbasis Keila Joa (Estland), IABG Umwelt, Dezember 1995 | AU47: =LEN(A47) -> 0 | AV47: =LEN(B47) -> 4 | AW47: =LEN(C47) -> 10 | AX47: =LEN(D47) -> 20 | AY47: =LEN(E47) -> 10 | AZ47: =LEN(F47) -> 10 | BA47: =LEN(G47) -> 14 | BB47: =LEN(H47) -> 5 | ... CM47: =LEN(AS47) -> 104 | CN47: =SUM(AU47:CM47) -> 961
B48: PA-3 | C48: JRA0000013 | D48: Keila-Joa raketibaas | E48: 518199.19 | F48: 6586152.5 | G48: 19801:011:0641 | H48: 29.24 | I48: 0.45 | J48: 0.7 | K48: 7 | L48: 1,15 kinni | M48: 28,09 kinni | N48: 42893 | O48: Metall 146mm: +0,1-1m; 93mm: F 1,0-7,0m | P48: Täitepinnas: kivid, muld | Q48: 0.8 | R48: Lubjakivi: paksukihiline, alates 3,5m keskmisekihiline | AI48: Pangapealse Arenduse OÜ | AJ48: 12867891 | AK48: 6007004; raamatupidamine@cellnex.eu | AM48: Harju | AN48: Harku vald | AO48: =algandmed!AP48 -> Metallmantel on väljavõetud. Plastiktoru päiseta, pealt lahti. VPA on 0,7m sügavuselt kinni. Algne sügavus oli oli 7m. | AP48: =algandmed!AQ48 -> Proovi ei võetud. | AQ48: =algandmed!AR48 -> - | AR48: =algandmed!AS48 -> VPA puhastada ja nõuetekohaselt likvideerida. | AS48: Gefährdungsabschätzung für die Liegenschaft Raketenbasis Keila Joa (Estland), IABG Umwelt, Dezember 1996 | AU48: =LEN(A48) -> 0 | AV48: =LEN(B48) -> 4 | AW48: =LEN(C48) -> 10 | AX48: =LEN(D48) -> 20 | AY48: =LEN(E48) -> 10 | AZ48: =LEN(F48) -> 11 | BA48: =LEN(G48) -> 14 | BB48: =LEN(H48) -> 5 | ... CM48: =LEN(AS48) -> 104 | CN48: =SUM(AU48:CM48) -> 594
B49: PA-4 | C49: JRA0000013 | D49: Keila-Joa raketibaas | E49: 518156.58 | F49: 6586131.5 | G49: 19801:011:0641 | H49: 29.65 | I49: 0.1 | J49: 9.35 | K49: 9.5 | L49: 2.85 | M49: =H49-L49 -> 26.8 | N49: 42893 | O49: Metall 146mm: +0,1-1,0m; 93mm F 1,0-9,5m | P49: Lubjakivi: õhukesekihiline | Q49: 0.5 | R49: Lubjakivi oiididega | S49: 3.7 | T49: Lubjakivi | AI49: Pangapealse Arenduse OÜ | AJ49: 12867891 | AK49: 6007004; raamatupidamine@cellnex.eu | AM49: Harju | AN49: Harku vald | AO49: =algandmed!AP49 -> Päis puudub, pealt avatud. Algne sügavus oli oli 9,5m. Põhjas pehme sete. Veepinnal naftasaaduste kihti pole, vesi puhas. | AP49: =algandmed!AQ49 -> Proov võeti pumbaga MP-1. | AQ49: =algandmed!AR49 -> Proovi võtmisel 25.10.2017 oli vett VPA-s 58l, pumba sügavus oli 9,2m manteltoru otsast. Proov võeti pärast 1-kordse veekoguse välja pumpamist (4 minutiga alanes veetase pumbani) sagedusel 250Hz. q 0,025. S 7,97 | AR49: =algandmed!AS49 -> Jätkata seiret. | AS49: Gefährdungsabschätzung für die Liegenschaft Raketenbasis Keila Joa (Estland), IABG Umwelt, Dezember 1997 | AU49: =LEN(A49) -> 0 | AV49: =LEN(B49) -> 4 | AW49: =LEN(C49) -> 10 | AX49: =LEN(D49) -> 20 | AY49: =LEN(E49) -> 10 | AZ49: =LEN(F49) -> 11 | BA49: =LEN(G49) -> 14 | BB49: =LEN(H49) -> 5 | ... CM49: =LEN(AS49) -> 104 | CN49: =SUM(AU49:CM49) -> 755
B50: PA-5 | C50: JRA0000013 | D50: Keila-Joa raketibaas | E50: 518195.85 | F50: 6586112.7 | G50: 19801:011:0641 | H50: 29.94 | I50: 0.38 | J50: 8.15 | K50: 9.1 | L50: 2.94 | M50: =H50-L50 -> 27 | N50: 42893 | O50: Metall 146mm: +0,1-1,63m; 93mm: F 1,63-9,1 | P50: Täitepinnas: muld, veerised, lubjakivi lahmakad, samiin | Q50: 1 | R50: Lubjakivi: hall, paksukihiline, kesktugev kuni tugev, kohati dolomitiseerunud, õhukeste mergli vahekihtidega, vähe lõheline; keskosas raudoiididega, allosas glaukoniitlubjakivi | AI50: Pangapealse Arenduse OÜ | AJ50: 12867891 | AK50: 6007004; raamatupidamine@cellnex.eu | AM50: Harju | AN50: Harku vald | AO50: =algandmed!AP50 -> Päis puudub, VPA pealt lahti. Põhjas 10cm pehmet setet. Algne sügavus oli oli 9,1m. Veepinnal naftasaaduste kihti pole, vesi puhas. | AP50: =algandmed!AQ50 -> Proov võeti pumbaga MP-1. | AQ50: =algandmed!AR50 -> Proovi võtmisel 25.10.2017 oli vett VPA-s 50l, pumba sügavus oli 8,3m manteltoru otsast. Proov võeti pärast 4-kordse veekoguse välja pumpamist (10 minutit) sagedusel 250Hz. q 0,32. S 0,17 | AR50: =algandmed!AS50 -> VPA puhastada algse sügavuseni, sulgeda päisega ja jätkata seiret. | AS50: Keila-Joa endise raketibaasi täiendavad seirepuuraugud, RAS REI nr 9087X | AU50: =LEN(A50) -> 0 | AV50: =LEN(B50) -> 4 | AW50: =LEN(C50) -> 10 | AX50: =LEN(D50) -> 20 | AY50: =LEN(E50) -> 10 | AZ50: =LEN(F50) -> 11 | BA50: =LEN(G50) -> 14 | BB50: =LEN(H50) -> 5 | ... CM50: =LEN(AS50) -> 72 | CN50: =SUM(AU50:CM50) -> 932
B51: PA-6 | C51: JRA0000013 | D51: Keila-Joa raketibaas | E51: 518297.7 | F51: 6586109.6 | G51: 19801:011:0641 | H51: 29.08 | I51: -0.05 | J51: 8.3 | K51: 9.2 | L51: 1.52 | M51: =H51-L51 -> 27.56 | N51: 42893 | O51: Metall 146mm: +0,1-1m; 93mm F 1,0-9,2m | P51: Muld: | Q51: 0.1 | R51: Lubjakivi: õhukesekihiline | S51: 0.3 | T51: Lubjakivi: paksukihiline, 2,4m suur lõhe, setet täis | U51: 4.2 | V51: Lubjakivi: oiididega | AI51: Pangapealse Arenduse OÜ | AJ51: 12867891 | AK51: 6007004; raamatupidamine@cellnex.eu | AM51: Harju | AN51: Harku vald | AO51: =algandmed!AP51 -> Metallkaitsetoru on välja võetud. Plastikust päis on keere keermes. Algne sügavus oli oli 9,2m. Veepinnal naftasaaduste kihti pole, vesi puhas. | AP51: =algandmed!AQ51 -> Proov võeti pumbaga MP-1. | AQ51: =algandmed!AR51 -> Proovi võtmisel 25.10.2017 oli vett VPA-s 53l, pumba sügavus oli 7,95m manteltoru otsast. Proov võeti pärast 4-kordse veekoguse välja pumpamist (10 minutit) sagedusel 250Hz. q 0,35. S 0,23 | AR51: =algandmed!AS51 -> VPA puhastada ja nõuetekohaselt likvideerida. | AS51: Gefährdungsabschätzung für die Liegenschaft Raketenbasis Keila Joa (Estland), IABG Umwelt, Dezember 1999 | AU51: =LEN(A51) -> 0 | AV51: =LEN(B51) -> 4 | AW51: =LEN(C51) -> 10 | AX51: =LEN(D51) -> 20 | AY51: =LEN(E51) -> 10 | AZ51: =LEN(F51) -> 11 | BA51: =LEN(G51) -> 14 | BB51: =LEN(H51) -> 5 | ... CM51: =LEN(AS51) -> 104 | CN51: =SUM(AU51:CM51) -> 835
B52: PA-7 | C52: JRA0000013 | D52: Keila-Joa raketibaas | E52: 518092.91 | F52: 6586283.5 | G52: 19801:011:0641 | H52: 29.23 | I52: 0.57 | J52: 7.65 | K52: 8.7 | L52: 1.09 | M52: =H52-L52 -> 28.14 | N52: 42893 | O52: Metall 146mm: +0,1-0,5m; 93mm F 0,5-8,7m | P52: Lubjakivi | AI52: Pangapealse Arenduse OÜ | AJ52: 12867891 | AK52: 6007004; raamatupidamine@cellnex.eu | AM52: Harju | AN52: Harku vald | AO52: =algandmed!AP52 -> Metallkaitsetoru on välja võetud. Plastiktoru on lahti, ei ole lubjakivis kinni. Päis on keere keermes. Pinnavesi ei ole lubjakivist isoleeritud ja saab valguda plastiktoru tagant VPA-sse. Algne sügavus oli oli 8,7m. Veepinnal naftasaaduste kihti pole. | AP52: =algandmed!AQ52 -> Proovi ei võetud. | AQ52: =algandmed!AR52 -> - | AR52: =algandmed!AS52 -> VPA-le paigaldada metallkaitsetoru, isoleerida pinnaveest ja jätkata seiret. | AS52: Gefährdungsabschätzung für die Liegenschaft Raketenbasis Keila Joa (Estland), IABG Umwelt, Dezember 2000 | AU52: =LEN(A52) -> 0 | AV52: =LEN(B52) -> 4 | AW52: =LEN(C52) -> 10 | AX52: =LEN(D52) -> 20 | AY52: =LEN(E52) -> 10 | AZ52: =LEN(F52) -> 9 | BA52: =LEN(G52) -> 14 | BB52: =LEN(H52) -> 5 | ... CM52: =LEN(AS52) -> 104 | CN52: =SUM(AU52:CM52) -> 677
A53: PA-8 | B53: PA-8a | C53: JRA0000013 | D53: Keila-Joa raketibaas | E53: 517872.76 | F53: 6585921.1 | G53: 19801:001:2835 | H53: 27.45 | I53: 0.46 | J53: 7 | K53: 8 | L53: 3.8 | M53: =H53-L53 -> 23.65 | N53: 42893 | O53: Metall 122mm: +0,4-0,6m; 93mm: F 0,6-8,0m | P53: Muld veeristega | Q53: 0.2 | R53: Lubjakivi: hall, paksukihiline, kesktugev kuni tugev, kohati dolomitiseerunud, õhukeste mergli vahekihtidega, vähe lõheline. Sügavusel 3-4m raudoiidid, sügavusel 7-7,9m glaukoniitlubjakivi. Vesi ilmus 2,6m. | S53: 7.9 | T53: Glaukoniitliivakivi | AI53: Eesti Vabariik | AM53: Harju | AN53: Harku vald | AO53: =algandmed!AP53 -> VPA on terve. VPA avamiseks 6-kantvõti 8. Algne sügavus oli oli 8m. Veepinnal naftasaaduste kihti pole, vesi puhas. | AP53: =algandmed!AQ53 -> Proov võeti pumbaga MP-1. | AQ53: =algandmed!AR53 -> Proovi võtmisel 25.10.2017 oli vett VPA-s 32,6l, pumba sügavus oli 7,05m manteltoru otsast. Proov võeti pärast 4-kordse veekoguse välja pumpamist (7 minutit) sagedusel 250Hz. q 0,33. S 0,36 | AR53: =algandmed!AS53 -> Jätkata seiret. | AS53: Keila-Joa endise raketibaasi täiendavad seirepuuraugud, RAS REI nr 9087X | AU53: =LEN(A53) -> 4 | AV53: =LEN(B53) -> 5 | AW53: =LEN(C53) -> 10 | AX53: =LEN(D53) -> 20 | AY53: =LEN(E53) -> 10 | AZ53: =LEN(F53) -> 11 | BA53: =LEN(G53) -> 14 | BB53: =LEN(H53) -> 5 | ... CM53: =LEN(AS53) -> 72 | CN53: =SUM(AU53:CM53) -> 831
B54: PA-9a | C54: JRA0000013 | D54: Keila-Joa raketibaas | E54: 518222.47 | F54: 6585657.8 | G54: 19801:011:1640 | H54: 27.85 | I54: 0.51 | J54: 8 | K54: 8 | L54: 1.73 | M54: =H54-L54 -> 26.12 | N54: 42893 | O54: Metall 122mm: +0,47-1,33m; 93mm: F 1,33-8,0m | P54: Täitepinnas: muld, lubjakivi lahmakad, puidujäätmed, tihenemata | Q54: 1.05 | R54: Lubjakivi: murenenud, kollakashall, õhukeseskihiline | S54: 2.2 | T54: Lubjakivi: hall, keskmisekihiline, kesktugev | U54: 3 | V54: Lubjakivi: hall, lõheline, alates 3,2m vähene veeeraldus, vahemikus 3,9-4,0m mõõdukas veeeraldus | W54: 4 | X54: Lubjakivi: hall, keskmisekihiline, kesktugev | Y54: 4.5 | Z54: Lubjakivi: hall, tugev, raudoiididega | AA54: 4.9 | AB54: Lubjakivi: hall, keskmisekihiline, kesktugev või tugev | AC54: 6 | AD54: Lubjakivi: hall, väga lõheline, savika lõhetäitega, glaukoniiditeradega | AI54: Malle Lääts | AJ54: 43711170214 | AM54: Harju | AN54: Harku vald | AO54: =algandmed!AP54 -> Päis puudub, VPA pealt lahti. Sügavus 8m, põhjas pehme sete. Veepinnal 8cm paksune õlkiht. | AP54: =algandmed!AQ54 -> Proovi ei võeta, kuna see iseloomustaks vaid naftasaaduste lahustuvust vees | AQ54: =algandmed!AR54 -> - | AR54: =algandmed!AS54 -> VPA-st naftasaadused eemaldada (vajadusel korduvalt), sulgeda VPA päisega ja jätkata seiret. | AS54: Gefährdungsabschätzung für die Liegenschaft Raketenbasis Keila Joa (Estland), IABG Umwelt, Dezember 2002 | AU54: =LEN(A54) -> 0 | AV54: =LEN(B54) -> 5 | AW54: =LEN(C54) -> 10 | AX54: =LEN(D54) -> 20 | AY54: =LEN(E54) -> 10 | AZ54: =LEN(F54) -> 11 | BA54: =LEN(G54) -> 14 | BB54: =LEN(H54) -> 5 | ... CM54: =LEN(AS54) -> 104 | CN54: =SUM(AU54:CM54) -> 1015
B55: PA-12 | C55: JRA0000013 | D55: Keila-Joa raketibaas | E55: 518202.88 | F55: 6586042.8 | G55: 19801:011:0641 | H55: 28.86 | I55: 0.23 | J55: 8.1 | K55: 8.2 | L55: 3.08 | M55: =H55-L55 -> 25.78 | N55: 42893 | O55: Metall 127mm: +0,21-0,8; 112mm: F 0,80-5,2; 93mm F 5,2-8,2m | P55: Muld | Q55: 0.25 | R55: Lubjakivi: kollakashall, nõrgalt murenenud, õhukesekihiline, kesktugev | S55: 1 | T55: Lubjakivi: helehall, paksukihiline, väga tugev; sügavusel 2,6m kollase saviliivase ainega täitunud lõhe | U55: 2.8 | V55: Lubjakivi: tumehall, paksukihiline, kesktugev või tugev, üksikute õhukeste mergli vahekihtidega; sügavusel 4,5-5,1m väheste kavernidega; 5,1m vee vähene juurdevool | W55: 5.1 | X55: Lubjakivi: tumehall, väga tugev, dolomitiseerunud, ülaosas raudoiididega; sügavusel 5,7m lõhe | Y55: 6.2 | Z55: Lubjakivi: tumehall, tugev või kesktugev, paksukihiline, õhukeste mergli vahekihtidega, allosas glaukoniidi teradega | AI55: Pangapealse Arenduse OÜ | AJ55: 12867891 | AK55: 6007004; raamatupidamine@cellnex.eu | AM55: Harju | AN55: Harku vald | AO55: =algandmed!AP55 -> VPA on terve. VPA avamiseks padrunvõti 17. Algne sügavus oli oli 8,2m. Põhjas pehme sete. Veepinnal naftasaaduste kihti pole, vesi puhas. | AP55: =algandmed!AQ55 -> Proov võeti pumbaga MP-1. | AQ55: =algandmed!AR55 -> Proovi võtmisel 25.10.2017 oli vett VPA-s 49l, pumba sügavus oli 8m manteltoru otsast. Proov võeti pärast 4-kordse veekoguse välja pumpamist (10 minutit) sagedusel 250Hz. q 0,35. S 0,23 | AR55: =algandmed!AS55 -> Jätkata seiret. | AS55: Keila-Joa endise raketibaasi saneerimis- ja seirepuuraugud, RAS REI nr-8775X | AU55: =LEN(A55) -> 0 | AV55: =LEN(B55) -> 5 | AW55: =LEN(C55) -> 10 | AX55: =LEN(D55) -> 20 | AY55: =LEN(E55) -> 10 | AZ55: =LEN(F55) -> 11 | BA55: =LEN(G55) -> 14 | BB55: =LEN(H55) -> 5 | ... CM55: =LEN(AS55) -> 76 | CN55: =SUM(AU55:CM55) -> 1241
A56: PA-13 | B56: PA-13 | C56: JRA0000013 | D56: Keila-Joa raketibaas | E56: 518237.64 | F56: 6586097.7 | G56: 19801:011:0641 | H56: 29.02 | I56: 0.2 | J56: 4.65 | K56: 4.8 | L56: 1.81 | M56: =H56-L56 -> 27.21 | N56: 42893 | O56: Metall 127mm: +0,18-0,8m; 112mm F 0,8-3,5m; 93mm: F 3,5-4,8m | P56: Täitepinnas: muld, kruus, veerised, tihenenud | Q56: 0.8 | R56: Lubjakivi: helehall, paksukihiline, tugev; Sügavusel 3,30m ilmus vesi | S56: 3.5 | T56: Lubjakivi: tumehall, keskmisekihiline, tugev või kesktugev, väheste mergli vahekihtidega | AI56: Pangapealse Arenduse OÜ | AJ56: 12867891 | AK56: 6007004; raamatupidamine@cellnex.eu | AM56: Harju | AN56: Harku vald | AO56: =algandmed!AP56 -> Päis puudub, VPA pealt lahti. Sügavus 4,65m. Algne sügavus oli oli 4,8m. Veepinnal naftasaaduste kihti pole, vesi puhas. | AP56: =algandmed!AQ56 -> Proov võeti pumbaga MP-1. | AQ56: =algandmed!AR56 -> Proovi võtmisel 25.10.2017 oli vett VPA-s 31l, pumba sügavus oli 4,6m manteltoru otsast. Proov võeti pärast 10-kordse veekoguse välja pumpamist (16 minutit) sagedusel 250Hz. q 0,33. S 0,2 | AR56: =algandmed!AS56 -> VPA sulgeda päisega ja jätkata seiret. | AS56: Keila-Joa endise raketibaasi saneerimis- ja seirepuuraugud, RAS REI nr-8775X | AU56: =LEN(A56) -> 5 | AV56: =LEN(B56) -> 5 | AW56: =LEN(C56) -> 10 | AX56: =LEN(D56) -> 20 | AY56: =LEN(E56) -> 9 | AZ56: =LEN(F56) -> 11 | BA56: =LEN(G56) -> 14 | BB56: =LEN(H56) -> 5 | ... CM56: =LEN(AS56) -> 76 | CN56: =SUM(AU56:CM56) -> 898
A57: PA-14 | B57: PA-14 | C57: JRA0000013 | D57: Keila-Joa raketibaas | E57: 517990.86 | F57: 6586051.6 | G57: 19801:011:0641 | H57: 28.69 | I57: 0.32 | J57: 0.12 | K57: 8 | L57: 0,38 kinni | M57: 28,31 kinni | N57: 42893 | O57: Metall 127mm: +0,22-0,8m; 112mm: F 0,8-3,7m; 93mm: F 3,7-8,0m | P57: Lubjakivi: nõrgalt murenenud, õhukesekihiline | Q57: 0.5 | R57: Lubjakivi: hall, paksukihiline, tugev, alates 3m üksikute õhukeste mergli vahekihtidega; 3,3m sügavusel saviliivaga täitunud lõhe; sügavusel 4,1m lõhe | S57: 5.5 | T57: Lubjakiviv: hall, tugev või kesktugev, õhukeste mergli vahekihtidega, ülaosas raudoiididega, allosas glaukoniidi teradega | AI57: Pangapealse Arenduse OÜ | AJ57: 12867891 | AK57: 6007004; raamatupidamine@cellnex.eu | AM57: Harju | AN57: Harku vald | AO57: =algandmed!AP57 -> Päis puudub, VPA pealt lahti. VPA on 0,12m sügavuselt kinni. Algne sügavus oli oli 8m. Veepinnal naftasaaduste kihti pole. | AP57: =algandmed!AQ57 -> Proovi ei võetud. | AQ57: =algandmed!AS57 -> VPA puhastada endisele sügavusele 8m ja jätkata seiret. | AR57: =algandmed!AS57 -> VPA puhastada endisele sügavusele 8m ja jätkata seiret. | AS57: Keila-Joa endise raketibaasi saneerimis- ja seirepuuraugud, RAS REI nr-8775X | AU57: =LEN(A57) -> 5 | AV57: =LEN(B57) -> 5 | AW57: =LEN(C57) -> 10 | AX57: =LEN(D57) -> 20 | AY57: =LEN(E57) -> 10 | AZ57: =LEN(F57) -> 10 | BA57: =LEN(G57) -> 14 | BB57: =LEN(H57) -> 5 | ... CM57: =LEN(AS57) -> 76 | CN57: =SUM(AU57:CM57) -> 903
A58: PA-15 | B58: PA-15 | C58: JRA0000013 | D58: Keila-Joa raketibaas | E58: 518199.85 | F58: 6586142.7 | G58: 19801:011:0641 | H58: 29.04 | I58: 0.25 | J58: 5.42 | K58: 7 | L58: 1.38 | M58: =H58-L58 -> 27.66 | N58: 42893 | O58: Metall 127mm: +0,22-0,77m; 112mm: F 0,77-6,5m; 93mm: F 6,5-7,0m | P58: Täitepinnas: lubjakiviv lahmakad, muld, samiinine | Q58: 0.55 | R58: Lubjakiviv: murenenud, samiinine | S58: 0.7 | T58: Lubjakivi: hall, paksukihiline, tugev või kesktugev, allosas väheste õhukeste mergli vahekihtidega; sügavusel 3,8m ja 4,2m lõhed; vesi ilmus lõhest sügavusel 5,2m | U58: 5.2 | V58: Lubjakivi: hall, tugev, või kesktugev, õhukeste mergli vahakihtidega; ülaosas raudoiididega | AI58: Pangapealse Arenduse OÜ | AJ58: 12867891 | AK58: 6007004; raamatupidamine@cellnex.eu | AM58: Harju | AN58: Harku vald | AO58: =algandmed!AP58 -> Plastiktoru päiseta, pealt lahti. Algne sügavus oli oli 7m. Veepinnal naftasaaduste kihti pole, vesi puhas. | AP58: =algandmed!AQ58 -> Proov võeti pumbaga MP-1. | AQ58: =algandmed!AR58 -> Proovi võtmisel 25.10.2017 oli vett VPA-s 37,5l, pumba sügavus oli 5,4m manteltoru otsast. Proov võeti pärast 4-kordse veekoguse välja pumpamist (28 minutit) sagedusel 150Hz. Veetaseme sügavusel 1,7m torust oli kuulda vee jooksmist VPA-sse. q 0,09. S 1,44 | AR58: =algandmed!AS58 -> VPA-le paigaldada uus metallkaitsetoru ja päis, isoleerida pinnaveest ja jätkata seiret. | AS58: Keila-Joa endise raketibaasi saneerimis- ja seirepuuraugud, RAS REI nr-8775X | AU58: =LEN(A58) -> 5 | AV58: =LEN(B58) -> 5 | AW58: =LEN(C58) -> 10 | AX58: =LEN(D58) -> 20 | AY58: =LEN(E58) -> 10 | AZ58: =LEN(F58) -> 11 | BA58: =LEN(G58) -> 14 | BB58: =LEN(H58) -> 5 | ... CM58: =LEN(AS58) -> 76 | CN58: =SUM(AU58:CM58) -> 1142
A59: PA-16 | B59: PA-16 | C59: JRA0000013 | D59: Keila-Joa raketibaas | E59: 518239.72 | F59: 6585962 | G59: 19801:011:0641 | H59: 29.31 | I59: 0.24 | J59: 6.95 | K59: 7.2 | L59: 3.03 | M59: =H59-L59 -> 26.28 | N59: 42893 | O59: Metall 127mm: +0,24-0,75m; 112mm: F 0,75-4,6m; 93mm: F 4,6-7,2m | P59: Muld | Q59: 0.1 | R59: Lubjakivi: murenenud | S59: 0.3 | T59: Lubjakivi: hall, paksukihiline, tugev või kesktugev, alates 3m sügavuselt üksikute merglivahekihtidega. Sügavusel 2,40m lõhe pruuni saviliivase täitematerjaliga. Sügavusel 3m lõhe | U59: 4.2 | V59: Lubjakivi: hall, kesktugev või tugev, ülaosas raudooididega, allosas glaukoniiditeradega, sügavusel 3,3-3,5m mergli vahekiht. Sügavusel 5,2 ja 6,5 lõhed. | AI59: Pangapealse Arenduse OÜ | AJ59: 12867891 | AK59: 6007004; raamatupidamine@cellnex.eu | AM59: Harju | AN59: Harku vald | AO59: =algandmed!AP59 -> VPA on terve. VPA avamiseks padrunvõti 17. Algne sügavus oli oli 7,2m. Põhjas pehme sete. Veepinnal naftasaaduste kihti pole, vesi puhas. | AP59: =algandmed!AQ59 -> Proov võeti pumbaga MP-1. | AQ59: =algandmed!AR59 -> Proovi võtmisel 25.10.2017 oli vett VPA-s 38l, pumba sügavus oli 6,95m manteltoru otsast. Proov võeti pärast 4-kordse veekoguse välja pumpamist (8 minutit) sagedusel 250Hz. q 0,34. S 0,1 | AR59: =algandmed!AS59 -> VPA nõuetekohaselt likvideerida. | AS59: Keila-Joa endise raketibaasi saneerimis- ja seirepuuraugud, RAS REI nr-8775X | AU59: =LEN(A59) -> 5 | AV59: =LEN(B59) -> 5 | AW59: =LEN(C59) -> 10 | AX59: =LEN(D59) -> 20 | AY59: =LEN(E59) -> 10 | AZ59: =LEN(F59) -> 11 | BA59: =LEN(G59) -> 14 | BB59: =LEN(H59) -> 5 | ... CM59: =LEN(AS59) -> 76 | CN59: =SUM(AU59:CM59) -> 1070
B60: PA-17 | C60: JRA0000013 | D60: Keila-Joa raketibaas | E60: 518167.56 | F60: 6586114.1 | G60: 19801:011:0641 | H60: 28.99 | I60: 0.17 | J60: 7 | K60: 7.2 | L60: 2.27 | M60: =H60-L60 -> 26.72 | N60: 42893 | O60: Metall 127mm: +0,13-0,8m; 93mm: F 0,8-7,2m | P60: Lubjakivi: murenenud, pruunikashall, kesktugev, õhukesekihiline | Q60: 0.5 | R60: Lubjakivi, helehall, paksukihiline, tugev või väga tugev | S60: 2 | T60: Lubjakivi: tumehall, paksukihiline, kesktugev või tugev, üksikute õhukeste merglivahekihtidega, kohati väheseid kaverne ja lõhesid. Sügavusel 4,5 veelõhe | U60: 5.5 | V60: Lubjakivi: paksukihiline, raudoiididega | W60: 6.2 | X60: Lubjakivi: dolomitiseerunud, tumehall, paksukihiline, rohkete kavernidega | AI60: Pangapealse Arenduse OÜ | AJ60: 12867891 | AK60: 6007004; raamatupidamine@cellnex.eu | AM60: Harju | AN60: Harku vald | AO60: =algandmed!AP60 -> Päis puudub, VPA pealt lahti. Algne sügavus oli oli 7,2m. Veepinnal naftasaaduste kihti pole, vesi puhas. | AP60: =algandmed!AQ60 -> Proov võeti pumbaga MP-1. | AQ60: =algandmed!AR60 -> Proovi võtmisel 25.10.2017 oli vett VPA-s 48l, pumba sügavus oli 6,9m manteltoru otsast. Proov võeti pärast 4-kordse veekoguse välja pumpamist (12 minutit) sagedusel 250Hz. q 0,27. S 0,8 | AR60: =algandmed!AS60 -> VPA sulgeda päisega ja jätkata seiret. | AS60: Keila-Joa endise raketibaasi saneerimis- ja seirepuuraugud, RAS REI nr-8775X | AU60: =LEN(A60) -> 0 | AV60: =LEN(B60) -> 5 | AW60: =LEN(C60) -> 10 | AX60: =LEN(D60) -> 20 | AY60: =LEN(E60) -> 10 | AZ60: =LEN(F60) -> 11 | BA60: =LEN(G60) -> 14 | BB60: =LEN(H60) -> 5 | ... CM60: =LEN(AS60) -> 76 | CN60: =SUM(AU60:CM60) -> 1044
B61: PA-18 | C61: JRA0000013 | D61: Keila-Joa raketibaas | E61: 518081 | F61: 6586108 | G61: 19801:011:0641 | H61: 29.56 | I61: 0.36 | K61: 7.5 | L61: =I61+3.65 -> 4.01 | M61: =H61-L61 -> 25.55 | N61: 42893 | O61: Metall 122mm: +0,36-0,64m; 93mm: F 0,64-7,5m | P61: Muld: veeristega | Q61: 0.3 | R61: Lubjakivi: valdavalt paksukihiline, kesktugev kuni tugev, kohati dolomitiseerunud, õhukeste mergli vahekihtidega, kohati väheseid kaverne ja lõhesid; vahemikus 3,5-4m raudoiididega; vesi ilmus lõhest 5,1m sügavusel | AI61: Pangapealse Arenduse OÜ | AJ61: 12867891 | AK61: 6007004; raamatupidamine@cellnex.eu | AM61: Harju | AN61: Harku vald | AO61: =algandmed!AP61 -> VPA on hävinud. | AP61: =algandmed!AQ61 -> - | AQ61: =algandmed!AR61 -> - | AR61: =algandmed!AS61 -> - | AS61: Keila-Joa endise raketibaasi täiendavad seirepuuraugud, RAS REI nr 9087X | AU61: =LEN(A61) -> 0 | AV61: =LEN(B61) -> 5 | AW61: =LEN(C61) -> 10 | AX61: =LEN(D61) -> 20 | AY61: =LEN(E61) -> 6 | AZ61: =LEN(F61) -> 7 | BA61: =LEN(G61) -> 14 | BB61: =LEN(H61) -> 5 | ... CM61: =LEN(AS61) -> 72 | CN61: =SUM(AU61:CM61) -> 536
B62: PA-19 | C62: JRA0000013 | D62: Keila-Joa raketibaas | E62: 518263.73 | F62: 6586039 | G62: 19801:011:0641 | H62: 29.76 | I62: 0.34 | J62: 7.9 | K62: 8 | L62: 2.81 | M62: =H62-L62 -> 26.95 | N62: 42893 | O62: Metall 122mm: +0,27-0,73m; 93mm: F 0,73-8,0m | P62: Muld: veeristega | Q62: 0.15 | R62: Lubjakivi: murenenud, kollakashall, õhukeseskihiline | S62: 0.35 | T62: Lubjakivi: paksukihiline, kesktugev kuni tugev, kohati dolomitiseerunud, õhukeste mergli vahekihtidega; 3,5-4m raudoiididega, sügavusel 7,5m glaukoniidi teradega; 3,6m sügavusel samiinihaisuga lõhe; vesi ilmus lõhest 6,1m sügavusel | AI62: Pangapealse Arenduse OÜ | AJ62: 12867891 | AK62: 6007004; raamatupidamine@cellnex.eu | AM62: Harju | AN62: Harku vald | AO62: =algandmed!AP62 -> VPA on terve. VPA avamiseks 6-kantvõti 8. Algne sügavus oli oli 8,0m. Veepinnal naftasaaduste kihti pole, vesi puhas. | AP62: =algandmed!AQ62 -> Proov võeti pumbaga MP-1. | AQ62: =algandmed!AR62 -> Proovi võtmisel 25.10.2017 oli vett VPA-s 47l, pumba sügavus oli 7,95m manteltoru otsast. Proov võeti pärast 4-kordse veekoguse välja pumpamist (10 minutit) sagedusel 250Hz. q 0,32. S 0,46 | AR62: =algandmed!AS62 -> Jätkata seiret. | AS62: Keila-Joa endise raketibaasi täiendavad seirepuuraugud, RAS REI nr 9087X | AU62: =LEN(A62) -> 0 | AV62: =LEN(B62) -> 5 | AW62: =LEN(C62) -> 10 | AX62: =LEN(D62) -> 20 | AY62: =LEN(E62) -> 10 | AZ62: =LEN(F62) -> 11 | BA62: =LEN(G62) -> 14 | BB62: =LEN(H62) -> 5 | ... CM62: =LEN(AS62) -> 72 | CN62: =SUM(AU62:CM62) -> 947
A63: 19837 | B63: PA-1217 | C63: JRA0000017 | D63: Kopli Kaubajaam | E63: 541149.02 | F63: 6589468.2 | G63: 78401:101:1602 | H63: 14.03 | I63: 1.07 | J63: 0.11 | K63: 2.3 | L63: 1,18 kinni | M63: 1,18 kinni | N63: 42893 | O63: Metall 108mm: +0,9-1,1m; HDPE: 60mm F +0,4-1,6m | P63: Täitepinnas: muld, killustik, tellise tükid; ei haise naftasaaduste järgi | Q63: 0.8 | R63: Peenliiv:kollakspruun, kesktihe, veeküllastunud; ei haise naftasaaduste järgi | S63: 1.3 | T63: Tolmliiv: hall, tihe, veeküllastunud, sisaldab orgaanilist ainet; ei haise naftasaaduste järgi | U63: 2 | V63: Tolmliiv: hall, tihe; ei haise naftasaaduste järgi | AI63: Eesti Vabariik | AJ63: - | AK63: 5201679 Kai Peet; | AL63: AS Eesti Raudtee | AM63: Harju | AN63: Tallinn | AO63: =algandmed!AP63 -> Metallkaitsetoru kõver, varem on kaitsetoru olnud üle maapinna 0,9m. VPA täisloobitud sügavusel 0,11m (torust 1,18m) või on 60mm plasttoru katki. Algne sügavus oli 1,6m. | AP63: =algandmed!AQ63 -> Proovi ei võetud. | AQ63: =algandmed!AR63 -> - | AR63: =algandmed!AS63 -> VPA puhastada ja nõuetekohaselt likvideerida. | AS63: Jääkreostuse likvideerimise projekti ettevalmistus endistel militaar- ja industriaalaladel, Maves nr-5168 | AU63: =LEN(A63) -> 5 | AV63: =LEN(B63) -> 7 | AW63: =LEN(C63) -> 10 | AX63: =LEN(D63) -> 15 | AY63: =LEN(E63) -> 10 | AZ63: =LEN(F63) -> 10 | BA63: =LEN(G63) -> 14 | BB63: =LEN(H63) -> 5 | ... CM63: =LEN(AS63) -> 105 | CN63: =SUM(AU63:CM63) -> 857
A64: 19838 | B64: PA-1225 | C64: JRA0000017 | D64: Kopli Kaubajaam | E64: 540721.16 | F64: 6589734.9 | G64: 78401:101:1988 | H64: 12.73 | I64: 0.51 | J64: 3.73 | K64: 3.7 | L64: 3.25 | M64: =H64-L64 -> 9.48 | N64: 42893 | O64: Metall 108mm: +0,5-1,5m; HDPE: 60mm F +0,3-3,7m | P64: Täitepinnas: muld, killustik, peenliiv; alates 1,6m šlakk, pruun; ei haise naftasaaduste järgi | Q64: 2.4 | R64: Turvas: pruun, keskmiselt lagunenud; ei haise naftasaaduste järgi | S64: 2.45 | T64: Keskliiv: punakaspruun, tihe, niiske, alates 2,9m veeküllastunud; ei haise naftasaaduste järgi | U64: 3.3 | V64: Tolmliiv: helehall, tihe, veeküllastunud, alates 3,4m kollakaspruun, niiske, sisaldab väikesi liivakivi tükke; ei haise naftasaaduste järgi | W64: 3.9 | X64: Liivakivi: murenenud, hall, väikeste tugevate liivkivi tükkidega; ei haise naftasaaduste järgi | AI64: OÜ Mentenon | AJ64: 10570106 | AK64: 5201679 Kai Peet; 6663111; teet@rrk.ee | AM64: Harju | AN64: Tallinn | AO64: =algandmed!AP64 -> VPA on terve. Avamiseks 6-kantvõti 8. 60mm plasttoru on välisest metallkaitsetorust 0,2m madalamal. Veepinnal naftasaaduste kihti pole. | AP64: =algandmed!AQ64 -> Proov võeti baileriga. | AQ64: =algandmed!AR64 -> Proovi võtmiseks pumbaga MP-1 oli vett vähe, vaid 3,6l. Proov võeti baileriga pärast 4-kordse mahu väljavõtmist. Veetase VPA-s taastus 0,6m (4...3,4m mõõdetuna manteltoru otsast) 330 sekundiga. | AR64: =algandmed!AS64 -> VPA puhastada ja nõuetekohaselt likvideerida. | AS64: Jääkreostuse likvideerimise projekti ettevalmistus endistel militaar- ja industriaalaladel, Maves nr-5168 | AU64: =LEN(A64) -> 5 | AV64: =LEN(B64) -> 7 | AW64: =LEN(C64) -> 10 | AX64: =LEN(D64) -> 15 | AY64: =LEN(E64) -> 9 | AZ64: =LEN(F64) -> 9 | BA64: =LEN(G64) -> 14 | BB64: =LEN(H64) -> 5 | ... CM64: =LEN(AS64) -> 105 | CN64: =SUM(AU64:CM64) -> 1213
B65: VPA-1 | C65: JRA0000017 | D65: Kopli Kaubajaam | E65: 540202.59 | F65: 6590173.9 | G65: 78401:101:1692 | H65: 12.9 | I65: 0.29 | J65: 7.18 | K65: 7.8 | L65: 3.38 | M65: =H65-L65 -> 9.52 | N65: 42893 | O65: PVC 200mm: +0,2-0,8m; HDPE 90mm: +0,2-7,8m; F 1,8-7,8m | P65: Täitepinnas: killustik, liiv | Q65: 2.5 | R65: Täitepinnas: must peenliiv, alumine 0,5m betoon | S65: 5 | T65: Aleuriitne liivakivi aleuriitse savi vahekihtidega | AI65: Eesti Vabariik | AJ65: - | AM65: Harju | AN65: Tallinn | AO65: =algandmed!AP65 -> VPA on terve. Avamiseks ristpea kruvikeeraja. 90mm plasttoru on välisest kaitsetorust 2,5cm madalamal. Algne sügavus oli oli 7,8m. Veepinnal naftasaaduste kihti pole, vesi puhas. | AP65: =algandmed!AQ65 -> Proov võeti pumbaga MP-1. Pumpamisel tuleb palju tolmliiva setet. Taastub aeglaselt. | AQ65: =algandmed!AR65 -> Proovi võtmisel 06.10.2017 oli vett VPA-s 21l, pumba sügavus oli 7,2m manteltoru otsast. Proov võeti pärast 1-kordse veekoguse välja pumpamist (3 minutit - alanes veetase pumbani) sagedusel 105Hz. q 0,03. S 3,5 | AR65: =algandmed!AS65 -> VPA puhastada ja nõuetekohaselt likvideerida. | AS65: Kopli kaubajaama vaatluspuuraukude rajamine, Maves nr-12110 | AU65: =LEN(A65) -> 0 | AV65: =LEN(B65) -> 5 | AW65: =LEN(C65) -> 10 | AX65: =LEN(D65) -> 15 | AY65: =LEN(E65) -> 9 | AZ65: =LEN(F65) -> 11 | BA65: =LEN(G65) -> 14 | BB65: =LEN(H65) -> 4 | ... CM65: =LEN(AS65) -> 59 | CN65: =SUM(AU65:CM65) -> 878
B66: VPA-2 | C66: JRA0000017 | D66: Kopli Kaubajaam | E66: 540014.51 | F66: 6590100.6 | G66: Reformimata riigimaa | H66: 9.94 | I66: 0.35 | J66: 7.28 | K66: 7.7 | L66: 2.43 | M66: =H66-L66 -> 7.51 | N66: 42893 | O66: PVC 200mm: +0,3-0,7m; HDPE 90mm: +0,3-7,7m; F 1,7-7,7m | P66: Täitepinnas: killustik, liiv | Q66: 1.8 | R66: Täitepinnas: peenliiv kollakashall, kesktihe, niiske, alates 2,5m must | S66: 3 | T66: Saviliiv: tumehall, sitkeplastne | U66: 3.5 | V66: Saviliivmoreen: hall, sitkeplastne | W66: 4.4 | X66: Aleuriitne liivakivi aleuriitse savi vahekihtidega | AI66: AS Eesti Raudtee | AM66: Harju | AN66: Tallinn | AO66: =algandmed!AP66 -> VPA 200mm kaitsetoru on katki. Sisemine 90mm plasttoru 2cm välisest kaitsetorust madalamal. Algne sügavus oli 7,7m. Veepinnal naftasaaduste kihti pole. | AP66: =algandmed!AQ66 -> Proov võeti pumbaga MP-1. Pumpamisel tuleb palju liivasetet. | AQ66: =algandmed!AR66 -> Proovi võtmisel 06.10.2017 oli vett VPA-s 26l, pumba sügavus oli 7,35m manteltoru otsast. Proov võeti pärast 4-kordse veekoguse välja pumpamist (24 minutit) sagedusel 90Hz. q 0,07. S 0,88 | AR66: =algandmed!AS66 -> VPA puhastada ja nõuetekohaselt likvideerida. | AS66: Kopli kaubajaama vaatluspuuraukude rajamine, Maves nr-12111 | AU66: =LEN(A66) -> 0 | AV66: =LEN(B66) -> 5 | AW66: =LEN(C66) -> 10 | AX66: =LEN(D66) -> 15 | AY66: =LEN(E66) -> 10 | AZ66: =LEN(F66) -> 11 | BA66: =LEN(G66) -> 20 | BB66: =LEN(H66) -> 4 | ... CM66: =LEN(AS66) -> 59 | CN66: =SUM(AU66:CM66) -> 907
B67: VPA-3 | C67: JRA0000017 | D67: Kopli Kaubajaam | E67: 539947.37 | F67: 6590075.6 | G67: Reformimata riigimaa | H67: 8.92 | I67: 0.28 | J67: 7.6 | K67: 7.85 | L67: 1.98 | M67: =H67-L67 -> 6.94 | N67: 42893 | O67: PVC 200mm: +0,15-0,85m; HDPE 90mm: +0,15-7,85m; F 1,85-7,85m | P67: Täitepinnas: killustik, kruus | Q67: 0.8 | R67: Täitepinnas: peenliiv kollane, tihe, niiske, alates 1,8m must | S67: 3.5 | T67: Kruusliiv: hall, tihe | U67: 4.8 | V67: Aleuriitne liivakivi aleuriitse savi vahekihtidega | AI67: AS Eesti Raudtee | AM67: Harju | AN67: Tallinn | AO67: =algandmed!AP67 -> VPA 200mm kaitsetoru on katki. Avamiseks ristpea kruvikeeraja. Sisemine 90mm plasttoru 3cm välisest kaitsetorust madalamal. Algne sügavus oli 7,85m. Veepinnal naftasaaduste kihti pole. | AP67: =algandmed!AQ67 -> Proov võeti pumbaga MP-1. | AQ67: =algandmed!AR67 -> Proovi võtmisel 06.10.2017 oli vett VPA-s 35l, pumba sügavus oli 8,65m manteltoru otsast. Proov võeti pärast 1-kordse veekoguse välja pumpamist (32 minutit) sagedusel 90Hz. q 0,018. S 2,3 | AR67: =algandmed!AS67 -> VPA puhastada ja nõuetekohaselt likvideerida. | AS67: Kopli kaubajaama vaatluspuuraukude rajamine, Maves nr-12112 | AU67: =LEN(A67) -> 0 | AV67: =LEN(B67) -> 5 | AW67: =LEN(C67) -> 10 | AX67: =LEN(D67) -> 15 | AY67: =LEN(E67) -> 10 | AZ67: =LEN(F67) -> 11 | BA67: =LEN(G67) -> 20 | BB67: =LEN(H67) -> 4 | ... CM67: =LEN(AS67) -> 59 | CN67: =SUM(AU67:CM67) -> 857
B68: VPA-4 | C68: JRA0000017 | D68: Kopli Kaubajaam | E68: 540836.75 | F68: 6589727.9 | G68: 78401:101:1602 | H68: 13.32 | I68: 0.32 | J68: 6.1 | K68: 5.7 | L68: 2.37 | M68: =H68-L68 -> 10.95 | N68: 42893 | O68: PVC 200mm: +0,3-0,7m; HDPE 90mm: +0,3-5,7m; F 1,7-5,7m | P68: Täitepinnas: muld, killustik, liiv | Q68: 2.1 | R68: Aluspõhja liiv: (murenenud liivakivi) | S68: 2.8 | T68: Aleuriitne liivakivi aleuriitse savi vahekihtidega | AI68: Eesti Vabariik | AJ68: - | AK68: 5201679 Kai Peet; | AL68: AS Eesti Raudtee | AM68: Harju | AN68: Tallinn | AO68: =algandmed!AP68 -> VPA on terve. Avamiseks ristpea kruvikeeraja. Sisemine 90mm plasttoru 9cm välisest kaitsetorust madalamal. Algne sügavus oli 6,1m. Veepinnal naftasaaduste kihti pole. | AP68: =algandmed!AQ68 -> Proov võeti pumbaga MP-1. | AQ68: =algandmed!AR68 -> Proovi võtmisel 06.10.2017 oli vett VPA-s 20l, pumba sügavus oli 5,7m manteltoru otsast. Proov võeti pärast 1-kordse veekoguse välja pumpamist (20 minutit) sagedusel 80Hz. q 0,005. S 3,23 | AR68: =algandmed!AS68 -> VPA puhastada ja nõuetekohaselt likvideerida. | AS68: Kopli kaubajaama vaatluspuuraukude rajamine, Maves nr-12113 | AU68: =LEN(A68) -> 0 | AV68: =LEN(B68) -> 5 | AW68: =LEN(C68) -> 10 | AX68: =LEN(D68) -> 15 | AY68: =LEN(E68) -> 10 | AZ68: =LEN(F68) -> 11 | BA68: =LEN(G68) -> 14 | BB68: =LEN(H68) -> 5 | ... CM68: =LEN(AS68) -> 59 | CN68: =SUM(AU68:CM68) -> 817
B69: VPA-5 | C69: JRA0000017 | D69: Kopli Kaubajaam | E69: 540801.68 | F69: 6589732.5 | G69: 78401:101:1602 | H69: 13.34 | I69: 0.46 | J69: 4 | K69: 5.6 | L69: 2.74 | M69: =H69-L69 -> 10.6 | N69: 42893 | O69: PVC 200mm: +0,4-0,6m; HDPE 90mm: +0,4-5,6m; F 1,6-5,6m | P69: Täitepinnas: asfalt 0,1m ja killustik, alates 0,3m liiv | Q69: 0.8 | R69: Peenliiv: kollakaspruun kuni hall, tihe, niiske | S69: 2.6 | T69: Aleuriitne liivakivi aleuriitse savi vahekihtidega | AI69: Eesti Vabariik | AJ69: - | AK69: 5201679 Kai Peet; | AL69: AS Eesti Raudtee | AM69: Harju | AN69: Tallinn | AO69: =algandmed!AP69 -> VPA on terve. Avamiseks ristpea kruvikeeraja. Sisemine 90mm plasttoru 5cm välisest kaitsetorust madalamal. Algne sügavus oli 5,6m, põhjas savikas sete. Veepinnal naftasaaduste kihti pole. | AP69: =algandmed!AQ69 -> Proov võeti pumbaga MP-1. | AQ69: =algandmed!AR69 -> Proovi võtmisel 06.10.2017 oli vett VPA-s 10,25l, pumba sügavus oli 4,2m manteltoru otsast. Proov võeti pärast 4-kordse veekoguse välja pumpamist (25 minutit) sagedusel 87Hz. q 0,018. S 1,03 | AR69: =algandmed!AS69 -> VPA puhastada ja nõuetekohaselt likvideerida. | AS69: Kopli kaubajaama vaatluspuuraukude rajamine, Maves nr-12114 | AU69: =LEN(A69) -> 0 | AV69: =LEN(B69) -> 5 | AW69: =LEN(C69) -> 10 | AX69: =LEN(D69) -> 15 | AY69: =LEN(E69) -> 10 | AZ69: =LEN(F69) -> 10 | BA69: =LEN(G69) -> 14 | BB69: =LEN(H69) -> 5 | ... CM69: =LEN(AS69) -> 59 | CN69: =SUM(AU69:CM69) -> 868
B70: VPA-6 | C70: JRA0000017 | D70: Kopli Kaubajaam | E70: 540796.11 | F70: 6589696.8 | G70: 78401:101:1988 | H70: 12.86 | I70: 0.31 | J70: 5.15 | K70: 5.75 | L70: 2.43 | M70: =H70-L70 -> 10.43 | N70: 42893 | O70: PVC 200mm: +0,25-0,75m; HDPE 90mm: +0,25-5,75m; F 1,75-5,75m | P70: Täitepinnas: muld, liiv | Q70: 2.2 | R70: Peenliiv: kollakashall, tihe, niiske | S70: 3 | T70: Murenenud liivakivi | U70: 3.2 | V70: Aleuriitne liivakivi aleuriitse savi vahekihtidega | AI70: OÜ Mentenon | AJ70: 10570106 | AK70: 5201679 Kai Peet; 6663111; teet@rrk.ee | AM70: Harju | AN70: Tallinn | AO70: =algandmed!AP70 -> VPA on terve. Avamiseks ristpea kruvikeeraja. Sisemine 90mm plasttoru 6cm välisest kaitsetorust madalamal. Algne sügavus oli 5,75m, põhjas savikas rauane sete. Veepinnal naftasaaduste kihti pole. | AP70: =algandmed!AQ70 -> Proov võeti pumbaga MP-1. | AQ70: =algandmed!AR70 -> Proovi võtmisel 06.10.2017 oli vett VPA-s 14l, pumba sügavus oli 4,7m manteltoru otsast. Proov võeti pärast 4-kordse veekoguse välja pumpamist (23 minutit) sagedusel 110Hz. q 0,018. S 1,03 | AR70: =algandmed!AS70 -> VPA puhastada ja nõuetekohaselt likvideerida. | AS70: Kopli kaubajaama vaatluspuuraukude rajamine, Maves nr-12115 | AU70: =LEN(A70) -> 0 | AV70: =LEN(B70) -> 5 | AW70: =LEN(C70) -> 10 | AX70: =LEN(D70) -> 15 | AY70: =LEN(E70) -> 10 | AZ70: =LEN(F70) -> 11 | BA70: =LEN(G70) -> 14 | BB70: =LEN(H70) -> 5 | ... CM70: =LEN(AS70) -> 59 | CN70: =SUM(AU70:CM70) -> 872
B71: VPA-7 | C71: JRA0000017 | D71: Kopli Kaubajaam | E71: 540866.16 | F71: 6589828.8 | G71: 78401:101:1602 | H71: 13.98 | I71: 0.34 | J71: 5.63 | K71: 5.8 | L71: 1.59 | M71: =H71-L71 -> 12.39 | N71: 42893 | O71: PVC 200mm: +0,20-0,80m; HDPE 90mm: +0,20-5,80m; F 1,80-5,80m | P71: Täitepinnas: muld, liiv | Q71: 1.6 | R71: Aleuriitne liivakivi aleuriitse savi vahekihtidega | AI71: Eesti Vabariik | AJ71: - | AK71: 5201679 Kai Peet; | AL71: AS Eesti Raudtee | AM71: Harju | AN71: Tallinn | AO71: =algandmed!AP71 -> VPA on terve. Avamiseks ristpea kruvikeeraja. Sisemine 90mm plasttoru 7cm välisest kaitsetorust madalamal. Algne sügavus oli 5,8m. Veepinnal naftasaaduste kihti pole. | AP71: =algandmed!AQ71 -> Proov võeti pumbaga MP-1. | AQ71: =algandmed!AR71 -> Proovi võtmisel 06.10.2017 oli vett VPA-s 20l, pumba sügavus oli 4,9m manteltoru otsast. Proov võeti pärast 4-kordse veekoguse välja pumpamist (10 minutit) sagedusel 120Hz. q 0,13. S 3,7 | AR71: =algandmed!AS71 -> VPA puhastada ja nõuetekohaselt likvideerida. | AS71: Kopli kaubajaama vaatluspuuraukude rajamine, Maves nr-12116 | AU71: =LEN(A71) -> 0 | AV71: =LEN(B71) -> 5 | AW71: =LEN(C71) -> 10 | AX71: =LEN(D71) -> 15 | AY71: =LEN(E71) -> 10 | AZ71: =LEN(F71) -> 11 | BA71: =LEN(G71) -> 14 | BB71: =LEN(H71) -> 5 | ... CM71: =LEN(AS71) -> 59 | CN71: =SUM(AU71:CM71) -> 772
