Workbook

Sheet Tab 1.Kraavide param.
A1: Tabel 1. Kraavide parameetrid ja seisukord
A2: Kraavi tähis | B2: Pikkus, m | C2: Keskmine sügavus, m | D2: Laius pealt, m | E2: Kraavi tüüp* | F2: Märkus | G2: kopra-pais, tk
A3: 101 | B3: 391 | C3: 1 | D3: 5.5 | E3: A
A4: 102 | B4: 433 | C4: 0.8 | D4: 3 | E4: A
A5: 103 | B5: =964+388 -> 1352 | C5: 1.2 | D5: 4 | E5: B | F5: Koprapais | G5: 1
A6: 104 | B6: 970 | C6: 0.9 | D6: 3.2 | E6: B
A7: 105 | B7: 203 | C7: 1.3 | D7: 4 | E7: A
A8: 106 | B8: 268 | C8: 1 | D8: 3.5 | E8: A
A9: 107 | B9: 418 | C9: 1 | D9: 3 | E9: B
A10: 108 | B10: 319 | C10: 0.8 | D10: 3 | E10: B
A11: 109 | B11: =352+177 -> 529 | C11: 0.9 | D11: 3 | E11: A
A12: 110 | B12: 667 | C12: 0.8 | D12: 2.5 | E12: B
A13: 111 | B13: 74 | C13: 0.6 | D13: 3 | E13: C
A14: 112 | B14: 251 | C14: 0.8 | D14: 2.5 | E14: B
A15: 113 | B15: 211 | C15: 0.9 | D15: 2.8 | E15: B
A16: 114 | B16: 857 | C16: 1.1 | D16: 3.5 | E16: B
A17: 115 | B17: 646 | C17: 0.9 | D17: 2.8 | E17: B
A18: 116 | B18: 64 | C18: 1.1 | D18: 3 | E18: B
A19: 117 | B19: 634 | C19: 1.5 | D19: 4 | E19: A
A20: 118 | B20: 264 | C20: 1 | D20: 3 | E20: B
A21: 119 | B21: 342 | C21: 1 | D21: 4 | E21: A
A22: 120 | B22: 538 | C22: 1.3 | D22: 4.1 | E22: A
A23: 121 | B23: 262 | C23: 1 | D23: 3.5 | E23: B
... A66: 164 | B66: 178 | C66: 1.3 | D66: 5 | E66: A
A67: 165 | B67: 531 | C67: 0.4 | D67: 1.7 | E67: C | F67: 1/2 kinnikasvanud, jätta osaliselt tegemata
A68: 166 | B68: 24 | C68: 0.4 | D68: 1.5 | E68: C | F68: Kinnikasvanud, jätta tegemata
A69: 167 | B69: 644 | C69: 0.7 | D69: 2.5 | E69: B
A70: 168 (Lindi oja) | B70: 1438 | C70: 1.5 | D70: 5 | E70: A
A71: 169 | B71: 205 | C71: 0.7 | D71: 2 | E71: B
A72: 170 | B72: 286 | C72: 1.1 | D72: 4 | E72: A
A73: 171 | B73: 122 | C73: 1.5 | D73: 4.5 | E73: A
A74: 172 | B74: 586 | C74: 1 | D74: 4.2 | E74: A
A75: 173 | B75: 777 | C75: 1.3 | D75: 5 | E75: B
A76: 174 | B76: 443 | C76: 1.3 | D76: 4 | E76: B
A77: 175 | B77: 404 | C77: 1.1 | D77: 3.5 | E77: B
A78: 176 | B78: 389 | C78: 1.1 | D78: 3.5 | E78: B
A79: 177 | B79: 394 | C79: 1.2 | D79: 4.5 | E79: B
A80: 178 | B80: 387 | C80: 1.1 | D80: 4 | E80: B
A81: 179 | B81: 625 | C81: 1.4 | D81: 4 | E81: A
A82: 180 | B82: 598 | C82: 1.4 | D82: 4 | E82: B
...

Sheet Tab 2.Kraavivalli param.
A1: Tabel 2. Kraavivalli keskmised parameetrid
A2: Kraavi tähis | B2: Valli pikkus, m | D2: Valli kõrgus, m | E2: Valli laius, m | F2: Märkus
B3: Vasak | C3: Parem
A4: ='Tab 1.Kraavide param.'!A3 -> 101 | B4: 62 | C4: 336 | D4: 1 | E4: 4.5
A5: ='Tab 1.Kraavide param.'!A4 -> 102 | C5: 436 | D5: 0.4 | E5: 5
A6: ='Tab 1.Kraavide param.'!A5 -> 103 | F6: vall puudub
A7: ='Tab 1.Kraavide param.'!A6 -> 104 | B7: 403 | C7: =401+276 -> 677 | D7: 0.2 | E7: 2
A8: 105 | C8: 184 | D8: 0.8 | E8: 5.5
A9: ='Tab 1.Kraavide param.'!A8 -> 106 | C9: 268 | D9: 0.5 | E9: 5.3
A10: ='Tab 1.Kraavide param.'!A9 -> 107 | F10: vall puudub
A11: ='Tab 1.Kraavide param.'!A10 -> 108 | B11: 321 | D11: 0.3 | E11: 4.3
A12: ='Tab 1.Kraavide param.'!A11 -> 109 | C12: 532 | D12: 0.4 | E12: 6.8
A13: ='Tab 1.Kraavide param.'!A12 -> 110 | C13: 669 | D13: 0.4 | E13: 6
A14: ='Tab 1.Kraavide param.'!A13 -> 111 | C14: 66 | D14: 0.3 | E14: 4.5
A15: ='Tab 1.Kraavide param.'!A14 -> 112 | B15: 255 | C15: 64 | D15: 0.3 | E15: 5.8
A16: ='Tab 1.Kraavide param.'!A15 -> 113 | B16: 194 | D16: 0.3 | E16: 6
A17: ='Tab 1.Kraavide param.'!A16 -> 114 | C17: 858 | D17: 0.6 | E17: 5.5
A18: ='Tab 1.Kraavide param.'!A17 -> 115 | C18: 647 | D18: 0.3 | E18: 6
A19: ='Tab 1.Kraavide param.'!A18 -> 116 | F19: ühine vall kraaviga 117
A20: ='Tab 1.Kraavide param.'!A19 -> 117 | C20: 629 | D20: 0.6 | E20: 6.5
A21: ='Tab 1.Kraavide param.'!A20 -> 118 | B21: 270 | D21: 0.4 | E21: 7
A22: ='Tab 1.Kraavide param.'!A21 -> 119 | C22: 333 | D22: 0.6 | E22: 5.3
A23: ='Tab 1.Kraavide param.'!A22 -> 120 | B23: 533 | D23: 0.6 | E23: 5.2
A24: ='Tab 1.Kraavide param.'!A23 -> 121 | B24: 260 | D24: 0.3 | E24: 6
A25: ='Tab 1.Kraavide param.'!A24 -> 122 | B25: 418 | D25: 0.5 | E25: 5
A26: ='Tab 1.Kraavide param.'!A25 -> 123 | C26: 332 | D26: 0.5 | E26: 5.2
A27: 124 | B27: 329 | C27: 769 | D27: 0.7 | E27: 5.5
A28: ='Tab 1.Kraavide param.'!A27 -> 125 | B28: 206 | D28: 0.6 | E28: 5.3
A29: 126 | C29: 201 | D29: 0.6 | E29: 5
A30: ='Tab 1.Kraavide param.'!A29 -> 127 | C30: 183 | D30: 0.6 | E30: 5
A31: ='Tab 1.Kraavide param.'!A30 -> 128 | B31: 131 | D31: 0.6 | E31: 5
A32: ='Tab 1.Kraavide param.'!A31 -> 129 | C32: 320 | D32: 0.5 | E32: 5
A33: ='Tab 1.Kraavide param.'!A32 -> 130 | C33: 509 | D33: 0.5 | E33: 5.8
A34: ='Tab 1.Kraavide param.'!A33 -> 131 | B34: 461 | D34: 0.7 | E34: 5.5
A35: ='Tab 1.Kraavide param.'!A34 -> 132 | B35: 103 | C35: 190 | D35: 0.3 | E35: 1.8
A36: 133 | B36: 479 | D36: 0.8 | E36: 6
A37: ='Tab 1.Kraavide param.'!A36 -> 134 | B37: 520 | D37: 0.8 | E37: 5
A38: ='Tab 1.Kraavide param.'!A37 -> 135 | C38: 434 | D38: 0.9 | E38: 5
A39: ='Tab 1.Kraavide param.'!A38 -> 136 | B39: 238 | D39: 0.2 | E39: 2.5
A40: ='Tab 1.Kraavide param.'!A39 -> 137 | C40: 415 | D40: 0.7 | E40: 5.5
...

Sheet Tab 3.Uur.truubid
A1: Tabel 3. Olemasolevate tuvastatud truupide andmed
A2: Number | B2: Läbimõõt, cm | C2: Materjal | D2: Pikkus, m | E2: Otsaku tüüp | F2: Seisund
A3: T1 | B3: 50 | C3: PT | D3: 10 | F3: Korras, puhas
A4: T2 | B4: 50 | C4: PT | D4: 8 | F4: Korras, puhas, riigitee alune
A5: T3 | B5: 120 | C5: PT | D5: 10 | E5: KOK | F5: Korras, puhas, eesvoolul Potsepa(PÜ-79)
A6: T4 | B6: 120 | C6: PT | D6: 12 | E6: KOK | F6: Korras, puhas
A7: T5 | B7: 120 | C7: BT | D7: 6 | F7: Puhas, toimib
A8: T6 | B8: 120 | C8: BT | D8: 6 | F8: Lagunenud
A9: T7 | B9: 75 | C9: BT | D9: 7 | F9: Lagunenud
A10: T8 | B10: 75 | C10: BT | D10: 6 | F10: Lagunenud, toimib
A11: T9 | B11: 50 | C11: BT | D11: 6 | F11: Umbes
A12: T10 | B12: 50 | C12: BT | D12: 7 | E12: KOK | F12: 1/2 setet, toimib
A13: T11 | B13: 50 | C13: BT | D13: 6 | F13: 1/2 setet, toimib
A14: T12 | B14: 75 | C14: BT | D14: 7 | F14: Lagunenud, toimib
A15: T13 | B15: 75 | C15: BT | D15: 7 | F15: Puhas, toimib
A16: T14 | B16: 50 | C16: PT | D16: 12 | F16: Korras, puhas, mahasõidu all
A17: T15 | B17: 50 | C17: PT | D17: 12 | F17: Korras, puhas, teetruup
A18: T16 | B18: 30 | C18: BT | D18: 8 | F18: Umbes
A19: T17 | B19: 30 | C19: BT | D19: 8 | F19: Umbes
A20: T18 | B20: 40 | C20: PT | D20: 12 | F20: Korras, puhas, mahasõidu all
A21: T19 | B21: 60 | C21: PT | D21: 12 | F21: Korras, puhas, mahasõidu all
A22: T20 | B22: 30 | C22: BT | D22: 6 | F22: Lagunenud
A23: T21 | B23: 40 | C23: PT | D23: 9 | F23: Puhas, korras
A24: T22 | B24: 50 | C24: PT | D24: 12 | F24: Puhas, korras
... A26: T24 | B26: 50 | C26: PT | D26: 12 | F26: Korras, puhas, mahasõidu all
A27: T25 | B27: 40 | C27: PT | D27: 12 | E27: KOK | F27: Korras, puhas, teetruup
A28: T26 | B28: 40 | C28: PT | D28: 9 | E28: MAO | F28: Puhas, korras
A29: T27 | B29: 60 | C29: PT | D29: 12 | E29: KOK | F29: Korras, puhas, mahasõidu all
A30: T28 | B30: 100 | C30: TT | D30: 12 | E30: KOK | F30: Korras, puhas, teetruup
A31: T29 | B31: 50 | C31: BT | D31: 8 | F31: Toimib
A32: T30 | B32: 30 | C32: PT | D32: 8 | F32: Vallialune veeviimar
A33: T31 | B33: 30 | C33: BT | D33: 8 | F33: 1/2 setet, toimib
A34: T32 | B34: 50 | C34: BT | D34: 6 | F34: Vee all, toimib
A35: T33 | B35: 50 | C35: BT | D35: 6 | F35: Umbes
A36: T34 | B36: 50 | C36: BT | D36: 7 | F36: Umbes, lagunenud
A37: T35 | B37: 30 | C37: BT | D37: 7 | F37: Umbes, lagunenud
A38: T36 | B38: 30 | C38: BT | D38: 6 | F38: Umbes
A39: T37 | B39: 75 | C39: BT | D39: 5 | F39: Puhas, toimib
A40: T38 | B40: 40 | C40: PT | D40: 8 | F40: Vallialune veeviimar
A41: T39 | B41: 50 | C41: PT | D41: 10 | F41: Puhas, korras
...

Sheet Tab 4.Kav.tööd
A1: Tabel 4. Kavandatud tööde koondtabel
A2: Jrk. nr. | B2: Töö nimetus | C2: Mõõtühik | D2: Maht KOKKU
A3: 1 | B3: Ettevalmistustööd
A4: 2 | B4: Raadatavate trasside mahamärkimine | C4: km | D4: {='Tab 5.Trassiraied'!C139:D139/1000} -> 48.51 | E4: 0
A5: 3 | B5: Puittaimestiku raie trassidel ja paisude asukohas | C5: ha | D5: ='Tab 5.Trassiraied'!I139 -> 26.591
A6: 4 | B6: Tüveste vedu trassidelt veokaugus kuni 1 km | C6: ha | D6: =D5*0.2 -> 5.3182
A7: 5 | B7: Kändude juurimine paisude aluselt alalt | C7: ha | D7: ='Tab 5.Trassiraied'!G139/10000 -> 0.785
A8: 6 | B8: Koprapaisude likvideerimine | C8: tk | D8: 6
A9: 7 | B9: Setteekraanide rajamine | C9: tk | D9: 8
A10: 8 | B10: Põhurull | C10: tk | D10: =3*D9 -> 24
A11: 9 | B11: Geotekstiil (NGS2) | C11: m2 | D11: =27*D9 -> 216
A12: 10 | B12: Mullatööd ja paisud
A13: 11 | B13: Kraavivallide likvideerimine (I-II gr. pinnas) | C13: m3 | D13: ='Tab 8.Likv.rajatised'!Q112 -> 85720.355
A14: 12 | B14: Kraavide täitmine kohapealse pinnasega (I-II gr. pinnas) | C14: m3 | D14: ='Tab 8.Likv.rajatised'!O112 -> 70423.525
A15: 13 | B15: Paisude mahamärkimine | C15: tk | D15: ='Tab 5.Trassiraied'!F139 -> 133
A16: 14 | B16: Sette/pinnase eemaldamine pinnaspaisude alt (I-II gr. pinnas 5 m3/pais) | C16: m3 | D16: ='Tab 6.Paisu tüüpmaht'!F4*'Tab 6.Paisu tüüpmaht'!G4 -> 620
A17: 15 | B17: Pinnaspaisude ehitamine kohapealsest pinnasest (I-II gr. pinnas), sh pinnase tihendamine mehhanismidega | C17: m3 | D17: ='Tab 8.Likv.rajatised'!P112 -> 3074
A18: 16 | B18: Truubid
A19: 17 | B19: Ø 30-120 cm (r/b / plast / teras) truubi torude väljatõstmine ja utiliseerimine | C19: m | D19: ='Tab 10a-10b.Truubid'!F24 -> 129
A20: 18 | B20: Plasttruubi ehitus; Ø50 cm, tüüp 50PT, SN8 | C20: m | D20: ='Tab 10a-10b.Truubid'!F32 -> 12
A21: 19 | B21: Ø50MAO. Truubi mattotsaku ehitus | C21: 2 otsakut | D21: =COUNT('Tab 10a-10b.Truubid'!A30:A31) -> 1
A22: 20 | B22: Tee/mahasõidu katte taastamine (h=10 cm; kruus, fr 0/31,5 mm) | C22: m3 | D22: ='Tab 10a-10b.Truubid'!I32 -> 6
A23: 21 | B23: Täitepinnas truubikaeviku täitmiseks (liivpinnas) | C23: m3 | D23: ='Tab 10a-10b.Truubid'!K32 -> 22
A24: 22 | B24: Täiendav kaeve truubi ehitamiseks | C24: m3 | D24: ='Tab 10a-10b.Truubid'!J32 -> 40
A25: 23 | B25: Uued veejuhtmed
A26: 24 | B26: Veejuhtmete kaevamine (I-II gr. pinnas) | C26: m3 | D26: ='Tab 11.Veejuhtmed'!I15 -> 535.8
A27: 25 | B27: Mullavallide laialiajamine ja tasandamine | C27: m3 | D27: =D26*0.6 -> 321.48
A28: 26 | B28: Muud tööd
A29: 27 | B29: Ajutiste ülepääsude rajamine ja likvideerimine | C29: tk | D29: =COUNT('Tab 5.Trassiraied'!A128:A138) -> 10

Sheet Tab 5.Trassiraied
A1: Tabel 5. Trassiraied
A2: Jrk. nr. | B2: Kraavi / ligipääsu tähis | C2: Trassi / ligipääsu pikkus, m | E2: Trassi / ligipääsu laius | F2: Paisude koguarv kraavil | G2: Raie paisu asukohas | H2: Raie ligipääsu jaoks | I2: Trassiraie kokku
C3: Vasak | D3: Parem | E3: m | F3: tk | G3: m2 | H3: m2 | I3: ha
A4: 1 | B4: ='Tab 1.Kraavide param.'!A3 -> 101 | C4: ='Tab 2.Kraavivalli param.'!B4 -> 62 | D4: ='Tab 2.Kraavivalli param.'!C4 -> 336 | E4: 6 | F4: ='Tab 8.Likv.rajatised'!J7 -> 0 | G4: ='Tab 8.Likv.rajatised'!H7*'Tab 6.Paisu tüüpmaht'!$E$4+'Tab 8.Likv.rajatised'!I7*'Tab 6.Paisu tüüpmaht'!$E$5 -> 0 | I4: =((C4+D4)*E4+G4+H4)/10000 -> 0.2388
A5: 2 | B5: ='Tab 1.Kraavide param.'!A4 -> 102 | C5: ='Tab 2.Kraavivalli param.'!B5 -> 0 | D5: ='Tab 2.Kraavivalli param.'!C5 -> 436 | E5: 6 | F5: ='Tab 8.Likv.rajatised'!J8 -> 0 | G5: ='Tab 8.Likv.rajatised'!H8*'Tab 6.Paisu tüüpmaht'!$E$4+'Tab 8.Likv.rajatised'!I8*'Tab 6.Paisu tüüpmaht'!$E$5 -> 0 | I5: =((C5+D5)*E5+G5)/10000 -> 0.2616
A6: 3 | B6: ='Tab 1.Kraavide param.'!A5 -> 103 | D6: 964 | E6: 6 | F6: ='Tab 8.Likv.rajatised'!J9 -> 21 | G6: ='Tab 8.Likv.rajatised'!H9*'Tab 6.Paisu tüüpmaht'!$E$4+'Tab 8.Likv.rajatised'!I9*'Tab 6.Paisu tüüpmaht'!$E$5 -> 1113 | I6: =((C6+D6)*E6+G6)/10000 -> 0.6897
A7: 4 | B7: ='Tab 1.Kraavide param.'!A6 -> 104 | D7: =169+404 -> 573 | E7: 6 | F7: ='Tab 8.Likv.rajatised'!J10 -> 5 | G7: ='Tab 8.Likv.rajatised'!H10*'Tab 6.Paisu tüüpmaht'!$E$4+'Tab 8.Likv.rajatised'!I10*'Tab 6.Paisu tüüpmaht'!$E$5 -> 265 | I7: =((C7+D7)*E7+G7)/10000 -> 0.3703
A8: 5 | B8: ='Tab 1.Kraavide param.'!A8 -> 106 | C8: ='Tab 2.Kraavivalli param.'!B9 -> 0 | D8: ='Tab 2.Kraavivalli param.'!C9 -> 268 | E8: 6 | F8: ='Tab 8.Likv.rajatised'!J11 -> 0 | G8: ='Tab 8.Likv.rajatised'!H11*'Tab 6.Paisu tüüpmaht'!$E$4+'Tab 8.Likv.rajatised'!I11*'Tab 6.Paisu tüüpmaht'!$E$5 -> 0 | I8: =((C8+D8)*E8+G8)/10000 -> 0.1608
A9: 6 | B9: ='Tab 1.Kraavide param.'!A9 -> 107 | D9: 404 | E9: 6 | F9: ='Tab 8.Likv.rajatised'!J12 -> 9 | G9: ='Tab 8.Likv.rajatised'!H12*'Tab 6.Paisu tüüpmaht'!$E$4+'Tab 8.Likv.rajatised'!I12*'Tab 6.Paisu tüüpmaht'!$E$5 -> 477 | I9: =((C9+D9)*E9+G9)/10000 -> 0.2901
A10: 7 | B10: ='Tab 1.Kraavide param.'!A13 -> 111 | C10: ='Tab 2.Kraavivalli param.'!B14 -> 0 | D10: 71 | E10: 6 | F10: ='Tab 8.Likv.rajatised'!J13 -> 0 | G10: ='Tab 8.Likv.rajatised'!H13*'Tab 6.Paisu tüüpmaht'!$E$4+'Tab 8.Likv.rajatised'!I13*'Tab 6.Paisu tüüpmaht'!$E$5 -> 0 | I10: =((C10+D10)*E10+G10)/10000 -> 0.0426
A11: 8 | B11: ='Tab 1.Kraavide param.'!A14 -> 112 | C11: 261 | E11: 6 | F11: ='Tab 8.Likv.rajatised'!J14 -> 0 | G11: ='Tab 8.Likv.rajatised'!H14*'Tab 6.Paisu tüüpmaht'!$E$4+'Tab 8.Likv.rajatised'!I14*'Tab 6.Paisu tüüpmaht'!$E$5 -> 0 | I11: =((C11+D11)*E11+G11)/10000 -> 0.1566
A12: 9 | B12: ='Tab 1.Kraavide param.'!A15 -> 113 | C12: ='Tab 2.Kraavivalli param.'!B16 -> 194 | D12: ='Tab 2.Kraavivalli param.'!C16 -> 0 | E12: 6 | F12: ='Tab 8.Likv.rajatised'!J15 -> 0 | G12: ='Tab 8.Likv.rajatised'!H15*'Tab 6.Paisu tüüpmaht'!$E$4+'Tab 8.Likv.rajatised'!I15*'Tab 6.Paisu tüüpmaht'!$E$5 -> 0 | I12: =((C12+D12)*E12+G12)/10000 -> 0.1164
A13: 10 | B13: ='Tab 1.Kraavide param.'!A16 -> 114 | C13: ='Tab 2.Kraavivalli param.'!B17 -> 0 | D13: 889 | E13: 6 | F13: ='Tab 8.Likv.rajatised'!J16 -> 0 | G13: ='Tab 8.Likv.rajatised'!H16*'Tab 6.Paisu tüüpmaht'!$E$4+'Tab 8.Likv.rajatised'!I16*'Tab 6.Paisu tüüpmaht'!$E$5 -> 0 | I13: =((C13+D13)*E13+G13)/10000 -> 0.5334
A14: 11 | B14: ='Tab 1.Kraavide param.'!A17 -> 115 | C14: ='Tab 2.Kraavivalli param.'!B18 -> 0 | D14: 662 | E14: 6 | F14: ='Tab 8.Likv.rajatised'!J17 -> 0 | G14: ='Tab 8.Likv.rajatised'!H17*'Tab 6.Paisu tüüpmaht'!$E$4+'Tab 8.Likv.rajatised'!I17*'Tab 6.Paisu tüüpmaht'!$E$5 -> 0 | I14: =((C14+D14)*E14+G14)/10000 -> 0.3972
A15: 12 | B15: ='Tab 1.Kraavide param.'!A18 -> 116 | C15: ='Tab 2.Kraavivalli param.'!B19 -> 0 | D15: ='Tab 2.Kraavivalli param.'!C19 -> 0 | E15: 6 | F15: ='Tab 8.Likv.rajatised'!J18 -> 0 | G15: ='Tab 8.Likv.rajatised'!H18*'Tab 6.Paisu tüüpmaht'!$E$4+'Tab 8.Likv.rajatised'!I18*'Tab 6.Paisu tüüpmaht'!$E$5 -> 0 | I15: =((C15+D15)*E15+G15)/10000 -> 0
A16: 13 | B16: ='Tab 1.Kraavide param.'!A19 -> 117 | C16: ='Tab 2.Kraavivalli param.'!B20 -> 0 | D16: 633 | E16: 6 | F16: ='Tab 8.Likv.rajatised'!J19 -> 0 | G16: ='Tab 8.Likv.rajatised'!H19*'Tab 6.Paisu tüüpmaht'!$E$4+'Tab 8.Likv.rajatised'!I19*'Tab 6.Paisu tüüpmaht'!$E$5 -> 0 | I16: =((C16+D16)*E16+G16)/10000 -> 0.3798
A17: 14 | B17: ='Tab 1.Kraavide param.'!A20 -> 118 | C17: ='Tab 2.Kraavivalli param.'!B21 -> 270 | D17: ='Tab 2.Kraavivalli param.'!C21 -> 0 | E17: 6 | F17: ='Tab 8.Likv.rajatised'!J20 -> 0 | G17: ='Tab 8.Likv.rajatised'!H20*'Tab 6.Paisu tüüpmaht'!$E$4+'Tab 8.Likv.rajatised'!I20*'Tab 6.Paisu tüüpmaht'!$E$5 -> 0 | I17: =((C17+D17)*E17+G17)/10000 -> 0.162
A18: 15 | B18: ='Tab 1.Kraavide param.'!A22 -> 120 | C18: 408 | D18: ='Tab 2.Kraavivalli param.'!C23 -> 0 | E18: 6 | F18: ='Tab 8.Likv.rajatised'!J21 -> 0 | G18: ='Tab 8.Likv.rajatised'!H21*'Tab 6.Paisu tüüpmaht'!$E$4+'Tab 8.Likv.rajatised'!I21*'Tab 6.Paisu tüüpmaht'!$E$5 -> 0 | I18: =((C18+D18)*E18+G18)/10000 -> 0.2448
A19: 16 | B19: ='Tab 1.Kraavide param.'!A23 -> 121 | C19: 270 | D19: ='Tab 2.Kraavivalli param.'!C24 -> 0 | E19: 6 | F19: ='Tab 8.Likv.rajatised'!J22 -> 0 | G19: ='Tab 8.Likv.rajatised'!H22*'Tab 6.Paisu tüüpmaht'!$E$4+'Tab 8.Likv.rajatised'!I22*'Tab 6.Paisu tüüpmaht'!$E$5 -> 0 | I19: =((C19+D19)*E19+G19)/10000 -> 0.162
A20: 17 | B20: ='Tab 1.Kraavide param.'!A24 -> 122 | C20: 468 | D20: ='Tab 2.Kraavivalli param.'!C25 -> 0 | E20: 6 | F20: ='Tab 8.Likv.rajatised'!J23 -> 0 | G20: ='Tab 8.Likv.rajatised'!H23*'Tab 6.Paisu tüüpmaht'!$E$4+'Tab 8.Likv.rajatised'!I23*'Tab 6.Paisu tüüpmaht'!$E$5 -> 0 | I20: =((C20+D20)*E20+G20)/10000 -> 0.2808
A21: 18 | B21: ='Tab 1.Kraavide param.'!A25 -> 123 | C21: ='Tab 2.Kraavivalli param.'!B26 -> 0 | D21: 336 | E21: 6 | F21: ='Tab 8.Likv.rajatised'!J24 -> 0 | G21: ='Tab 8.Likv.rajatised'!H24*'Tab 6.Paisu tüüpmaht'!$E$4+'Tab 8.Likv.rajatised'!I24*'Tab 6.Paisu tüüpmaht'!$E$5 -> 0 | I21: =((C21+D21)*E21+G21)/10000 -> 0.2016
A22: 19 | B22: ='Tab 1.Kraavide param.'!A27 -> 125 | C22: 568 | D22: ='Tab 2.Kraavivalli param.'!C28 -> 0 | E22: 6 | F22: ='Tab 8.Likv.rajatised'!J25 -> 0 | G22: ='Tab 8.Likv.rajatised'!H25*'Tab 6.Paisu tüüpmaht'!$E$4+'Tab 8.Likv.rajatised'!I25*'Tab 6.Paisu tüüpmaht'!$E$5 -> 0 | I22: =((C22+D22)*E22+G22)/10000 -> 0.3408
A23: 20 | B23: ='Tab 1.Kraavide param.'!A29 -> 127 | C23: ='Tab 2.Kraavivalli param.'!B30 -> 0 | D23: 343 | E23: 6 | F23: ='Tab 8.Likv.rajatised'!J26 -> 0 | G23: ='Tab 8.Likv.rajatised'!H26*'Tab 6.Paisu tüüpmaht'!$E$4+'Tab 8.Likv.rajatised'!I26*'Tab 6.Paisu tüüpmaht'!$E$5 -> 0 | I23: =((C23+D23)*E23+G23)/10000 -> 0.2058
A24: 21 | B24: ='Tab 1.Kraavide param.'!A30 -> 128 | C24: ='Tab 2.Kraavivalli param.'!B31 -> 131 | D24: ='Tab 2.Kraavivalli param.'!C31 -> 0 | E24: 6 | F24: ='Tab 8.Likv.rajatised'!J27 -> 0 | G24: ='Tab 8.Likv.rajatised'!H27*'Tab 6.Paisu tüüpmaht'!$E$4+'Tab 8.Likv.rajatised'!I27*'Tab 6.Paisu tüüpmaht'!$E$5 -> 0 | I24: =((C24+D24)*E24+G24)/10000 -> 0.0786
A25: 22 | B25: ='Tab 1.Kraavide param.'!A31 -> 129 | C25: ='Tab 2.Kraavivalli param.'!B32 -> 0 | D25: 350 | E25: 6 | F25: ='Tab 8.Likv.rajatised'!J28 -> 0 | G25: ='Tab 8.Likv.rajatised'!H28*'Tab 6.Paisu tüüpmaht'!$E$4+'Tab 8.Likv.rajatised'!I28*'Tab 6.Paisu tüüpmaht'!$E$5 -> 0 | I25: =((C25+D25)*E25+G25)/10000 -> 0.21
A26: 23 | B26: ='Tab 1.Kraavide param.'!A32 -> 130 | C26: ='Tab 2.Kraavivalli param.'!B33 -> 0 | D26: ='Tab 2.Kraavivalli param.'!C33 -> 509 | E26: 6 | F26: ='Tab 8.Likv.rajatised'!J29 -> 0 | G26: ='Tab 8.Likv.rajatised'!H29*'Tab 6.Paisu tüüpmaht'!$E$4+'Tab 8.Likv.rajatised'!I29*'Tab 6.Paisu tüüpmaht'!$E$5 -> 0 | I26: =((C26+D26)*E26+G26)/10000 -> 0.3054
A27: 24 | B27: ='Tab 1.Kraavide param.'!A33 -> 131 | C27: 336 | D27: ='Tab 2.Kraavivalli param.'!C34 -> 0 | E27: 6 | F27: ='Tab 8.Likv.rajatised'!J30 -> 0 | G27: ='Tab 8.Likv.rajatised'!H30*'Tab 6.Paisu tüüpmaht'!$E$4+'Tab 8.Likv.rajatised'!I30*'Tab 6.Paisu tüüpmaht'!$E$5 -> 0 | I27: =((C27+D27)*E27+G27)/10000 -> 0.2016
A28: 25 | B28: ='Tab 1.Kraavide param.'!A34 -> 132 | D28: ='Tab 2.Kraavivalli param.'!C35 -> 190 | E28: 6 | F28: ='Tab 8.Likv.rajatised'!J31 -> 0 | G28: ='Tab 8.Likv.rajatised'!H31*'Tab 6.Paisu tüüpmaht'!$E$4+'Tab 8.Likv.rajatised'!I31*'Tab 6.Paisu tüüpmaht'!$E$5 -> 0 | I28: =((C28+D28)*E28+G28)/10000 -> 0.114
A29: 26 | B29: ='Tab 1.Kraavide param.'!A36 -> 134 | C29: 548 | D29: ='Tab 2.Kraavivalli param.'!C37 -> 0 | E29: 6 | F29: ='Tab 8.Likv.rajatised'!J32 -> 0 | G29: ='Tab 8.Likv.rajatised'!H32*'Tab 6.Paisu tüüpmaht'!$E$4+'Tab 8.Likv.rajatised'!I32*'Tab 6.Paisu tüüpmaht'!$E$5 -> 0 | I29: =((C29+D29)*E29+G29)/10000 -> 0.3288
A30: 27 | B30: ='Tab 1.Kraavide param.'!A37 -> 135 | C30: ='Tab 2.Kraavivalli param.'!B38 -> 0 | D30: 445 | E30: 6 | F30: ='Tab 8.Likv.rajatised'!J33 -> 0 | G30: ='Tab 8.Likv.rajatised'!H33*'Tab 6.Paisu tüüpmaht'!$E$4+'Tab 8.Likv.rajatised'!I33*'Tab 6.Paisu tüüpmaht'!$E$5 -> 0 | I30: =((C30+D30)*E30+G30)/10000 -> 0.267
A31: 28 | B31: ='Tab 1.Kraavide param.'!A38 -> 136 | C31: 240 | D31: ='Tab 2.Kraavivalli param.'!C39 -> 0 | E31: 6 | F31: ='Tab 8.Likv.rajatised'!J34 -> 0 | G31: ='Tab 8.Likv.rajatised'!H34*'Tab 6.Paisu tüüpmaht'!$E$4+'Tab 8.Likv.rajatised'!I34*'Tab 6.Paisu tüüpmaht'!$E$5 -> 0 | I31: =((C31+D31)*E31+G31)/10000 -> 0.144
A32: 29 | B32: ='Tab 1.Kraavide param.'!A39 -> 137 | C32: ='Tab 2.Kraavivalli param.'!B40 -> 0 | D32: 420 | E32: 6 | F32: ='Tab 8.Likv.rajatised'!J35 -> 0 | G32: ='Tab 8.Likv.rajatised'!H35*'Tab 6.Paisu tüüpmaht'!$E$4+'Tab 8.Likv.rajatised'!I35*'Tab 6.Paisu tüüpmaht'!$E$5 -> 0 | I32: =((C32+D32)*E32+G32)/10000 -> 0.252
A33: 30 | B33: ='Tab 1.Kraavide param.'!A41 -> 139 | C33: 199 | D33: ='Tab 2.Kraavivalli param.'!C42 -> 0 | E33: 6 | F33: ='Tab 8.Likv.rajatised'!J36 -> 0 | G33: ='Tab 8.Likv.rajatised'!H36*'Tab 6.Paisu tüüpmaht'!$E$4+'Tab 8.Likv.rajatised'!I36*'Tab 6.Paisu tüüpmaht'!$E$5 -> 0 | I33: =((C33+D33)*E33+G33)/10000 -> 0.1194
A34: 31 | B34: ='Tab 1.Kraavide param.'!A42 -> 140 | C34: ='Tab 2.Kraavivalli param.'!B43 -> 0 | D34: ='Tab 2.Kraavivalli param.'!C43 -> 152 | E34: 6 | F34: ='Tab 8.Likv.rajatised'!J37 -> 0 | G34: ='Tab 8.Likv.rajatised'!H37*'Tab 6.Paisu tüüpmaht'!$E$4+'Tab 8.Likv.rajatised'!I37*'Tab 6.Paisu tüüpmaht'!$E$5 -> 0 | I34: =((C34+D34)*E34+G34)/10000 -> 0.0912
A35: 32 | B35: ='Tab 1.Kraavide param.'!A43 -> 141 | C35: ='Tab 2.Kraavivalli param.'!B44 -> 0 | D35: ='Tab 2.Kraavivalli param.'!C44 -> 225 | E35: 6 | F35: ='Tab 8.Likv.rajatised'!J38 -> 0 | G35: ='Tab 8.Likv.rajatised'!H38*'Tab 6.Paisu tüüpmaht'!$E$4+'Tab 8.Likv.rajatised'!I38*'Tab 6.Paisu tüüpmaht'!$E$5 -> 0 | I35: =((C35+D35)*E35+G35)/10000 -> 0.135
A36: 33 | B36: ='Tab 1.Kraavide param.'!A44 -> 142 | C36: ='Tab 2.Kraavivalli param.'!B45 -> 0 | D36: 461 | E36: 6 | F36: ='Tab 8.Likv.rajatised'!J39 -> 0 | G36: ='Tab 8.Likv.rajatised'!H39*'Tab 6.Paisu tüüpmaht'!$E$4+'Tab 8.Likv.rajatised'!I39*'Tab 6.Paisu tüüpmaht'!$E$5 -> 0 | I36: =((C36+D36)*E36+G36)/10000 -> 0.2766
A37: 34 | B37: ='Tab 1.Kraavide param.'!A47 -> 145 | C37: ='Tab 2.Kraavivalli param.'!B48 -> 253 | D37: ='Tab 2.Kraavivalli param.'!C48 -> 0 | E37: 6 | F37: ='Tab 8.Likv.rajatised'!J40 -> 0 | G37: ='Tab 8.Likv.rajatised'!H40*'Tab 6.Paisu tüüpmaht'!$E$4+'Tab 8.Likv.rajatised'!I40*'Tab 6.Paisu tüüpmaht'!$E$5 -> 0 | I37: =((C37+D37)*E37+G37)/10000 -> 0.1518
A38: 35 | B38: ='Tab 1.Kraavide param.'!A48 -> 146 | C38: ='Tab 2.Kraavivalli param.'!B49 -> 384 | E38: 6 | F38: ='Tab 8.Likv.rajatised'!J41 -> 0 | G38: ='Tab 8.Likv.rajatised'!H41*'Tab 6.Paisu tüüpmaht'!$E$4+'Tab 8.Likv.rajatised'!I41*'Tab 6.Paisu tüüpmaht'!$E$5 -> 0 | I38: =((C38+D38)*E38+G38)/10000 -> 0.2304
A39: 36 | B39: ='Tab 1.Kraavide param.'!A49 -> 147 | C39: ='Tab 2.Kraavivalli param.'!B50 -> 336 | D39: ='Tab 2.Kraavivalli param.'!C50 -> 0 | E39: 6 | F39: ='Tab 8.Likv.rajatised'!J42 -> 0 | G39: ='Tab 8.Likv.rajatised'!H42*'Tab 6.Paisu tüüpmaht'!$E$4+'Tab 8.Likv.rajatised'!I42*'Tab 6.Paisu tüüpmaht'!$E$5 -> 0 | I39: =((C39+D39)*E39+G39)/10000 -> 0.2016
A40: 37 | B40: ='Tab 1.Kraavide param.'!A50 -> 148 | C40: ='Tab 2.Kraavivalli param.'!B51 -> 386 | D40: ='Tab 2.Kraavivalli param.'!C51 -> 0 | E40: 6 | F40: ='Tab 8.Likv.rajatised'!J43 -> 0 | G40: ='Tab 8.Likv.rajatised'!H43*'Tab 6.Paisu tüüpmaht'!$E$4+'Tab 8.Likv.rajatised'!I43*'Tab 6.Paisu tüüpmaht'!$E$5 -> 0 | I40: =((C40+D40)*E40+G40)/10000 -> 0.2316
...

Sheet Tab 6.Paisu tüüpmaht
A1: Tabel 6. Paisude rajamise tüüpmahud
A2: Paisu tüüp | B2: Paisu pikkus | C2: Paisu kõrgus | D2: Vajalik materjal (kohapealne pinnas) | E2: Raie paisu asukohas | F2: Sette/pinnase eemaldamine paisu alt | G2: Paisude arv kokku
B3: m | C3: m | D3: m3 | E3: m2 | F3: m3 | G3: tk
A4: 1 | B4: 4-8 | C4: 0.3 | D4: 20 | E4: 53 | F4: 5 | G4: =COUNTIF('Tab 7.Paisude raj.'!$C$4:$C$137,'Tab 6.Paisu tüüpmaht'!A4) -> 124
A5: 2 | B5: 14 | C5: 0.5 | D5: 66 | E5: 142 | F5: 5 | G5: =COUNTIF('Tab 7.Paisude raj.'!$C$4:$C$137,'Tab 6.Paisu tüüpmaht'!A5) -> 9
A6: KOKKU | G6: =SUM(G4:G5) -> 133

Sheet Tab 7.Paisude raj.
A1: Tabel 7. Paisude rajamise koondtabel
A2: Jrk. nr. | B2: Paisu tüüp | E2: Kraavi nr
B3: nr | C3: tüüp | D3: pikkus, m
A4: 1 | B4: P107-1 | C4: 1 | D4: 6 | E4: 107
A5: 2 | B5: P107-2 | C5: 1 | D5: 6 | E5: 107
A6: 3 | B6: P107-3 | C6: 1 | D6: 6 | E6: 107
A7: 4 | B7: P107-4 | C7: 1 | D7: 6 | E7: 107
A8: 5 | B8: P107-5 | C8: 1 | D8: 6 | E8: 107
A9: 6 | B9: P107-6 | C9: 1 | D9: 6 | E9: 107
A10: 7 | B10: P107-7 | C10: 1 | D10: 6 | E10: 107
A11: 8 | B11: P107-8 | C11: 1 | D11: 6 | E11: 107
A12: 9 | B12: P107-9 | C12: 1 | D12: 6 | E12: 107
A13: 10 | B13: P104-1 | C13: 1 | D13: 8 | E13: 104
A14: 11 | B14: P104-2 | C14: 1 | D14: 8 | E14: 104
A15: 12 | B15: P104-3 | C15: 1 | D15: 8 | E15: 104
... A136: 133 | B136: P103-21 | C136: 1 | D136: 8 | E136: 103
A138: PAISE KOKKU (TK) | E138: =COUNT(A4:A137) -> 133

Sheet Tab 8.Likv.rajatised
A1: Tabel 8. Suletavate kraavide, likvideeritavate kraavivallide ja ehitatavate paisude koondmahud
A2: Jrk. nr. | B2: Kraavi | H2: Paisu | K2: Likvideeritava valli | O2: Kraavide täitmise mullatööde arvestuslik maht | P2: Paisude ehita-miseks vajalik maht | Q2: Likvideeri-tava valli arvestuslik maht | R2: Märkused
B3: tähis | C3: pikkus | D3: mitte-suletava lõigu pikkus | E3: suletava lõigu pikkus | F3: keskmine sügavus | G3: keskmine pealt laius | H3: tüüp | J3: Kokku | K3: pikkus | M3: keskmine kõrgus | N3: keskmine laius
H4: 1 | I4: 2
K5: Vasak | L5: Parem
C6: m | D6: m | E6: m | F6: m | G6: m | H6: tk | I6: tk | J6: tk | K6: m | L6: m | M6: m | N6: m | O6: m3 | P6: m3 | Q6: m3
A7: 1 | B7: ='Tab 1.Kraavide param.'!A3 -> 101 | C7: ='Tab 1.Kraavide param.'!B3 -> 391 | E7: =C7 -> 391 | F7: ='Tab 1.Kraavide param.'!C3 -> 1 | G7: ='Tab 1.Kraavide param.'!D3 -> 5.5 | J7: =SUM(H7:I7) -> 0 | K7: ='Tab 2.Kraavivalli param.'!B4 -> 62 | L7: ='Tab 2.Kraavivalli param.'!C4 -> 336 | M7: ='Tab 2.Kraavivalli param.'!D4 -> 1 | N7: ='Tab 2.Kraavivalli param.'!E4 -> 4.5 | O7: =E7*(F7*G7/2) -> 1075.25 | P7: =H7*'Tab 6.Paisu tüüpmaht'!$D$4+I7*'Tab 6.Paisu tüüpmaht'!$D$5 -> 0 | Q7: =(K7+L7)*M7*N7 -> 1791 | R7: ='Tab 1.Kraavide param.'!F3 -> 0
A8: 2 | B8: ='Tab 1.Kraavide param.'!A4 -> 102 | C8: ='Tab 1.Kraavide param.'!B4 -> 433 | E8: =C8 -> 433 | F8: ='Tab 1.Kraavide param.'!C4 -> 0.8 | G8: ='Tab 1.Kraavide param.'!D4 -> 3 | J8: =SUM(H8:I8) -> 0 | K8: ='Tab 2.Kraavivalli param.'!B5 -> 0 | L8: ='Tab 2.Kraavivalli param.'!C5 -> 436 | M8: ='Tab 2.Kraavivalli param.'!D5 -> 0.4 | N8: ='Tab 2.Kraavivalli param.'!E5 -> 5 | O8: =E8*(F8*G8/2) -> 519.6 | P8: =H8*'Tab 6.Paisu tüüpmaht'!$D$4+I8*'Tab 6.Paisu tüüpmaht'!$D$5 -> 0 | Q8: =(K8+L8)*M8*N8 -> 872 | R8: ='Tab 1.Kraavide param.'!F4 -> 0
A9: 3 | B9: ='Tab 1.Kraavide param.'!A5 -> 103 | C9: ='Tab 1.Kraavide param.'!B5 -> 1352 | D9: 388 | E9: 964 | F9: ='Tab 1.Kraavide param.'!C5 -> 1.2 | G9: ='Tab 1.Kraavide param.'!D5 -> 4 | H9: 21 | J9: =SUM(H9:I9) -> 21 | K9: ='Tab 2.Kraavivalli param.'!B6 -> 0 | L9: ='Tab 2.Kraavivalli param.'!C6 -> 0 | M9: ='Tab 2.Kraavivalli param.'!D6 -> 0 | N9: ='Tab 2.Kraavivalli param.'!E6 -> 0 | P9: =H9*'Tab 6.Paisu tüüpmaht'!$D$4+I9*'Tab 6.Paisu tüüpmaht'!$D$5 -> 420 | Q9: =(K9+L9)*M9*N9 -> 0 | R9: paisuga suletav
A10: 4 | B10: ='Tab 1.Kraavide param.'!A6 -> 104 | C10: ='Tab 1.Kraavide param.'!B6 -> 970 | D10: 411 | E10: =C10-D10 -> 559 | F10: ='Tab 1.Kraavide param.'!C6 -> 0.9 | G10: ='Tab 1.Kraavide param.'!D6 -> 3.2 | H10: 5 | J10: =SUM(H10:I10) -> 5 | L10: 120 | M10: 0.4 | N10: 4 | O10: =L10*(F10*G10/2) -> 172.8 | P10: =H10*'Tab 6.Paisu tüüpmaht'!$D$4+I10*'Tab 6.Paisu tüüpmaht'!$D$5 -> 100 | Q10: =(K10+L10)*M10*N10 -> 192 | R10: osaliselt paisuga suletav
A11: 5 | B11: ='Tab 1.Kraavide param.'!A8 -> 106 | C11: ='Tab 1.Kraavide param.'!B8 -> 268 | E11: =C11 -> 268 | F11: ='Tab 1.Kraavide param.'!C8 -> 1 | G11: ='Tab 1.Kraavide param.'!D8 -> 3.5 | J11: =SUM(H11:I11) -> 0 | K11: ='Tab 2.Kraavivalli param.'!B9 -> 0 | L11: ='Tab 2.Kraavivalli param.'!C9 -> 268 | M11: ='Tab 2.Kraavivalli param.'!D9 -> 0.5 | N11: ='Tab 2.Kraavivalli param.'!E9 -> 5.3 | O11: =E11*(F11*G11/2) -> 469 | P11: =H11*'Tab 6.Paisu tüüpmaht'!$D$4+I11*'Tab 6.Paisu tüüpmaht'!$D$5 -> 0 | Q11: =(K11+L11)*M11*N11 -> 710.2 | R11: ='Tab 1.Kraavide param.'!F8 -> 0
A12: 6 | B12: ='Tab 1.Kraavide param.'!A9 -> 107 | C12: ='Tab 1.Kraavide param.'!B9 -> 418 | E12: =C12 -> 418 | F12: ='Tab 1.Kraavide param.'!C9 -> 1 | G12: ='Tab 1.Kraavide param.'!D9 -> 3 | H12: 9 | J12: =SUM(H12:I12) -> 9 | K12: ='Tab 2.Kraavivalli param.'!B10 -> 0 | L12: ='Tab 2.Kraavivalli param.'!C10 -> 0 | M12: ='Tab 2.Kraavivalli param.'!D10 -> 0 | N12: ='Tab 2.Kraavivalli param.'!E10 -> 0 | P12: =H12*'Tab 6.Paisu tüüpmaht'!$D$4+I12*'Tab 6.Paisu tüüpmaht'!$D$5 -> 180 | Q12: =(K12+L12)*M12*N12 -> 0 | R12: paisuga suletav
A13: 7 | B13: ='Tab 1.Kraavide param.'!A13 -> 111 | C13: ='Tab 1.Kraavide param.'!B13 -> 74 | E13: =C13 -> 74 | F13: ='Tab 1.Kraavide param.'!C13 -> 0.6 | G13: ='Tab 1.Kraavide param.'!D13 -> 3 | J13: =SUM(H13:I13) -> 0 | K13: ='Tab 2.Kraavivalli param.'!B14 -> 0 | L13: ='Tab 2.Kraavivalli param.'!C14 -> 66 | M13: ='Tab 2.Kraavivalli param.'!D14 -> 0.3 | N13: ='Tab 2.Kraavivalli param.'!E14 -> 4.5 | O13: =E13*(F13*G13/2) -> 66.6 | P13: =H13*'Tab 6.Paisu tüüpmaht'!$D$4+I13*'Tab 6.Paisu tüüpmaht'!$D$5 -> 0 | Q13: =(K13+L13)*M13*N13 -> 89.1 | R13: ='Tab 1.Kraavide param.'!F13 -> 0
A14: 8 | B14: ='Tab 1.Kraavide param.'!A14 -> 112 | C14: ='Tab 1.Kraavide param.'!B14 -> 251 | E14: =C14 -> 251 | F14: ='Tab 1.Kraavide param.'!C14 -> 0.8 | G14: ='Tab 1.Kraavide param.'!D14 -> 2.5 | J14: =SUM(H14:I14) -> 0 | K14: ='Tab 2.Kraavivalli param.'!B15 -> 255 | M14: ='Tab 2.Kraavivalli param.'!D15 -> 0.3 | N14: ='Tab 2.Kraavivalli param.'!E15 -> 5.8 | O14: =E14*(F14*G14/2) -> 251 | P14: =H14*'Tab 6.Paisu tüüpmaht'!$D$4+I14*'Tab 6.Paisu tüüpmaht'!$D$5 -> 0 | Q14: =(K14+L14)*M14*N14 -> 443.7 | R14: ='Tab 1.Kraavide param.'!F14 -> 0
A15: 9 | B15: ='Tab 1.Kraavide param.'!A15 -> 113 | C15: ='Tab 1.Kraavide param.'!B15 -> 211 | E15: =C15 -> 211 | F15: ='Tab 1.Kraavide param.'!C15 -> 0.9 | G15: ='Tab 1.Kraavide param.'!D15 -> 2.8 | J15: =SUM(H15:I15) -> 0 | K15: ='Tab 2.Kraavivalli param.'!B16 -> 194 | L15: ='Tab 2.Kraavivalli param.'!C16 -> 0 | M15: ='Tab 2.Kraavivalli param.'!D16 -> 0.3 | N15: ='Tab 2.Kraavivalli param.'!E16 -> 6 | O15: =E15*(F15*G15/2) -> 265.86 | P15: =H15*'Tab 6.Paisu tüüpmaht'!$D$4+I15*'Tab 6.Paisu tüüpmaht'!$D$5 -> 0 | Q15: =(K15+L15)*M15*N15 -> 349.2 | R15: ='Tab 1.Kraavide param.'!F15 -> 0
A16: 10 | B16: ='Tab 1.Kraavide param.'!A16 -> 114 | C16: ='Tab 1.Kraavide param.'!B16 -> 857 | E16: =C16 -> 857 | F16: ='Tab 1.Kraavide param.'!C16 -> 1.1 | G16: ='Tab 1.Kraavide param.'!D16 -> 3.5 | J16: =SUM(H16:I16) -> 0 | K16: ='Tab 2.Kraavivalli param.'!B17 -> 0 | L16: ='Tab 2.Kraavivalli param.'!C17 -> 858 | M16: ='Tab 2.Kraavivalli param.'!D17 -> 0.6 | N16: ='Tab 2.Kraavivalli param.'!E17 -> 5.5 | O16: =E16*(F16*G16/2) -> 1649.725 | P16: =H16*'Tab 6.Paisu tüüpmaht'!$D$4+I16*'Tab 6.Paisu tüüpmaht'!$D$5 -> 0 | Q16: =(K16+L16)*M16*N16 -> 2831.4 | R16: ='Tab 1.Kraavide param.'!F16 -> 0
A17: 11 | B17: ='Tab 1.Kraavide param.'!A17 -> 115 | C17: ='Tab 1.Kraavide param.'!B17 -> 646 | E17: =C17 -> 646 | F17: ='Tab 1.Kraavide param.'!C17 -> 0.9 | G17: ='Tab 1.Kraavide param.'!D17 -> 2.8 | J17: =SUM(H17:I17) -> 0 | K17: ='Tab 2.Kraavivalli param.'!B18 -> 0 | L17: ='Tab 2.Kraavivalli param.'!C18 -> 647 | M17: ='Tab 2.Kraavivalli param.'!D18 -> 0.3 | N17: ='Tab 2.Kraavivalli param.'!E18 -> 6 | O17: =E17*(F17*G17/2) -> 813.96 | P17: =H17*'Tab 6.Paisu tüüpmaht'!$D$4+I17*'Tab 6.Paisu tüüpmaht'!$D$5 -> 0 | Q17: =(K17+L17)*M17*N17 -> 1164.6 | R17: ='Tab 1.Kraavide param.'!F17 -> 0
A18: 12 | B18: ='Tab 1.Kraavide param.'!A18 -> 116 | C18: ='Tab 1.Kraavide param.'!B18 -> 64 | E18: =C18 -> 64 | F18: ='Tab 1.Kraavide param.'!C18 -> 1.1 | G18: ='Tab 1.Kraavide param.'!D18 -> 3 | J18: =SUM(H18:I18) -> 0 | K18: ='Tab 2.Kraavivalli param.'!B19 -> 0 | L18: ='Tab 2.Kraavivalli param.'!C19 -> 0 | M18: ='Tab 2.Kraavivalli param.'!D19 -> 0 | N18: ='Tab 2.Kraavivalli param.'!E19 -> 0 | O18: =E18*(F18*G18/2) -> 105.6 | P18: =H18*'Tab 6.Paisu tüüpmaht'!$D$4+I18*'Tab 6.Paisu tüüpmaht'!$D$5 -> 0 | Q18: =(K18+L18)*M18*N18 -> 0 | R18: ühine vall kraaviga 117
A19: 13 | B19: ='Tab 1.Kraavide param.'!A19 -> 117 | C19: ='Tab 1.Kraavide param.'!B19 -> 634 | E19: =C19 -> 634 | F19: ='Tab 1.Kraavide param.'!C19 -> 1.5 | G19: ='Tab 1.Kraavide param.'!D19 -> 4 | J19: =SUM(H19:I19) -> 0 | K19: ='Tab 2.Kraavivalli param.'!B20 -> 0 | L19: ='Tab 2.Kraavivalli param.'!C20 -> 629 | M19: ='Tab 2.Kraavivalli param.'!D20 -> 0.6 | N19: ='Tab 2.Kraavivalli param.'!E20 -> 6.5 | O19: =E19*(F19*G19/2) -> 1902 | P19: =H19*'Tab 6.Paisu tüüpmaht'!$D$4+I19*'Tab 6.Paisu tüüpmaht'!$D$5 -> 0 | Q19: =(K19+L19)*M19*N19 -> 2453.1 | R19: ='Tab 1.Kraavide param.'!F19 -> 0
A20: 14 | B20: ='Tab 1.Kraavide param.'!A20 -> 118 | C20: ='Tab 1.Kraavide param.'!B20 -> 264 | E20: =C20 -> 264 | F20: ='Tab 1.Kraavide param.'!C20 -> 1 | G20: ='Tab 1.Kraavide param.'!D20 -> 3 | J20: =SUM(H20:I20) -> 0 | K20: ='Tab 2.Kraavivalli param.'!B21 -> 270 | L20: ='Tab 2.Kraavivalli param.'!C21 -> 0 | M20: ='Tab 2.Kraavivalli param.'!D21 -> 0.4 | N20: ='Tab 2.Kraavivalli param.'!E21 -> 7 | O20: =E20*(F20*G20/2) -> 396 | P20: =H20*'Tab 6.Paisu tüüpmaht'!$D$4+I20*'Tab 6.Paisu tüüpmaht'!$D$5 -> 0 | Q20: =(K20+L20)*M20*N20 -> 756 | R20: ='Tab 1.Kraavide param.'!F20 -> 0
A21: 15 | B21: ='Tab 1.Kraavide param.'!A22 -> 120 | C21: ='Tab 1.Kraavide param.'!B22 -> 538 | D21: =C21-E21 -> 145 | E21: 393 | F21: ='Tab 1.Kraavide param.'!C22 -> 1.3 | G21: ='Tab 1.Kraavide param.'!D22 -> 4.1 | J21: =SUM(H21:I21) -> 0 | K21: 393 | L21: ='Tab 2.Kraavivalli param.'!C23 -> 0 | M21: ='Tab 2.Kraavivalli param.'!D23 -> 0.6 | N21: ='Tab 2.Kraavivalli param.'!E23 -> 5.2 | O21: =E21*(F21*G21/2) -> 1047.345 | P21: =H21*'Tab 6.Paisu tüüpmaht'!$D$4+I21*'Tab 6.Paisu tüüpmaht'!$D$5 -> 0 | Q21: =(K21+L21)*M21*N21 -> 1226.16 | R21: ='Tab 1.Kraavide param.'!F22 -> 0
A22: 16 | B22: ='Tab 1.Kraavide param.'!A23 -> 121 | C22: ='Tab 1.Kraavide param.'!B23 -> 262 | E22: =C22 -> 262 | F22: ='Tab 1.Kraavide param.'!C23 -> 1 | G22: ='Tab 1.Kraavide param.'!D23 -> 3.5 | J22: =SUM(H22:I22) -> 0 | K22: ='Tab 2.Kraavivalli param.'!B24 -> 260 | L22: ='Tab 2.Kraavivalli param.'!C24 -> 0 | M22: ='Tab 2.Kraavivalli param.'!D24 -> 0.3 | N22: ='Tab 2.Kraavivalli param.'!E24 -> 6 | O22: =E22*(F22*G22/2) -> 458.5 | P22: =H22*'Tab 6.Paisu tüüpmaht'!$D$4+I22*'Tab 6.Paisu tüüpmaht'!$D$5 -> 0 | Q22: =(K22+L22)*M22*N22 -> 468 | R22: ='Tab 1.Kraavide param.'!F23 -> 0
A23: 17 | B23: ='Tab 1.Kraavide param.'!A24 -> 122 | C23: ='Tab 1.Kraavide param.'!B24 -> 411 | E23: =C23 -> 411 | F23: ='Tab 1.Kraavide param.'!C24 -> 1 | G23: ='Tab 1.Kraavide param.'!D24 -> 3.5 | J23: =SUM(H23:I23) -> 0 | K23: ='Tab 2.Kraavivalli param.'!B25 -> 418 | L23: ='Tab 2.Kraavivalli param.'!C25 -> 0 | M23: ='Tab 2.Kraavivalli param.'!D25 -> 0.5 | N23: ='Tab 2.Kraavivalli param.'!E25 -> 5 | O23: =E23*(F23*G23/2) -> 719.25 | P23: =H23*'Tab 6.Paisu tüüpmaht'!$D$4+I23*'Tab 6.Paisu tüüpmaht'!$D$5 -> 0 | Q23: =(K23+L23)*M23*N23 -> 1045 | R23: ='Tab 1.Kraavide param.'!F24 -> 0
A24: 18 | B24: ='Tab 1.Kraavide param.'!A25 -> 123 | C24: ='Tab 1.Kraavide param.'!B25 -> 335 | E24: =C24 -> 335 | F24: ='Tab 1.Kraavide param.'!C25 -> 1.1 | G24: ='Tab 1.Kraavide param.'!D25 -> 3.5 | J24: =SUM(H24:I24) -> 0 | K24: ='Tab 2.Kraavivalli param.'!B26 -> 0 | L24: ='Tab 2.Kraavivalli param.'!C26 -> 332 | M24: ='Tab 2.Kraavivalli param.'!D26 -> 0.5 | N24: ='Tab 2.Kraavivalli param.'!E26 -> 5.2 | O24: =E24*(F24*G24/2) -> 644.875 | P24: =H24*'Tab 6.Paisu tüüpmaht'!$D$4+I24*'Tab 6.Paisu tüüpmaht'!$D$5 -> 0 | Q24: =(K24+L24)*M24*N24 -> 863.2 | R24: ='Tab 1.Kraavide param.'!F25 -> 0
A25: 19 | B25: ='Tab 1.Kraavide param.'!A27 -> 125 | C25: ='Tab 1.Kraavide param.'!B27 -> 210 | E25: =C25 -> 210 | F25: ='Tab 1.Kraavide param.'!C27 -> 1 | G25: ='Tab 1.Kraavide param.'!D27 -> 3.5 | J25: =SUM(H25:I25) -> 0 | K25: ='Tab 2.Kraavivalli param.'!B28 -> 206 | L25: ='Tab 2.Kraavivalli param.'!C28 -> 0 | M25: ='Tab 2.Kraavivalli param.'!D28 -> 0.6 | N25: ='Tab 2.Kraavivalli param.'!E28 -> 5.3 | O25: =E25*(F25*G25/2) -> 367.5 | P25: =H25*'Tab 6.Paisu tüüpmaht'!$D$4+I25*'Tab 6.Paisu tüüpmaht'!$D$5 -> 0 | Q25: =(K25+L25)*M25*N25 -> 655.08 | R25: ='Tab 1.Kraavide param.'!F27 -> 0
A26: 20 | B26: ='Tab 1.Kraavide param.'!A29 -> 127 | C26: ='Tab 1.Kraavide param.'!B29 -> 182 | E26: =C26 -> 182 | F26: ='Tab 1.Kraavide param.'!C29 -> 1.3 | G26: ='Tab 1.Kraavide param.'!D29 -> 4.5 | J26: =SUM(H26:I26) -> 0 | K26: ='Tab 2.Kraavivalli param.'!B30 -> 0 | L26: ='Tab 2.Kraavivalli param.'!C30 -> 183 | M26: ='Tab 2.Kraavivalli param.'!D30 -> 0.6 | N26: ='Tab 2.Kraavivalli param.'!E30 -> 5 | O26: =E26*(F26*G26/2) -> 532.35 | P26: =H26*'Tab 6.Paisu tüüpmaht'!$D$4+I26*'Tab 6.Paisu tüüpmaht'!$D$5 -> 0 | Q26: =(K26+L26)*M26*N26 -> 549 | R26: ='Tab 1.Kraavide param.'!F29 -> 0
A27: 21 | B27: ='Tab 1.Kraavide param.'!A30 -> 128 | C27: ='Tab 1.Kraavide param.'!B30 -> 129 | E27: =C27 -> 129 | F27: ='Tab 1.Kraavide param.'!C30 -> 1.3 | G27: ='Tab 1.Kraavide param.'!D30 -> 4.5 | J27: =SUM(H27:I27) -> 0 | K27: ='Tab 2.Kraavivalli param.'!B31 -> 131 | L27: ='Tab 2.Kraavivalli param.'!C31 -> 0 | M27: ='Tab 2.Kraavivalli param.'!D31 -> 0.6 | N27: ='Tab 2.Kraavivalli param.'!E31 -> 5 | O27: =E27*(F27*G27/2) -> 377.325 | P27: =H27*'Tab 6.Paisu tüüpmaht'!$D$4+I27*'Tab 6.Paisu tüüpmaht'!$D$5 -> 0 | Q27: =(K27+L27)*M27*N27 -> 393 | R27: ='Tab 1.Kraavide param.'!F30 -> 0
A28: 22 | B28: ='Tab 1.Kraavide param.'!A31 -> 129 | C28: ='Tab 1.Kraavide param.'!B31 -> 327 | E28: =C28 -> 327 | F28: ='Tab 1.Kraavide param.'!C31 -> 1.3 | G28: ='Tab 1.Kraavide param.'!D31 -> 4.3 | J28: =SUM(H28:I28) -> 0 | K28: ='Tab 2.Kraavivalli param.'!B32 -> 0 | L28: ='Tab 2.Kraavivalli param.'!C32 -> 320 | M28: ='Tab 2.Kraavivalli param.'!D32 -> 0.5 | N28: ='Tab 2.Kraavivalli param.'!E32 -> 5 | O28: =Q28 -> 800 | P28: =H28*'Tab 6.Paisu tüüpmaht'!$D$4+I28*'Tab 6.Paisu tüüpmaht'!$D$5 -> 0 | Q28: =(K28+L28)*M28*N28 -> 800 | R28: osaline kinniajamine
A29: 23 | B29: ='Tab 1.Kraavide param.'!A32 -> 130 | C29: ='Tab 1.Kraavide param.'!B32 -> 511 | E29: =C29 -> 511 | F29: ='Tab 1.Kraavide param.'!C32 -> 1.1 | G29: ='Tab 1.Kraavide param.'!D32 -> 3.8 | J29: =SUM(H29:I29) -> 0 | K29: ='Tab 2.Kraavivalli param.'!B33 -> 0 | L29: ='Tab 2.Kraavivalli param.'!C33 -> 509 | M29: ='Tab 2.Kraavivalli param.'!D33 -> 0.5 | N29: ='Tab 2.Kraavivalli param.'!E33 -> 5.8 | O29: =E29*(F29*G29/2) -> 1067.99 | P29: =H29*'Tab 6.Paisu tüüpmaht'!$D$4+I29*'Tab 6.Paisu tüüpmaht'!$D$5 -> 0 | Q29: =(K29+L29)*M29*N29 -> 1476.1 | R29: ='Tab 1.Kraavide param.'!F32 -> 0
A30: 24 | B30: ='Tab 1.Kraavide param.'!A33 -> 131 | C30: ='Tab 1.Kraavide param.'!B33 -> 464 | D30: =C30-E30 -> 127 | E30: 337 | F30: ='Tab 1.Kraavide param.'!C33 -> 1.2 | G30: ='Tab 1.Kraavide param.'!D33 -> 4 | J30: =SUM(H30:I30) -> 0 | K30: 334 | L30: ='Tab 2.Kraavivalli param.'!C34 -> 0 | M30: ='Tab 2.Kraavivalli param.'!D34 -> 0.7 | N30: ='Tab 2.Kraavivalli param.'!E34 -> 5.5 | O30: =E30*(F30*G30/2) -> 808.8 | P30: =H30*'Tab 6.Paisu tüüpmaht'!$D$4+I30*'Tab 6.Paisu tüüpmaht'!$D$5 -> 0 | Q30: =(K30+L30)*M30*N30 -> 1285.9
A31: 25 | B31: ='Tab 1.Kraavide param.'!A34 -> 132 | C31: ='Tab 1.Kraavide param.'!B34 -> 186 | E31: =C31 -> 186 | F31: ='Tab 1.Kraavide param.'!C34 -> 0.7 | G31: ='Tab 1.Kraavide param.'!D34 -> 1.9 | J31: =SUM(H31:I31) -> 0 | K31: ='Tab 2.Kraavivalli param.'!B35 -> 103 | L31: ='Tab 2.Kraavivalli param.'!C35 -> 190 | M31: ='Tab 2.Kraavivalli param.'!D35 -> 0.3 | N31: ='Tab 2.Kraavivalli param.'!E35 -> 1.8 | O31: =E31*(F31*G31/2) -> 123.69 | P31: =H31*'Tab 6.Paisu tüüpmaht'!$D$4+I31*'Tab 6.Paisu tüüpmaht'!$D$5 -> 0 | Q31: =(K31+L31)*M31*N31 -> 158.22 | R31: ='Tab 1.Kraavide param.'!F34 -> 0
A32: 26 | B32: ='Tab 1.Kraavide param.'!A36 -> 134 | C32: ='Tab 1.Kraavide param.'!B36 -> 509 | E32: =C32 -> 509 | F32: ='Tab 1.Kraavide param.'!C36 -> 1.1 | G32: ='Tab 1.Kraavide param.'!D36 -> 4 | J32: =SUM(H32:I32) -> 0 | K32: ='Tab 2.Kraavivalli param.'!B37 -> 520 | L32: ='Tab 2.Kraavivalli param.'!C37 -> 0 | M32: ='Tab 2.Kraavivalli param.'!D37 -> 0.8 | N32: ='Tab 2.Kraavivalli param.'!E37 -> 5 | O32: =E32*(F32*G32/2) -> 1119.8 | P32: =H32*'Tab 6.Paisu tüüpmaht'!$D$4+I32*'Tab 6.Paisu tüüpmaht'!$D$5 -> 0 | Q32: =(K32+L32)*M32*N32 -> 2080 | R32: ='Tab 1.Kraavide param.'!F36 -> 0
A33: 27 | B33: ='Tab 1.Kraavide param.'!A37 -> 135 | C33: ='Tab 1.Kraavide param.'!B37 -> 440 | E33: =C33 -> 440 | F33: ='Tab 1.Kraavide param.'!C37 -> 1.5 | G33: ='Tab 1.Kraavide param.'!D37 -> 5.5 | J33: =SUM(H33:I33) -> 0 | K33: ='Tab 2.Kraavivalli param.'!B38 -> 0 | L33: ='Tab 2.Kraavivalli param.'!C38 -> 434 | M33: ='Tab 2.Kraavivalli param.'!D38 -> 0.9 | N33: ='Tab 2.Kraavivalli param.'!E38 -> 5 | O33: =E33*(F33*G33/2) -> 1815 | P33: =H33*'Tab 6.Paisu tüüpmaht'!$D$4+I33*'Tab 6.Paisu tüüpmaht'!$D$5 -> 0 | Q33: =(K33+L33)*M33*N33 -> 1953 | R33: ='Tab 1.Kraavide param.'!F37 -> 0
A34: 28 | B34: ='Tab 1.Kraavide param.'!A38 -> 136 | C34: ='Tab 1.Kraavide param.'!B38 -> 241 | E34: =C34 -> 241 | F34: ='Tab 1.Kraavide param.'!C38 -> 0.6 | G34: ='Tab 1.Kraavide param.'!D38 -> 1.8 | J34: =SUM(H34:I34) -> 0 | K34: ='Tab 2.Kraavivalli param.'!B39 -> 238 | L34: ='Tab 2.Kraavivalli param.'!C39 -> 0 | M34: ='Tab 2.Kraavivalli param.'!D39 -> 0.2 | N34: ='Tab 2.Kraavivalli param.'!E39 -> 2.5 | O34: =E34*(F34*G34/2) -> 130.14 | P34: =H34*'Tab 6.Paisu tüüpmaht'!$D$4+I34*'Tab 6.Paisu tüüpmaht'!$D$5 -> 0 | Q34: =(K34+L34)*M34*N34 -> 119 | R34: ='Tab 1.Kraavide param.'!F38 -> 0
A35: 29 | B35: ='Tab 1.Kraavide param.'!A39 -> 137 | C35: ='Tab 1.Kraavide param.'!B39 -> 430 | E35: =C35 -> 430 | F35: ='Tab 1.Kraavide param.'!C39 -> 1.1 | G35: ='Tab 1.Kraavide param.'!D39 -> 3.8 | J35: =SUM(H35:I35) -> 0 | K35: ='Tab 2.Kraavivalli param.'!B40 -> 0 | L35: ='Tab 2.Kraavivalli param.'!C40 -> 415 | M35: ='Tab 2.Kraavivalli param.'!D40 -> 0.7 | N35: ='Tab 2.Kraavivalli param.'!E40 -> 5.5 | O35: =E35*(F35*G35/2) -> 898.7 | P35: =H35*'Tab 6.Paisu tüüpmaht'!$D$4+I35*'Tab 6.Paisu tüüpmaht'!$D$5 -> 0 | Q35: =(K35+L35)*M35*N35 -> 1597.75 | R35: ='Tab 1.Kraavide param.'!F39 -> 0
A36: 30 | B36: ='Tab 1.Kraavide param.'!A41 -> 139 | C36: ='Tab 1.Kraavide param.'!B41 -> 115 | E36: =C36 -> 115 | F36: ='Tab 1.Kraavide param.'!C41 -> 1.4 | G36: ='Tab 1.Kraavide param.'!D41 -> 4 | J36: =SUM(H36:I36) -> 0 | K36: ='Tab 2.Kraavivalli param.'!B42 -> 109 | L36: ='Tab 2.Kraavivalli param.'!C42 -> 0 | M36: ='Tab 2.Kraavivalli param.'!D42 -> 0.6 | N36: ='Tab 2.Kraavivalli param.'!E42 -> 5 | O36: =E36*(F36*G36/2) -> 322 | P36: =H36*'Tab 6.Paisu tüüpmaht'!$D$4+I36*'Tab 6.Paisu tüüpmaht'!$D$5 -> 0 | Q36: =(K36+L36)*M36*N36 -> 327 | R36: ='Tab 1.Kraavide param.'!F41 -> 0
A37: 31 | B37: ='Tab 1.Kraavide param.'!A42 -> 140 | C37: ='Tab 1.Kraavide param.'!B42 -> 156 | E37: =C37 -> 156 | F37: ='Tab 1.Kraavide param.'!C42 -> 1.3 | G37: ='Tab 1.Kraavide param.'!D42 -> 4.5 | J37: =SUM(H37:I37) -> 0 | K37: ='Tab 2.Kraavivalli param.'!B43 -> 0 | L37: ='Tab 2.Kraavivalli param.'!C43 -> 152 | M37: ='Tab 2.Kraavivalli param.'!D43 -> 0.6 | N37: ='Tab 2.Kraavivalli param.'!E43 -> 6 | O37: =E37*(F37*G37/2) -> 456.3 | P37: =H37*'Tab 6.Paisu tüüpmaht'!$D$4+I37*'Tab 6.Paisu tüüpmaht'!$D$5 -> 0 | Q37: =(K37+L37)*M37*N37 -> 547.2 | R37: ='Tab 1.Kraavide param.'!F42 -> 0
A38: 32 | B38: ='Tab 1.Kraavide param.'!A43 -> 141 | C38: ='Tab 1.Kraavide param.'!B43 -> 255 | E38: =C38 -> 255 | F38: ='Tab 1.Kraavide param.'!C43 -> 1.1 | G38: ='Tab 1.Kraavide param.'!D43 -> 4 | J38: =SUM(H38:I38) -> 0 | K38: ='Tab 2.Kraavivalli param.'!B44 -> 0 | L38: ='Tab 2.Kraavivalli param.'!C44 -> 225 | M38: ='Tab 2.Kraavivalli param.'!D44 -> 0.5 | N38: ='Tab 2.Kraavivalli param.'!E44 -> 5 | O38: =E38*(F38*G38/2) -> 561 | P38: =H38*'Tab 6.Paisu tüüpmaht'!$D$4+I38*'Tab 6.Paisu tüüpmaht'!$D$5 -> 0 | Q38: =(K38+L38)*M38*N38 -> 562.5 | R38: ='Tab 1.Kraavide param.'!F43 -> 0
A39: 33 | B39: ='Tab 1.Kraavide param.'!A44 -> 142 | C39: ='Tab 1.Kraavide param.'!B44 -> 453 | E39: =C39 -> 453 | F39: ='Tab 1.Kraavide param.'!C44 -> 1 | G39: ='Tab 1.Kraavide param.'!D44 -> 3.5 | J39: =SUM(H39:I39) -> 0 | K39: ='Tab 2.Kraavivalli param.'!B45 -> 0 | L39: ='Tab 2.Kraavivalli param.'!C45 -> 457 | M39: ='Tab 2.Kraavivalli param.'!D45 -> 0.5 | N39: ='Tab 2.Kraavivalli param.'!E45 -> 4.8 | O39: =E39*(F39*G39/2) -> 792.75 | P39: =H39*'Tab 6.Paisu tüüpmaht'!$D$4+I39*'Tab 6.Paisu tüüpmaht'!$D$5 -> 0 | Q39: =(K39+L39)*M39*N39 -> 1096.8 | R39: ='Tab 1.Kraavide param.'!F44 -> 0
A40: 34 | B40: ='Tab 1.Kraavide param.'!A47 -> 145 | C40: ='Tab 1.Kraavide param.'!B47 -> 258 | E40: =C40 -> 258 | F40: ='Tab 1.Kraavide param.'!C47 -> 0.8 | G40: ='Tab 1.Kraavide param.'!D47 -> 2.5 | J40: =SUM(H40:I40) -> 0 | K40: ='Tab 2.Kraavivalli param.'!B48 -> 253 | L40: ='Tab 2.Kraavivalli param.'!C48 -> 0 | M40: ='Tab 2.Kraavivalli param.'!D48 -> 0.3 | N40: ='Tab 2.Kraavivalli param.'!E48 -> 4.8 | O40: =E40*(F40*G40/2) -> 258 | P40: =H40*'Tab 6.Paisu tüüpmaht'!$D$4+I40*'Tab 6.Paisu tüüpmaht'!$D$5 -> 0 | Q40: =(K40+L40)*M40*N40 -> 364.32 | R40: ='Tab 1.Kraavide param.'!F47 -> 0
...

Sheet Tab 9.Ligipääsud
A1: Tabel 9. Ligipääsud
A2: Ligipääs | B2: Pikkus, m | C2: Trassiraie vajadus jah/ei - mahud on kirjeldatud trassiraie tabelis | D2: Märkused
A3: LP1 | B3: 910 | C3: jah | D3: Maa-ja Ruumiamet
A4: LP2 | B4: 310 | C4: jah | D4: RMK
A5: LP3 | B5: 135 | C5: jah | D5: RMK
A6: LP4 | B6: 220 | C6: ei | D6: RMK
A7: LP5 | B7: 120 | C7: ei | D7: RMK
A8: LP6 | B8: 140 | C8: ei | D8: RMK
A9: LP7 | B9: 590 | C9: ei | D9: RMK
A10: LP8 | B10: 715 | C10: ei | D10: RMK
A11: LP9 | B11: 70 | C11: ei | D11: RMK
A12: LP10 | B12: 310 | C12: jah (1/3 pikksusest) | D12: RMK
A13: LP11 | B13: 475 | C13: ei | D13: RMK
A14: LP12 | B14: 855 | C14: jah (2/3 pikksusest) | D14: RMK
... A20: LP18 | B20: 492 | C20: jah | D20: RMK
A21: AJ 1 | B21: - | C21: ei | D21: RMK (kraavist ajutine ülepääs)
A22: AJ 2 | B22: - | C22: ei | D22: Eramaa/RMK (kraavist ajutine ülepääs)
A23: AJ 3 | B23: - | C23: ei | D23: RMK (kraavist ajutine ülepääs)
A24: AJ 4 | B24: - | C24: ei | D24: RMK (kraavist ajutine ülepääs)
A25: AJ 5 | B25: - | C25: ei | D25: RMK (kraavist ajutine ülepääs)
A26: AJ 7 | B26: - | C26: ei | D26: RMK (kraavist ajutine ülepääs)
A27: AJ 8 | B27: - | C27: ei | D27: RMK (kraavist ajutine ülepääs)
A28: AJ 9 | B28: - | C28: ei | D28: RMK (kraavist ajutine ülepääs)
A29: AJ 10 | B29: - | C29: ei | D29: RMK (kraavist ajutine ülepääs)
A30: AJ 11 | B30: - | C30: ei | D30: RMK (kraavist ajutine ülepääs)

Sheet Tab 10a-10b.Truubid
A1: Tabel 10a. Likvideeritavate truupide tööde mahud
A2: Jrk. nr | B2: Truubi nr | C2: Veejuhtme nimetus | D2: Likvideeritava truubi andmed | H2: Märkused
D3: Läbimõõt | E3: Materjal | F3: Pikkus | G3: Otsaku tüüp
D4: cm | F4: m
A5: 1 | B5: T1 | C5: 101 | D5: ='Tab 3.Uur.truubid'!B3 -> 50 | E5: ='Tab 3.Uur.truubid'!C3 -> PT | F5: ='Tab 3.Uur.truubid'!D3 -> 10 | G5: ='Tab 3.Uur.truubid'!E3 -> 0
A6: 2 | B6: T16 | C6: 140 | D6: ='Tab 3.Uur.truubid'!B18 -> 30 | E6: ='Tab 3.Uur.truubid'!C18 -> BT | F6: ='Tab 3.Uur.truubid'!D18 -> 8 | G6: ='Tab 3.Uur.truubid'!E18 -> 0
A7: 3 | B7: T17 | C7: 141 | D7: ='Tab 3.Uur.truubid'!B19 -> 30 | E7: ='Tab 3.Uur.truubid'!C19 -> BT | F7: ='Tab 3.Uur.truubid'!D19 -> 8 | G7: ='Tab 3.Uur.truubid'!E19 -> 0
A8: 4 | B8: T12 | C8: 130 | D8: ='Tab 3.Uur.truubid'!B14 -> 75 | E8: ='Tab 3.Uur.truubid'!C14 -> BT | F8: ='Tab 3.Uur.truubid'!D14 -> 7 | G8: ='Tab 3.Uur.truubid'!E14 -> 0
A9: 5 | B9: T8 | C9: 104 | D9: ='Tab 3.Uur.truubid'!B10 -> 75 | E9: ='Tab 3.Uur.truubid'!C10 -> BT | F9: ='Tab 3.Uur.truubid'!D10 -> 6 | G9: ='Tab 3.Uur.truubid'!E10 -> 0
A10: 6 | B10: T9 | C10: 113 | D10: ='Tab 3.Uur.truubid'!B11 -> 50 | E10: ='Tab 3.Uur.truubid'!C11 -> BT | F10: ='Tab 3.Uur.truubid'!D11 -> 6 | G10: ='Tab 3.Uur.truubid'!E11 -> 0
A11: 7 | B11: T6 | C11: 103 | D11: ='Tab 3.Uur.truubid'!B8 -> 120 | E11: ='Tab 3.Uur.truubid'!C8 -> BT | F11: ='Tab 3.Uur.truubid'!D8 -> 6 | G11: ='Tab 3.Uur.truubid'!E8 -> 0
A12: 8 | B12: T31 | C12: 173 | D12: ='Tab 3.Uur.truubid'!B33 -> 30 | E12: ='Tab 3.Uur.truubid'!C33 -> BT | F12: ='Tab 3.Uur.truubid'!D33 -> 8 | G12: ='Tab 3.Uur.truubid'!E33 -> 0
A13: 9 | B13: T42 | C13: 179 | D13: ='Tab 3.Uur.truubid'!B44 -> 30 | E13: ='Tab 3.Uur.truubid'!C44 -> BT | F13: ='Tab 3.Uur.truubid'!D44 -> 6 | G13: ='Tab 3.Uur.truubid'!E44 -> 0
A14: 10 | B14: T46 | C14: 184 | D14: ='Tab 3.Uur.truubid'!B48 -> 30 | E14: ='Tab 3.Uur.truubid'!C48 -> BT | F14: ='Tab 3.Uur.truubid'!D48 -> 6 | G14: ='Tab 3.Uur.truubid'!E48 -> 0
A15: 11 | B15: T34 | C15: 158 | D15: ='Tab 3.Uur.truubid'!B36 -> 50 | E15: ='Tab 3.Uur.truubid'!C36 -> BT | F15: ='Tab 3.Uur.truubid'!D36 -> 7 | G15: ='Tab 3.Uur.truubid'!E36 -> 0
A16: 12 | B16: T35 | C16: 161 | D16: ='Tab 3.Uur.truubid'!B37 -> 30 | E16: ='Tab 3.Uur.truubid'!C37 -> BT | F16: ='Tab 3.Uur.truubid'!D37 -> 7 | G16: ='Tab 3.Uur.truubid'!E37 -> 0
A17: 13 | B17: T36 | C17: 159 | D17: ='Tab 3.Uur.truubid'!B38 -> 30 | E17: ='Tab 3.Uur.truubid'!C38 -> BT | F17: ='Tab 3.Uur.truubid'!D38 -> 6 | G17: ='Tab 3.Uur.truubid'!E38 -> 0
A18: 14 | B18: T52 | C18: 218 | D18: ='Tab 3.Uur.truubid'!B54 -> 30 | E18: ='Tab 3.Uur.truubid'!C54 -> BT | F18: ='Tab 3.Uur.truubid'!D54 -> 6 | G18: ='Tab 3.Uur.truubid'!E54 -> 0
A19: 15 | B19: T54 | C19: 225 | D19: ='Tab 3.Uur.truubid'!B56 -> 30 | E19: ='Tab 3.Uur.truubid'!C56 -> BT | F19: ='Tab 3.Uur.truubid'!D56 -> 6 | G19: ='Tab 3.Uur.truubid'!E56 -> 0
A20: 16 | B20: T53 | C20: 224 | D20: ='Tab 3.Uur.truubid'!B55 -> 50 | E20: ='Tab 3.Uur.truubid'!C55 -> BT | F20: ='Tab 3.Uur.truubid'!D55 -> 8 | G20: ='Tab 3.Uur.truubid'!E55 -> 0
A21: 17 | B21: T5 | C21: 103 | D21: ='Tab 3.Uur.truubid'!B7 -> 120 | E21: ='Tab 3.Uur.truubid'!C7 -> BT | F21: ='Tab 3.Uur.truubid'!D7 -> 6 | G21: ='Tab 3.Uur.truubid'!E7 -> 0
A22: 18 | B22: T14 | C22: 252a | D22: ='Tab 3.Uur.truubid'!B16 -> 50 | E22: ='Tab 3.Uur.truubid'!C16 -> PT | F22: ='Tab 3.Uur.truubid'!D16 -> 12 | G22: ='Tab 3.Uur.truubid'!E16 -> 0
A24: KOKKU | F24: =SUM(F5:F23) -> 129 | I24: KOK | J24: MAOK | K24: BET
A26: Tabel 10b. Ehitatavate truupide tööde mahud
A27: Jrk. nr | B27: Truubi nr | C27: Veejuhtme nimetus | D27: Ehitatava truubi andmed | L27: Märkused
D28: Läbimõõt | E28: Materjal | F28: Pikkus | G28: Otsaku tüüp | H28: sügavus | I28: tee/mahasõidu katte taastamine (h=10 cm; kruus, fr 0/31,5 mm) | J28: täiendav kaeve | K28: kaeviku täitepinnas (liiv)
D29: cm | F29: m | H29: m | I29: m³ | J29: m³ | K29: m³
A30: 1 | B30: T101 | C30: 252b | D30: 50 | E30: PT | F30: 12 | G30: MAO | H30: 1.5 | I30: 6 | J30: 40 | K30: 22 | L30: 252b ja 253a ühendamiseks
A32: KOKKU | F32: =SUM(F30:F31) -> 12 | I32: =SUM(I30:I31) -> 6 | J32: =SUM(J30:J31) -> 40 | K32: =SUM(K30:K31) -> 22

Sheet Tab 11.Veejuhtmed
A1: Tabel 11. Veejuhtmete kaevetööde mahud
A3: Jrk. nr | B3: Veejuhtme | J3: Märkused
B4: nimetus | C4: liigi tähis | D4: pikkus | E4: põhja laius | F4: nõlvus-tegur | G4: sügavus | H4: Kaeve ristlõige | I4: Kaeve-maht
D7: m | E7: m | G7: m | H7: m3 | I7: m3
A8: 1 | B8: 251c | C8: EK | D8: 20 | E8: 0.4 | F8: 1.5 | G8: 1.4 | H8: 3.5 | I8: =H8*D8 -> 70 | J8: 251a ja 251b ühendatav lõik
A9: 2 | B9: 252c | C9: EK | D9: 26 | E9: 0.4 | F9: 1.5 | G9: 2.05 | H9: 6.4 | I9: =H9*D9 -> 166.4 | J9: 252a ja 252b ühendatav lõik
A10: 3 | B10: 252a | C10: RK | D10: 187 | E10: 0.4 | F10: 1.5 | G10: 1.7 | H10: 1.2 | I10: =H10*D10 -> 224.4
A11: 4 | B11: 252b | C11: RK | D11: 75 | E11: 0.4 | F11: 1.5 | G11: 1.4 | H11: 1 | I11: =H11*D11 -> 75
A13: Kokku | C13: EK | D13: =SUMIF($C$8:$C$12,$C13,D$8:D$12) -> 46 | I13: =SUMIF($C$8:$C$12,$C13,I$8:I$12) -> 236.4
A14: Kokku | C14: RK | D14: =SUMIF($C$8:$C$12,$C14,D$8:D$12) -> 262 | I14: =SUMIF($C$8:$C$12,$C14,I$8:I$12) -> 299.4
A15: KÕIK KOKKU | D15: =SUM(D13:D14) -> 308 | I15: =SUM(I13:I14) -> 535.8
A16: Märkused:
A17: EK - Ehitatav kraav (olemasolevate teekraavide ühendamine)
A18: RK - Rekonstrueeritav kraav (voolusuuna muutmine)

Sheet Tab 12.Tööde maksumus
A1: Tabel 12. Kavandatud tööde hinnanguline maksumus
A2: Jrk. nr. | B2: Töö nimetus | C2: Ühiku maksumus, € | D2: Mõõtühik | E2: Töömaht | F2: Maksumus, €
A3: 1 | B3: ='Tab 4.Kav.tööd'!B3 -> Ettevalmistustööd
A4: 2 | B4: ='Tab 4.Kav.tööd'!B4 -> Raadatavate trasside mahamärkimine | C4: 65 | D4: ='Tab 4.Kav.tööd'!C4 -> km | E4: ='Tab 4.Kav.tööd'!D4 -> 48.51 | F4: =C4*E4 -> 3153.15
A5: 3 | B5: ='Tab 4.Kav.tööd'!B5 -> Puittaimestiku raie trassidel ja paisude asukohas | C5: 1190 | D5: ='Tab 4.Kav.tööd'!C5 -> ha | E5: ='Tab 4.Kav.tööd'!D5 -> 26.591 | F5: =C5*E5 -> 31643.29
A6: 4 | B6: ='Tab 4.Kav.tööd'!B6 -> Tüveste vedu trassidelt veokaugus kuni 1 km | C6: 1333 | D6: ='Tab 4.Kav.tööd'!C6 -> ha | E6: ='Tab 4.Kav.tööd'!D6 -> 5.3182 | F6: =C6*E6 -> 7089.1606
A7: 5 | B7: ='Tab 4.Kav.tööd'!B7 -> Kändude juurimine paisude aluselt alalt | C7: 383 | D7: ='Tab 4.Kav.tööd'!C7 -> ha | E7: ='Tab 4.Kav.tööd'!D7 -> 0.785 | F7: =C7*E7 -> 300.655
A8: 6 | B8: ='Tab 4.Kav.tööd'!B8 -> Koprapaisude likvideerimine | C8: 183.9 | D8: ='Tab 4.Kav.tööd'!C8 -> tk | E8: ='Tab 4.Kav.tööd'!D8 -> 6 | F8: =C8*E8 -> 1103.4
A9: 7 | B9: ='Tab 4.Kav.tööd'!B9 -> Setteekraanide rajamine | C9: 250 | D9: ='Tab 4.Kav.tööd'!C9 -> tk | E9: ='Tab 4.Kav.tööd'!D9 -> 8 | F9: =C9*E9 -> 2000
A10: 8 | B10: ='Tab 4.Kav.tööd'!B12 -> Mullatööd ja paisud
A11: 9 | B11: ='Tab 4.Kav.tööd'!B13 -> Kraavivallide likvideerimine (I-II gr. pinnas) | C11: 0.7 | D11: ='Tab 4.Kav.tööd'!C13 -> m3 | E11: ='Tab 4.Kav.tööd'!D13 -> 85720.355 | F11: =C11*E11 -> 60004.249
A12: 10 | B12: ='Tab 4.Kav.tööd'!B14 -> Kraavide täitmine kohapealse pinnasega (I-II gr. pinnas) | C12: 0.7 | D12: ='Tab 4.Kav.tööd'!C14 -> m3 | E12: ='Tab 4.Kav.tööd'!D14 -> 70423.525 | F12: =C12*E12 -> 49296.468
A13: 11 | B13: ='Tab 4.Kav.tööd'!B15 -> Paisude mahamärkimine | C13: 25 | D13: ='Tab 4.Kav.tööd'!C15 -> tk | E13: ='Tab 4.Kav.tööd'!D15 -> 133 | F13: =C13*E13 -> 3325
A14: 12 | B14: ='Tab 4.Kav.tööd'!B16 -> Sette/pinnase eemaldamine pinnaspaisude alt (I-II gr. pinnas 5 m3/pais) | C14: 0.7 | D14: ='Tab 4.Kav.tööd'!C16 -> m3 | E14: ='Tab 4.Kav.tööd'!D16 -> 620 | F14: =C14*E14 -> 434
A15: 13 | B15: ='Tab 4.Kav.tööd'!B17 -> Pinnaspaisude ehitamine kohapealsest pinnasest (I-II gr. pinnas), sh pinnase tihendamine mehhanismidega | C15: 1 | D15: ='Tab 4.Kav.tööd'!C17 -> m3 | E15: ='Tab 4.Kav.tööd'!D17 -> 3074 | F15: =C15*E15 -> 3074
A16: 14 | B16: ='Tab 4.Kav.tööd'!B18 -> Truubid
A17: 15 | B17: ='Tab 4.Kav.tööd'!B19 -> Ø 30-120 cm (r/b / plast / teras) truubi torude väljatõstmine ja utiliseerimine | C17: 160 | D17: ='Tab 4.Kav.tööd'!C19 -> m | E17: ='Tab 4.Kav.tööd'!D19 -> 129 | F17: =C17*E17 -> 20640
A18: 16 | B18: ='Tab 4.Kav.tööd'!B20 -> Plasttruubi ehitus; Ø50 cm, tüüp 50PT, SN8 | C18: 60 | D18: ='Tab 4.Kav.tööd'!C20 -> m | E18: ='Tab 4.Kav.tööd'!D20 -> 12 | F18: =C18*E18 -> 720
A19: 17 | B19: ='Tab 4.Kav.tööd'!B21 -> Ø50MAO. Truubi mattotsaku ehitus | C19: 131 | D19: ='Tab 4.Kav.tööd'!C21 -> 2 otsakut | E19: ='Tab 4.Kav.tööd'!D21 -> 1 | F19: =C19*E19 -> 131
A20: 18 | B20: ='Tab 4.Kav.tööd'!B22 -> Tee/mahasõidu katte taastamine (h=10 cm; kruus, fr 0/31,5 mm) | C20: 15 | D20: ='Tab 4.Kav.tööd'!C22 -> m3 | E20: ='Tab 4.Kav.tööd'!D22 -> 6 | F20: =C20*E20 -> 90
A21: 19 | B21: ='Tab 4.Kav.tööd'!B23 -> Täitepinnas truubikaeviku täitmiseks (liivpinnas) | C21: 5 | D21: ='Tab 4.Kav.tööd'!C23 -> m3 | E21: ='Tab 4.Kav.tööd'!D23 -> 22 | F21: =C21*E21 -> 110
A22: 20 | B22: ='Tab 4.Kav.tööd'!B24 -> Täiendav kaeve truubi ehitamiseks | C22: 0.5 | D22: ='Tab 4.Kav.tööd'!C24 -> m3 | E22: ='Tab 4.Kav.tööd'!D24 -> 40 | F22: =C22*E22 -> 20
A23: 21 | B23: ='Tab 4.Kav.tööd'!B25 -> Uued veejuhtmed
A24: 22 | B24: ='Tab 4.Kav.tööd'!B26 -> Veejuhtmete kaevamine (I-II gr. pinnas) | C24: 0.5 | D24: ='Tab 4.Kav.tööd'!C26 -> m3 | E24: ='Tab 4.Kav.tööd'!D26 -> 535.8 | F24: =C24*E24 -> 267.9
A25: 23 | B25: ='Tab 4.Kav.tööd'!B27 -> Mullavallide laialiajamine ja tasandamine | C25: 0.3 | D25: ='Tab 4.Kav.tööd'!C27 -> m3 | E25: ='Tab 4.Kav.tööd'!D27 -> 321.48 | F25: =C25*E25 -> 96.444
A26: 24 | B26: ='Tab 4.Kav.tööd'!B28 -> Muud tööd
A27: 25 | B27: ='Tab 4.Kav.tööd'!B29 -> Ajutiste ülepääsude rajamine ja likvideerimine | C27: 50 | D27: ='Tab 4.Kav.tööd'!C29 -> tk | E27: ='Tab 4.Kav.tööd'!D29 -> 10 | F27: =C27*E27 -> 500
B28: KOKKU | F28: =SUM(F4:F27) -> 183998.72
B29: KM, 24% | F29: =F28*0.24 -> 44159.692
B30: KÕIK KOKKU | F30: =SUM(F28:F29) -> 228158.41

Sheet Tab 13a-13c.Mõju analüüs
A1: Tabel 13a. Taastamistööde eeldatav mõju tööalal esinevatele ja alaga piirnevatele elupaigatüüpidele
A2: Elupaigatüübi kood | B2: Mõju suund | C2: Mõju suurus ja esinemistõenäosus* | D2: Kommentaar
A3: 6270* | B3: puudub | C3: puudub | D3: Tööd ei mõjuta antud elupaika
A4: 6510 | B4: puudub | C4: puudub | D4: Tööd ei mõjuta antud elupaika
A5: 6530* | B5: neutraalne | C5: A1 | D5: Tööd tõenäoliselt ei mõjuta antud elupaika
A6: 7110* | B6: positiivne | C6: B2 | D6: Luuakse eeldused kooslusele omase veerežiimi taastumiseks
A7: 7140 | B7: positiivne | C7: B2 | D7: Luuakse eeldused kooslusele omase veerežiimi taastumiseks
A8: 7230 | B8: positiivne | C8: B2 | D8: Luuakse eeldused kooslusele omase veerežiimi taastumiseks
A9: 9010* | B9: positiivne | C9: B2 | D9: Luuakse eeldused kooslusele omase veerežiimi säilimiseks
A10: 9020* | B10: positiivne | C10: B2 | D10: Luuakse eeldused kooslusele omase veerežiimi säilimiseks
A11: 9050 | B11: positiivne | C11: B2 | D11: Luuakse eeldused kooslusele omase veerežiimi säilimiseks
A12: 9080 | B12: positiivne | C12: B2 | D12: Luuakse eeldused kooslusele omase veerežiimi taastumiseks
A13: 91D0* | B13: positiivne | C13: B2 | D13: Luuakse eeldused kooslusele omase veerežiimi taastumiseks
A15: Tabel 13b. Taastamisaladel ja nende lähiümbruses (200 m raadiuses taastamisaladest) leiduvad kaitsealused liigid
A16: Liik | B16: Takson | C16: Kaitsekategooria
A17: Kaljukotkas (Aquila chrysaetos) | B17: loom | C17: I
A18: Merikotkas (Haliaeetus albicilla) | B18: loom | C18: I
A19: Must-toonekurg (Ciconia nigra) | B19: loom | C19: I
A20: Väike-konnakotkas (Clanga pomarin) | B20: loom | C20: I
A21: Õõnetuvi (Columba oenas) | B21: loom | C21: II
A22: Lõopistrik (Falco subbuteo) | B22: loom | C22: III
A23: Mudatilder (Tringa glareola) | B23: loom | C23: III
A24: Punajalg-tilder (Tringa totanus) | B24: loom | C24: III
A25: Punaselg-õgija (Lanius collurio) | C25: III
A26: Väike-kirjurähn (Dryobates minor) | B26: loom | C26: III
A27: Teder (Lyrurus tetrix) | B27: loom | C27: III
A28: Hoburästas (Turdus viscivorus) | B28: loom | C28: III
A29: Rüüt (Pluvialis apricaria) | B29: loom | C29: III
A30: Sookurg (Grus grus) | B30: loom | C30: III
A31: Väike-kärbsenäpp (Ficedula parva) | B31: loom | C31: III
A32: Laanepüü (Tetrastes bonasia) | B32: loom | C32: III
A33: Händkakk (Strix uralensis) | B33: loom | C33: III
A34: Musträhn (Dryocopus martius) | B34: loom | C34: III
A35: Hallpea-rähn (Picus canus) | B35: loom | C35: III
A36: Värbkakk (Glaucidium passerinum) | B36: loom | C36: III
A37: Suur nööpsamblik (Megalaria grossa) | B37: seen | C37: III
... A52: Sulgjas õhik (Neckera pennata) | B52: taim | C52: III
A54: Tabel 13c. Taastamistööde eeldatav mõju tööaladel ja nende lähiümbruses (200 m raadiuses taastamisaladest) leiduvatele kaitsealustele liikidele
A55: Liik | B55: Mõju suund | C55: Mõju suurus ja esinemis-tõenäosus* | D55: Kommentaar
A56: Kaljukotkas | B56: positiivne | C56: B2 | D56: Pesitseb kõrvalistes soo- ja metsamassiivides, toitumisalad avamaastikul, ka lagerabas. Taastamistööde tulemusel toitumisalade kvaliteet paraneb.
...

Sheet Tab 14.Maaomanikud
A1: Tabel 14. Taastamise mõjualasse jäävad maaomanikud
A2: Jrk. nr. | B2: Katastriüksuse nimi | C2: Katastriüksuse tunnus | D2: Tegevusest mõjutatud maaomanikud (alal/piirnev / kaugemal, aga tegevustest mõjutatud) | E2: Omanik | F2: Kontaktandmed | G2: Kooskõlastus (jah/ei)
A3: 1 | B3: Audru metskond 100 | C3: 82603:004:0187 | D3: alal | E3: RMK
A4: 2 | B4: Audru metskond 52 | C4: 62401:001:2178 | D4: alal | E4: RKIK
A5: 3 | B5: Audru metskond 21 | C5: 82603:002:0210 | D5: alal | E5: RMK
A6: 4 | B6: Audru metskond 101 | C6: 82603:004:0188 | D6: alal | E6: RMK
A7: 5 | B7: Audru metskond 66 | C7: 15905:004:0090 | D7: alal | E7: RMK
A8: 6 | B8: Uuehansu | C8: 15905:004:0008 | D8: alal | E8: RMK
A9: 7 | B9: Audru metskond 68 | C9: 15905:004:0257 | D9: alal | E9: RMK
A10: 8 | B10: Audru metskond 124 | C10: 15905:004:0671 | D10: alal | E10: RMK
A11: 9 | B11: Lindi looduskaitseala 2 | C11: 15905:004:1044 | D11: alal | E11: RMK
A12: 10 | B12: Lindi looduskaitseala 4 | C12: 15905:004:0617 | D12: alal | E12: RMK
A13: 11 | B13: Piiri | C13: 15905:004:0514 | D13: alal | E13: RMK
A14: 12 | B14: Lindi looduskaitseala 3 | C14: 15905:004:1019 | D14: alal | E14: RMK
