Workbook

Sheet Tab 1.Kraavide param.
A1: Tabel 1. Kraavide parameetrid ja seisukord
A2: Kraavi tähis | B2: Pikkus, m | C2: Keskmine sügavus, m | D2: Laius pealt, m | E2: Kraavi tüüp* | F2: Märkus | G2: kopra-pais, tk
A3: 101 | B3: 391 | C3: 1 | D3: 5.5 | E3: A
A4: 102 | B4: 433 | C4: 0.8 | D4: 3 | E4: A
A5: 103 | B5: =964+388 -> 1352 | C5: 1.2 | D5: 4 | E5: B | F5: Koprapais | G5: 1
A6: 104 | B6: 970 | C6: 0.9 | D6: 3.2 | E6: B
A7: 105 | B7: 203 | C7: 1.3 | D7: 4 | E7: A
A8: 106 | B8: 268 | C8: 1 | D8: 3.5 | E8: A
A9: 107 | B9: 418 | C9: 1 | D9: 3 | E9: B
A10: 108 | B10: 319 | C10: 0.8 | D10: 3 | E10: B
A11: 109 | B11: =352+177 -> 529 | C11: 0.9 | D11: 3 | E11: A
A12: 110 | B12: 667 | C12: 0.8 | D12: 2.5 | E12: B
A13: 111 | B13: 74 | C13: 0.6 | D13: 3 | E13: C
A14: 112 | B14: 251 | C14: 0.8 | D14: 2.5 | E14: B
A15: 113 | B15: 211 | C15: 0.9 | D15: 2.8 | E15: B
A16: 114 | B16: 857 | C16: 1.1 | D16: 3.5 | E16: B
A17: 115 | B17: 646 | C17: 0.9 | D17: 2.8 | E17: B
A18: 116 | B18: 64 | C18: 1.1 | D18: 3 | E18: B
A19: 117 | B19: 634 | C19: 1.5 | D19: 4 | E19: A
A20: 118 | B20: 264 | C20: 1 | D20: 3 | E20: B
A21: 119 | B21: 342 | C21: 1 | D21: 4 | E21: A
A22: 120 | B22: 538 | C22: 1.3 | D22: 4.1 | E22: A
A23: 121 | B23: 262 | C23: 1 | D23: 3.5 | E23: B
... A66: 164 | B66: 178 | C66: 1.3 | D66: 5 | E66: A
A67: 165 | B67: 531 | C67: 0.4 | D67: 1.7 | E67: C | F67: 1/2 kinnikasvanud, jätta osaliselt tegemata
A68: 166 | B68: 24 | C68: 0.4 | D68: 1.5 | E68: C | F68: Kinnikasvanud, jätta tegemata
A69: 167 | B69: 644 | C69: 0.7 | D69: 2.5 | E69: B
A70: 168 (Lindi oja) | B70: 1438 | C70: 1.5 | D70: 5 | E70: A
A71: 169 | B71: 205 | C71: 0.7 | D71: 2 | E71: B
A72: 170 | B72: 286 | C72: 1.1 | D72: 4 | E72: A
A73: 171 | B73: 122 | C73: 1.5 | D73: 4.5 | E73: A
A74: 172 | B74: 586 | C74: 1 | D74: 4.2 | E74: A
A75: 173 | B75: 777 | C75: 1.3 | D75: 5 | E75: B
A76: 174 | B76: 443 | C76: 1.3 | D76: 4 | E76: B
A77: 175 | B77: 404 | C77: 1.1 | D77: 3.5 | E77: B
A78: 176 | B78: 389 | C78: 1.1 | D78: 3.5 | E78: B
A79: 177 | B79: 394 | C79: 1.2 | D79: 4.5 | E79: B
A80: 178 | B80: 387 | C80: 1.1 | D80: 4 | E80: B
A81: 179 | B81: 625 | C81: 1.4 | D81: 4 | E81: A
A82: 180 | B82: 598 | C82: 1.4 | D82: 4 | E82: B
... A91: 189 | B91: 352 | C91: 1.2 | D91: 4 | E91: B
A92: 190a | B92: 1114 | C92: 1.1 | D92: 4 | E92: B | F92: 3 tk koprapaisu. Eramaadega piirnev kraav, jätta tegemata. | G92: 3
A93: 190b | B93: 239 | C93: 1.2 | D93: 3.5 | E93: B | F93: 2 tk koprapaisu. Eramaadega piirnev kraav, jätta tegemata | G93: 2
A94: 190c | B94: 328 | C94: 1.2 | D94: 3.5 | E94: B | F94: Eramaadega piirnev kraav, jätta tegemata | G94: 1
A95: 191 | B95: 822 | C95: 1.2 | D95: 4.3 | E95: A
A96: 192 | B96: 463 | C96: 1.3 | D96: 4.5 | E96: A
A97: 193 | B97: 433 | C97: 1.4 | D97: 4.5 | E97: B
A98: 194 | B98: 433 | C98: 1.3 | D98: 4 | E98: B
A99: 195 | B99: 193 | C99: 0.4 | D99: 1 | E99: C | F99: Kinnikasvanud, jätta tegemata
A100: 196 | B100: 671 | C100: 1.4 | D100: 4 | E100: B
A101: 197 | B101: 348 | C101: 0.8 | D101: 2.8 | E101: B
A102: 198 | B102: 400 | C102: 1 | D102: 4 | E102: B
A103: 199 | B103: 180 | C103: 0.2 | D103: 1 | E103: C | F103: Kinnikasvanud, jätta tegemata
A104: 200 | B104: 454 | C104: 1.2 | D104: 4 | E104: B
A105: 201 | B105: 155 | C105: 0.3 | D105: 1 | E105: C | F105: Kinnikasvanud, jätta tegemata
A106: 202 | B106: 163 | C106: 0.2 | D106: 1 | E106: C | F106: Kinnikasvanud, jätta tegemata
A107: 203 | B107: 144 | C107: 0.2 | D107: 1 | E107: C | F107: Kinnikasvanud, jätta tegemata
A108: 204 | B108: 168 | C108: 0.2 | D108: 1 | E108: C | F108: Kinnikasvanud, jätta tegemata
A109: 205 | B109: 518 | C109: 1.4 | D109: 4.2 | E109: B
A110: 206 | B110: 127 | C110: 0.2 | D110: 1 | E110: C | F110: Kinnikasvanud, jätta tegemata
A111: 207 | B111: 126 | C111: 0.2 | D111: 1 | E111: C | F111: Kinnikasvanud, jätta tegemata
A112: 208 | B112: 114 | C112: 0.2 | D112: 1 | E112: C | F112: Kinnikasvanud, jätta tegemata
A113: 209 | B113: 564 | C113: 1.5 | D113: 4.2 | E113: B
A114: 210 | B114: 119 | C114: 0.3 | D114: 1 | E114: C | F114: Kinnikasvanud, jätta tegemata
A115: 211 | B115: 461 | C115: 0.9 | D115: 2.5 | E115: B
A116: 212 | B116: 172 | C116: 0.4 | D116: 1 | E116: C | F116: Kinnikasvanud, jätta tegemata
A117: 213 | B117: 82 | C117: 0.3 | D117: 1 | E117: C | F117: Kinnikasvanud, jätta tegemata
A118: 214 | B118: 98 | C118: 0.3 | D118: 1 | E118: C | F118: Kinnikasvanud, jätta tegemata
A119: 215 | B119: 119 | C119: 0.2 | D119: 1 | E119: C | F119: Kinnikasvanud, jätta tegemata
A120: 216 | B120: 80 | C120: 0.3 | D120: 1 | E120: C | F120: Kinnikasvanud, jätta tegemata
A121: 217 | B121: 344 | C121: 1.5 | D121: 4.2 | E121: A
A122: 218 | B122: 527 | C122: 1.3 | D122: 4 | E122: B
A123: 219 | B123: 146 | C123: 1.2 | D123: 3.5 | E123: B
A124: 220 | B124: 388 | C124: 1.4 | D124: 3 | E124: B
A125: 221 | B125: 304 | C125: 1.4 | D125: 4.5 | E125: B
A126: 222 | B126: 111 | C126: 0.3 | D126: 1 | E126: C | F126: Kinnikasvanud, jätta tegemata
A127: 223 | B127: 472 | C127: 0.9 | D127: 3.5 | E127: B
A128: 224 | B128: 671 | C128: 0.9 | D128: 3 | E128: B
A129: 225 | B129: 444 | C129: 1.4 | D129: 3 | E129: B
A130: 226 | B130: 348 | C130: 1.4 | D130: 4.5 | E130: B
A131: 227 | B131: 444 | C131: 1.4 | D131: 3.8 | E131: B
A132: 228 | B132: 422 | C132: 1.5 | D132: 4.5 | E132: B
A133: 229 | B133: 233 | C133: 0.4 | D133: 1.5 | E133: C | F133: Kinnikasvanud, jätta tegemata
A134: 230 | B134: 120 | C134: 0.8 | D134: 2 | E134: C | F134: Kinnikasvanud, jätta tegemata
A135: 231 | B135: 94 | C135: 1 | D135: 2 | E135: C | F135: Kinnikasvanud, jätta tegemata
A136: 232 | B136: 807 | C136: 1.3 | D136: 4 | E136: B
A137: 233 | B137: 230 | C137: 0.3 | D137: 0.8 | E137: C | F137: Kinnikasvanud, jätta tegemata
A138: 234 | B138: 214 | C138: 0.9 | D138: 3 | E138: C | F138: Koprapais | G138: 1
A139: 235 | B139: 49 | C139: 0.7 | D139: 1.8 | E139: B
A140: 236 | B140: 81 | C140: 0.6 | D140: 1.5 | E140: B
A141: 237 | B141: 354 | C141: 0.8 | D141: 3 | E141: C
A142: 238 | B142: 34 | C142: 0.8 | D142: 2 | E142: C | F142: Kinnikasvanud, jätta tegemata
A143: 239 | B143: 453 | C143: 1.3 | D143: 4.5 | E143: A
A144: 240 | B144: 468 | C144: 1.3 | D144: 5.5 | E144: A
A145: 241 | B145: 322 | C145: 1 | D145: 5 | E145: A
A146: 242 | B146: 185 | C146: 1.2 | D146: 4 | E146: B
A147: 243 | B147: 113 | C147: 1.2 | D147: 2.5 | E147: C
A148: 244 | B148: 284 | C148: 1.6 | D148: 4.5 | E148: A
A149: 245 | B149: 91 | C149: 1.2 | D149: 3 | E149: C
A150: 246 | B150: 453 | C150: 1.5 | D150: 4.5 | E150: B
...

Sheet Tab 2.Kraavivalli param.
A1: Tabel 2. Kraavivalli keskmised parameetrid
A2: Kraavi tähis | B2: Valli pikkus, m | D2: Valli kõrgus, m | E2: Valli laius, m | F2: Märkus
B3: Vasak | C3: Parem
A4: ='Tab 1.Kraavide param.'!A3 -> 101 | B4: 62 | C4: 336 | D4: 1 | E4: 4.5
A5: ='Tab 1.Kraavide param.'!A4 -> 102 | C5: 436 | D5: 0.4 | E5: 5
A6: ='Tab 1.Kraavide param.'!A5 -> 103 | F6: vall puudub
A7: ='Tab 1.Kraavide param.'!A6 -> 104 | B7: 403 | C7: =401+276 -> 677 | D7: 0.2 | E7: 2
A8: 105 | C8: 184 | D8: 0.8 | E8: 5.5
A9: ='Tab 1.Kraavide param.'!A8 -> 106 | C9: 268 | D9: 0.5 | E9: 5.3
A10: ='Tab 1.Kraavide param.'!A9 -> 107 | F10: vall puudub
A11: ='Tab 1.Kraavide param.'!A10 -> 108 | B11: 321 | D11: 0.3 | E11: 4.3
A12: ='Tab 1.Kraavide param.'!A11 -> 109 | C12: 532 | D12: 0.4 | E12: 6.8
A13: ='Tab 1.Kraavide param.'!A12 -> 110 | C13: 669 | D13: 0.4 | E13: 6
A14: ='Tab 1.Kraavide param.'!A13 -> 111 | C14: 66 | D14: 0.3 | E14: 4.5
A15: ='Tab 1.Kraavide param.'!A14 -> 112 | B15: 255 | C15: 64 | D15: 0.3 | E15: 5.8
A16: ='Tab 1.Kraavide param.'!A15 -> 113 | B16: 194 | D16: 0.3 | E16: 6
A17: ='Tab 1.Kraavide param.'!A16 -> 114 | C17: 858 | D17: 0.6 | E17: 5.5
A18: ='Tab 1.Kraavide param.'!A17 -> 115 | C18: 647 | D18: 0.3 | E18: 6
A19: ='Tab 1.Kraavide param.'!A18 -> 116 | F19: ühine vall kraaviga 117
A20: ='Tab 1.Kraavide param.'!A19 -> 117 | C20: 629 | D20: 0.6 | E20: 6.5
A21: ='Tab 1.Kraavide param.'!A20 -> 118 | B21: 270 | D21: 0.4 | E21: 7
A22: ='Tab 1.Kraavide param.'!A21 -> 119 | C22: 333 | D22: 0.6 | E22: 5.3
A23: ='Tab 1.Kraavide param.'!A22 -> 120 | B23: 533 | D23: 0.6 | E23: 5.2
A24: ='Tab 1.Kraavide param.'!A23 -> 121 | B24: 260 | D24: 0.3 | E24: 6
A25: ='Tab 1.Kraavide param.'!A24 -> 122 | B25: 418 | D25: 0.5 | E25: 5
A26: ='Tab 1.Kraavide param.'!A25 -> 123 | C26: 332 | D26: 0.5 | E26: 5.2
A27: 124 | B27: 329 | C27: 769 | D27: 0.7 | E27: 5.5
A28: ='Tab 1.Kraavide param.'!A27 -> 125 | B28: 206 | D28: 0.6 | E28: 5.3
A29: 126 | C29: 201 | D29: 0.6 | E29: 5
A30: ='Tab 1.Kraavide param.'!A29 -> 127 | C30: 183 | D30: 0.6 | E30: 5
A31: ='Tab 1.Kraavide param.'!A30 -> 128 | B31: 131 | D31: 0.6 | E31: 5
A32: ='Tab 1.Kraavide param.'!A31 -> 129 | C32: 320 | D32: 0.5 | E32: 5
A33: ='Tab 1.Kraavide param.'!A32 -> 130 | C33: 509 | D33: 0.5 | E33: 5.8
A34: ='Tab 1.Kraavide param.'!A33 -> 131 | B34: 461 | D34: 0.7 | E34: 5.5
A35: ='Tab 1.Kraavide param.'!A34 -> 132 | B35: 103 | C35: 190 | D35: 0.3 | E35: 1.8
A36: 133 | B36: 479 | D36: 0.8 | E36: 6
A37: ='Tab 1.Kraavide param.'!A36 -> 134 | B37: 520 | D37: 0.8 | E37: 5
A38: ='Tab 1.Kraavide param.'!A37 -> 135 | C38: 434 | D38: 0.9 | E38: 5
A39: ='Tab 1.Kraavide param.'!A38 -> 136 | B39: 238 | D39: 0.2 | E39: 2.5
A40: ='Tab 1.Kraavide param.'!A39 -> 137 | C40: 415 | D40: 0.7 | E40: 5.5
A41: 138 | B41: 500 | C41: 231 | D41: 0.8 | E41: 4.5
A42: ='Tab 1.Kraavide param.'!A41 -> 139 | B42: 109 | D42: 0.6 | E42: 5
A43: ='Tab 1.Kraavide param.'!A42 -> 140 | C43: 152 | D43: 0.6 | E43: 6
A44: ='Tab 1.Kraavide param.'!A43 -> 141 | C44: 225 | D44: 0.5 | E44: 5
A45: ='Tab 1.Kraavide param.'!A44 -> 142 | C45: 457 | D45: 0.5 | E45: 4.8
A46: ='Tab 1.Kraavide param.'!A45 -> 143 | B46: 220 | D46: 0.3 | E46: 6
A47: ='Tab 1.Kraavide param.'!A46 -> 144 | C47: 378 | D47: 0.5 | E47: 6
A48: ='Tab 1.Kraavide param.'!A47 -> 145 | B48: 253 | D48: 0.3 | E48: 4.8
A49: ='Tab 1.Kraavide param.'!A48 -> 146 | B49: 384 | C49: 138 | D49: 0.2 | E49: 4.5
A50: ='Tab 1.Kraavide param.'!A49 -> 147 | B50: 336 | D50: 0.3 | E50: 4.8
A51: ='Tab 1.Kraavide param.'!A50 -> 148 | B51: 386 | D51: 0.4 | E51: 5.8
A52: ='Tab 1.Kraavide param.'!A51 -> 149 | B52: 292 | D52: 0.3 | E52: 5.3
A53: ='Tab 1.Kraavide param.'!A52 -> 150 | B53: 185 | D53: 0.4 | E53: 5.2
A54: 151 | B54: 289 | D54: 0.5 | E54: 8
A55: ='Tab 1.Kraavide param.'!A54 -> 152 | C55: 359 | D55: 0.3 | E55: 5.5
A56: 153 | C56: 484 | D56: 0.5 | E56: 5.8
A57: ='Tab 1.Kraavide param.'!A56 -> 154 | F57: vall puudub
A58: ='Tab 1.Kraavide param.'!A57 -> 155 | C58: 531 | D58: 0.3 | E58: 6
A59: ='Tab 1.Kraavide param.'!A58 -> 156 | B59: 373 | D59: 0.5 | E59: 5.8
A60: ='Tab 1.Kraavide param.'!A59 -> 157 | B60: 321 | D60: 0.5 | E60: 5.8
A61: ='Tab 1.Kraavide param.'!A60 -> 158 | B61: 187 | D61: 0.8 | E61: 5
A62: ='Tab 1.Kraavide param.'!A61 -> 159 | B62: 184 | D62: 0.5 | E62: 4.8
A63: ='Tab 1.Kraavide param.'!A62 -> 160 | B63: 566 | D63: 0.6 | E63: 4.2
A64: ='Tab 1.Kraavide param.'!A63 -> 161 | B64: 281 | C64: 69 | D64: 0.8 | E64: 5
A65: ='Tab 1.Kraavide param.'!A64 -> 162 | B65: 366 | D65: 0.6 | E65: 5
A66: ='Tab 1.Kraavide param.'!A65 -> 163 | C66: 463 | D66: 0.3 | E66: 2
A67: ='Tab 1.Kraavide param.'!A66 -> 164 | C67: 176 | D67: 0.7 | E67: 5
A68: ='Tab 1.Kraavide param.'!A67 -> 165 | F68: vall puudub
A69: ='Tab 1.Kraavide param.'!A68 -> 166 | F69: vall puudub
A70: ='Tab 1.Kraavide param.'!A69 -> 167 | B70: 641 | C70: 638 | D70: 0.3 | E70: 1.5
A71: ='Tab 1.Kraavide param.'!A70 -> 168 (Lindi oja) | B71: 1431 | C71: =546+387 -> 933 | D71: 0.637 | E71: 5 | F71: parempoolne vall 0.3/5.0
A72: ='Tab 1.Kraavide param.'!A71 -> 169 | B72: 210 | D72: 0.3 | E72: 1.5
A73: ='Tab 1.Kraavide param.'!A72 -> 170 | C73: 278 | D73: 0.8 | E73: 4.5
A74: ='Tab 1.Kraavide param.'!A73 -> 171 | B74: 118 | D74: 0.8 | E74: 4.5
A75: ='Tab 1.Kraavide param.'!A74 -> 172 | B75: 579 | D75: 0.8 | E75: 4.3
A76: ='Tab 1.Kraavide param.'!A75 -> 173 | B76: 772 | D76: 0.6 | E76: 5
A77: ='Tab 1.Kraavide param.'!A76 -> 174 | C77: 440 | D77: 0.4 | E77: 5
A78: ='Tab 1.Kraavide param.'!A77 -> 175 | C78: 441 | D78: 0.3 | E78: 5
A79: ='Tab 1.Kraavide param.'!A78 -> 176 | C79: 383 | D79: 0.3 | E79: 5
A80: ='Tab 1.Kraavide param.'!A79 -> 177 | C80: 389 | D80: 0.5 | E80: 5
A81: 178 | C81: 381 | D81: 0.4 | E81: 5.8
A82: 179 | C82: 621 | D82: 0.4 | E82: 6
A83: ='Tab 1.Kraavide param.'!A82 -> 180 | C83: 314 | D83: 0.3 | E83: 5.8
A84: ='Tab 1.Kraavide param.'!A83 -> 181 | B84: 226 | D84: 0.2 | E84: 6
A85: ='Tab 1.Kraavide param.'!A84 -> 182 | C85: 602 | D85: 0.4 | E85: 5
A86: ='Tab 1.Kraavide param.'!A85 -> 183 | B86: 90 | D86: 0.4 | E86: 5.5
A87: ='Tab 1.Kraavide param.'!A86 -> 184 | C87: 364 | D87: 0.4 | E87: 6.8
A88: ='Tab 1.Kraavide param.'!A87 -> 185 | C88: 610 | D88: 0.4 | E88: 5.3
A89: ='Tab 1.Kraavide param.'!A88 -> 186 | B89: 367 | D89: 0.421 | E89: 5.5
A90: ='Tab 1.Kraavide param.'!A89 -> 187 | C90: 478 | D90: 0.6 | E90: 5.5
A91: ='Tab 1.Kraavide param.'!A90 -> 188 | C91: 405 | D91: 0.5 | E91: 5
A92: ='Tab 1.Kraavide param.'!A91 -> 189 | C92: 344 | D92: 0.5 | E92: 5.5
A93: ='Tab 1.Kraavide param.'!A92 -> 190a | B93: =449+320 -> 769 | C93: 331 | D93: 0.5 | E93: 5
A94: ='Tab 1.Kraavide param.'!A93 -> 190b | C94: 232 | D94: 0.3 | E94: 2.8
A95: ='Tab 1.Kraavide param.'!A94 -> 190c | C95: 323 | D95: 0.3 | E95: 4.5
A96: ='Tab 1.Kraavide param.'!A95 -> 191 | C96: =475+327 -> 802 | D96: 0.6 | E96: 5.3
A97: ='Tab 1.Kraavide param.'!A96 -> 192 | C97: 455 | D97: 0.6 | E97: 5
A98: ='Tab 1.Kraavide param.'!A97 -> 193 | B98: 434 | D98: 0.5 | E98: 5.3
A99: ='Tab 1.Kraavide param.'!A98 -> 194 | B99: 433 | D99: 0.5 | E99: 5.8
A100: ='Tab 1.Kraavide param.'!A99 -> 195 | F100: vall puudub
...

Sheet Tab 3.Uur.truubid
A1: Tabel 3. Olemasolevate tuvastatud truupide andmed
A2: Number | B2: Läbimõõt, cm | C2: Materjal | D2: Pikkus, m | E2: Otsaku tüüp | F2: Seisund
A3: T1 | B3: 50 | C3: PT | D3: 10 | F3: Korras, puhas
A4: T2 | B4: 50 | C4: PT | D4: 8 | F4: Korras, puhas, riigitee alune
A5: T3 | B5: 120 | C5: PT | D5: 10 | E5: KOK | F5: Korras, puhas, eesvoolul Potsepa(PÜ-79)
A6: T4 | B6: 120 | C6: PT | D6: 12 | E6: KOK | F6: Korras, puhas
A7: T5 | B7: 120 | C7: BT | D7: 6 | F7: Puhas, toimib
A8: T6 | B8: 120 | C8: BT | D8: 6 | F8: Lagunenud
A9: T7 | B9: 75 | C9: BT | D9: 7 | F9: Lagunenud
A10: T8 | B10: 75 | C10: BT | D10: 6 | F10: Lagunenud, toimib
A11: T9 | B11: 50 | C11: BT | D11: 6 | F11: Umbes
A12: T10 | B12: 50 | C12: BT | D12: 7 | E12: KOK | F12: 1/2 setet, toimib
A13: T11 | B13: 50 | C13: BT | D13: 6 | F13: 1/2 setet, toimib
A14: T12 | B14: 75 | C14: BT | D14: 7 | F14: Lagunenud, toimib
A15: T13 | B15: 75 | C15: BT | D15: 7 | F15: Puhas, toimib
A16: T14 | B16: 50 | C16: PT | D16: 12 | F16: Korras, puhas, mahasõidu all
A17: T15 | B17: 50 | C17: PT | D17: 12 | F17: Korras, puhas, teetruup
A18: T16 | B18: 30 | C18: BT | D18: 8 | F18: Umbes
A19: T17 | B19: 30 | C19: BT | D19: 8 | F19: Umbes
A20: T18 | B20: 40 | C20: PT | D20: 12 | F20: Korras, puhas, mahasõidu all
A21: T19 | B21: 60 | C21: PT | D21: 12 | F21: Korras, puhas, mahasõidu all
A22: T20 | B22: 30 | C22: BT | D22: 6 | F22: Lagunenud
A23: T21 | B23: 40 | C23: PT | D23: 9 | F23: Puhas, korras
A24: T22 | B24: 50 | C24: PT | D24: 12 | F24: Puhas, korras
... A26: T24 | B26: 50 | C26: PT | D26: 12 | F26: Korras, puhas, mahasõidu all
A27: T25 | B27: 40 | C27: PT | D27: 12 | E27: KOK | F27: Korras, puhas, teetruup
A28: T26 | B28: 40 | C28: PT | D28: 9 | E28: MAO | F28: Puhas, korras
A29: T27 | B29: 60 | C29: PT | D29: 12 | E29: KOK | F29: Korras, puhas, mahasõidu all
A30: T28 | B30: 100 | C30: TT | D30: 12 | E30: KOK | F30: Korras, puhas, teetruup
A31: T29 | B31: 50 | C31: BT | D31: 8 | F31: Toimib
A32: T30 | B32: 30 | C32: PT | D32: 8 | F32: Vallialune veeviimar
A33: T31 | B33: 30 | C33: BT | D33: 8 | F33: 1/2 setet, toimib
A34: T32 | B34: 50 | C34: BT | D34: 6 | F34: Vee all, toimib
A35: T33 | B35: 50 | C35: BT | D35: 6 | F35: Umbes
A36: T34 | B36: 50 | C36: BT | D36: 7 | F36: Umbes, lagunenud
A37: T35 | B37: 30 | C37: BT | D37: 7 | F37: Umbes, lagunenud
A38: T36 | B38: 30 | C38: BT | D38: 6 | F38: Umbes
A39: T37 | B39: 75 | C39: BT | D39: 5 | F39: Puhas, toimib
A40: T38 | B40: 40 | C40: PT | D40: 8 | F40: Vallialune veeviimar
A41: T39 | B41: 50 | C41: PT | D41: 10 | F41: Puhas, korras
A42: T40 | B42: 50 | C42: PT | D42: 10 | E42: MAOK | F42: Puhas, korras
A43: T41 | B43: 40 | C43: PT | D43: 10 | F43: Puhas, korras
A44: T42 | B44: 30 | C44: BT | D44: 6 | F44: Umbes
A45: T43 | B45: 50 | C45: PT | D45: 8 | F45: Puhas, korras
A46: T44 | B46: 40 | C46: PT | D46: 10 | E46: MAOK | F46: Puhas, korras
A47: T45 | B47: 60 | C47: PT | D47: 9 | E47: MAOK | F47: Puhas, korras
A48: T46 | B48: 30 | C48: BT | D48: 6 | F48: 1/2 setet, toimib
A49: T47 | B49: 80 | C49: PT | D49: 8 | E49: KOK | F49: Puhas, korras
A50: T48 | B50: 80 | C50: PT | D50: 8 | E50: KOK | F50: Puhas, korras
A51: T49 | B51: 80 | C51: PT | D51: 10 | E51: KOK | F51: Puhas, korras
A52: T50 | B52: 30 | C52: BT | D52: 6 | F52: 1/2 setet, lagunenud
A53: T51 | B53: 50 | C53: PT | D53: 2 | F53: Puhas, korras
A54: T52 | B54: 30 | C54: BT | D54: 6 | F54: Umbes, lagunenud, natukene toimib
A55: T53 | B55: 50 | C55: BT | D55: 8 | F55: Lagunenud, natukene toimib
A56: T54 | B56: 30 | C56: BT | D56: 6 | F56: Umbes, lagunenud
A57: T55 | B57: 30 | C57: BT | D57: 6 | F57: 1/2 setet, natukene toimib
A59: Märkused:
A60: 1. PT - plasttoru; BT - betoontoru; TT - terastoru;
A61: 2. MAO - mattkindlustus; MAOK - matt- ja kivikindlustus;
A62: KOK - kivikindlustus; BET - betoonkindlustus

Sheet Tab 4.Kav.tööd
A1: Tabel 4. Kavandatud tööde koondtabel
A2: Jrk. nr. | B2: Töö nimetus | C2: Mõõtühik | D2: Maht KOKKU
A3: 1 | B3: Ettevalmistustööd
A4: 2 | B4: Raadatavate trasside mahamärkimine | C4: km | D4: {='Tab 5.Trassiraied'!C139:D139/1000} -> 48.51 | E4: 0
A5: 3 | B5: Puittaimestiku raie trassidel ja paisude asukohas | C5: ha | D5: ='Tab 5.Trassiraied'!I139 -> 26.591
A6: 4 | B6: Tüveste vedu trassidelt veokaugus kuni 1 km | C6: ha | D6: =D5*0.2 -> 5.3182
A7: 5 | B7: Kändude juurimine paisude aluselt alalt | C7: ha | D7: ='Tab 5.Trassiraied'!G139/10000 -> 0.785
A8: 6 | B8: Koprapaisude likvideerimine | C8: tk | D8: 6
A9: 7 | B9: Setteekraanide rajamine | C9: tk | D9: 8
A10: 8 | B10: Põhurull | C10: tk | D10: =3*D9 -> 24
A11: 9 | B11: Geotekstiil (NGS2) | C11: m2 | D11: =27*D9 -> 216
A12: 10 | B12: Mullatööd ja paisud
A13: 11 | B13: Kraavivallide likvideerimine (I-II gr. pinnas) | C13: m3 | D13: ='Tab 8.Likv.rajatised'!Q112 -> 85720.355
A14: 12 | B14: Kraavide täitmine kohapealse pinnasega (I-II gr. pinnas) | C14: m3 | D14: ='Tab 8.Likv.rajatised'!O112 -> 70423.525
A15: 13 | B15: Paisude mahamärkimine | C15: tk | D15: ='Tab 5.Trassiraied'!F139 -> 133
A16: 14 | B16: Sette/pinnase eemaldamine pinnaspaisude alt (I-II gr. pinnas 5 m3/pais) | C16: m3 | D16: ='Tab 6.Paisu tüüpmaht'!F4*'Tab 6.Paisu tüüpmaht'!G4 -> 620
A17: 15 | B17: Pinnaspaisude ehitamine kohapealsest pinnasest (I-II gr. pinnas), sh pinnase tihendamine mehhanismidega | C17: m3 | D17: ='Tab 8.Likv.rajatised'!P112 -> 3074
A18: 16 | B18: Truubid
A19: 17 | B19: Ø 30-120 cm (r/b / plast / teras) truubi torude väljatõstmine ja utiliseerimine | C19: m | D19: ='Tab 10a-10b.Truubid'!F24 -> 129
A20: 18 | B20: Plasttruubi ehitus; Ø50 cm, tüüp 50PT, SN8 | C20: m | D20: ='Tab 10a-10b.Truubid'!F32 -> 12
A21: 19 | B21: Ø50MAO. Truubi mattotsaku ehitus | C21: 2 otsakut | D21: =COUNT('Tab 10a-10b.Truubid'!A30:A31) -> 1
A22: 20 | B22: Tee/mahasõidu katte taastamine (h=10 cm; kruus, fr 0/31,5 mm) | C22: m3 | D22: ='Tab 10a-10b.Truubid'!I32 -> 6
A23: 21 | B23: Täitepinnas truubikaeviku täitmiseks (liivpinnas) | C23: m3 | D23: ='Tab 10a-10b.Truubid'!K32 -> 22
A24: 22 | B24: Täiendav kaeve truubi ehitamiseks | C24: m3 | D24: ='Tab 10a-10b.Truubid'!J32 -> 40
A25: 23 | B25: Uued veejuhtmed
A26: 24 | B26: Veejuhtmete kaevamine (I-II gr. pinnas) | C26: m3 | D26: ='Tab 11.Veejuhtmed'!I15 -> 535.8
A27: 25 | B27: Mullavallide laialiajamine ja tasandamine | C27: m3 | D27: =D26*0.6 -> 321.48
A28: 26 | B28: Muud tööd
A29: 27 | B29: Ajutiste ülepääsude rajamine ja likvideerimine | C29: tk | D29: =COUNT('Tab 5.Trassiraied'!A128:A138) -> 10

Sheet Tab 5.Trassiraied
A1: Tabel 5. Trassiraied
A2: Jrk. nr. | B2: Kraavi / ligipääsu tähis | C2: Trassi / ligipääsu pikkus, m | E2: Trassi / ligipääsu laius | F2: Paisude koguarv kraavil | G2: Raie paisu asukohas | H2: Raie ligipääsu jaoks | I2: Trassiraie kokku
C3: Vasak | D3: Parem | E3: m | F3: tk | G3: m2 | H3: m2 | I3: ha
A4: 1 | B4: ='Tab 1.Kraavide param.'!A3 -> 101 | C4: ='Tab 2.Kraavivalli param.'!B4 -> 62 | D4: ='Tab 2.Kraavivalli param.'!C4 -> 336 | E4: 6 | F4: ='Tab 8.Likv.rajatised'!J7 -> 0 | G4: ='Tab 8.Likv.rajatised'!H7*'Tab 6.Paisu tüüpmaht'!$E$4+'Tab 8.Likv.rajatised'!I7*'Tab 6.Paisu tüüpmaht'!$E$5 -> 0 | I4: =((C4+D4)*E4+G4+H4)/10000 -> 0.2388
A5: 2 | B5: ='Tab 1.Kraavide param.'!A4 -> 102 | C5: ='Tab 2.Kraavivalli param.'!B5 -> 0 | D5: ='Tab 2.Kraavivalli param.'!C5 -> 436 | E5: 6 | F5: ='Tab 8.Likv.rajatised'!J8 -> 0 | G5: ='Tab 8.Likv.rajatised'!H8*'Tab 6.Paisu tüüpmaht'!$E$4+'Tab 8.Likv.rajatised'!I8*'Tab 6.Paisu tüüpmaht'!$E$5 -> 0 | I5: =((C5+D5)*E5+G5)/10000 -> 0.2616
A6: 3 | B6: ='Tab 1.Kraavide param.'!A5 -> 103 | D6: 964 | E6: 6 | F6: ='Tab 8.Likv.rajatised'!J9 -> 21 | G6: ='Tab 8.Likv.rajatised'!H9*'Tab 6.Paisu tüüpmaht'!$E$4+'Tab 8.Likv.rajatised'!I9*'Tab 6.Paisu tüüpmaht'!$E$5 -> 1113 | I6: =((C6+D6)*E6+G6)/10000 -> 0.6897
A7: 4 | B7: ='Tab 1.Kraavide param.'!A6 -> 104 | D7: =169+404 -> 573 | E7: 6 | F7: ='Tab 8.Likv.rajatised'!J10 -> 5 | G7: ='Tab 8.Likv.rajatised'!H10*'Tab 6.Paisu tüüpmaht'!$E$4+'Tab 8.Likv.rajatised'!I10*'Tab 6.Paisu tüüpmaht'!$E$5 -> 265 | I7: =((C7+D7)*E7+G7)/10000 -> 0.3703
A8: 5 | B8: ='Tab 1.Kraavide param.'!A8 -> 106 | C8: ='Tab 2.Kraavivalli param.'!B9 -> 0 | D8: ='Tab 2.Kraavivalli param.'!C9 -> 268 | E8: 6 | F8: ='Tab 8.Likv.rajatised'!J11 -> 0 | G8: ='Tab 8.Likv.rajatised'!H11*'Tab 6.Paisu tüüpmaht'!$E$4+'Tab 8.Likv.rajatised'!I11*'Tab 6.Paisu tüüpmaht'!$E$5 -> 0 | I8: =((C8+D8)*E8+G8)/10000 -> 0.1608
A9: 6 | B9: ='Tab 1.Kraavide param.'!A9 -> 107 | D9: 404 | E9: 6 | F9: ='Tab 8.Likv.rajatised'!J12 -> 9 | G9: ='Tab 8.Likv.rajatised'!H12*'Tab 6.Paisu tüüpmaht'!$E$4+'Tab 8.Likv.rajatised'!I12*'Tab 6.Paisu tüüpmaht'!$E$5 -> 477 | I9: =((C9+D9)*E9+G9)/10000 -> 0.2901
A10: 7 | B10: ='Tab 1.Kraavide param.'!A13 -> 111 | C10: ='Tab 2.Kraavivalli param.'!B14 -> 0 | D10: 71 | E10: 6 | F10: ='Tab 8.Likv.rajatised'!J13 -> 0 | G10: ='Tab 8.Likv.rajatised'!H13*'Tab 6.Paisu tüüpmaht'!$E$4+'Tab 8.Likv.rajatised'!I13*'Tab 6.Paisu tüüpmaht'!$E$5 -> 0 | I10: =((C10+D10)*E10+G10)/10000 -> 0.0426
A11: 8 | B11: ='Tab 1.Kraavide param.'!A14 -> 112 | C11: 261 | E11: 6 | F11: ='Tab 8.Likv.rajatised'!J14 -> 0 | G11: ='Tab 8.Likv.rajatised'!H14*'Tab 6.Paisu tüüpmaht'!$E$4+'Tab 8.Likv.rajatised'!I14*'Tab 6.Paisu tüüpmaht'!$E$5 -> 0 | I11: =((C11+D11)*E11+G11)/10000 -> 0.1566
A12: 9 | B12: ='Tab 1.Kraavide param.'!A15 -> 113 | C12: ='Tab 2.Kraavivalli param.'!B16 -> 194 | D12: ='Tab 2.Kraavivalli param.'!C16 -> 0 | E12: 6 | F12: ='Tab 8.Likv.rajatised'!J15 -> 0 | G12: ='Tab 8.Likv.rajatised'!H15*'Tab 6.Paisu tüüpmaht'!$E$4+'Tab 8.Likv.rajatised'!I15*'Tab 6.Paisu tüüpmaht'!$E$5 -> 0 | I12: =((C12+D12)*E12+G12)/10000 -> 0.1164
A13: 10 | B13: ='Tab 1.Kraavide param.'!A16 -> 114 | C13: ='Tab 2.Kraavivalli param.'!B17 -> 0 | D13: 889 | E13: 6 | F13: ='Tab 8.Likv.rajatised'!J16 -> 0 | G13: ='Tab 8.Likv.rajatised'!H16*'Tab 6.Paisu tüüpmaht'!$E$4+'Tab 8.Likv.rajatised'!I16*'Tab 6.Paisu tüüpmaht'!$E$5 -> 0 | I13: =((C13+D13)*E13+G13)/10000 -> 0.5334
A14: 11 | B14: ='Tab 1.Kraavide param.'!A17 -> 115 | C14: ='Tab 2.Kraavivalli param.'!B18 -> 0 | D14: 662 | E14: 6 | F14: ='Tab 8.Likv.rajatised'!J17 -> 0 | G14: ='Tab 8.Likv.rajatised'!H17*'Tab 6.Paisu tüüpmaht'!$E$4+'Tab 8.Likv.rajatised'!I17*'Tab 6.Paisu tüüpmaht'!$E$5 -> 0 | I14: =((C14+D14)*E14+G14)/10000 -> 0.3972
A15: 12 | B15: ='Tab 1.Kraavide param.'!A18 -> 116 | C15: ='Tab 2.Kraavivalli param.'!B19 -> 0 | D15: ='Tab 2.Kraavivalli param.'!C19 -> 0 | E15: 6 | F15: ='Tab 8.Likv.rajatised'!J18 -> 0 | G15: ='Tab 8.Likv.rajatised'!H18*'Tab 6.Paisu tüüpmaht'!$E$4+'Tab 8.Likv.rajatised'!I18*'Tab 6.Paisu tüüpmaht'!$E$5 -> 0 | I15: =((C15+D15)*E15+G15)/10000 -> 0
A16: 13 | B16: ='Tab 1.Kraavide param.'!A19 -> 117 | C16: ='Tab 2.Kraavivalli param.'!B20 -> 0 | D16: 633 | E16: 6 | F16: ='Tab 8.Likv.rajatised'!J19 -> 0 | G16: ='Tab 8.Likv.rajatised'!H19*'Tab 6.Paisu tüüpmaht'!$E$4+'Tab 8.Likv.rajatised'!I19*'Tab 6.Paisu tüüpmaht'!$E$5 -> 0 | I16: =((C16+D16)*E16+G16)/10000 -> 0.3798
A17: 14 | B17: ='Tab 1.Kraavide param.'!A20 -> 118 | C17: ='Tab 2.Kraavivalli param.'!B21 -> 270 | D17: ='Tab 2.Kraavivalli param.'!C21 -> 0 | E17: 6 | F17: ='Tab 8.Likv.rajatised'!J20 -> 0 | G17: ='Tab 8.Likv.rajatised'!H20*'Tab 6.Paisu tüüpmaht'!$E$4+'Tab 8.Likv.rajatised'!I20*'Tab 6.Paisu tüüpmaht'!$E$5 -> 0 | I17: =((C17+D17)*E17+G17)/10000 -> 0.162
A18: 15 | B18: ='Tab 1.Kraavide param.'!A22 -> 120 | C18: 408 | D18: ='Tab 2.Kraavivalli param.'!C23 -> 0 | E18: 6 | F18: ='Tab 8.Likv.rajatised'!J21 -> 0 | G18: ='Tab 8.Likv.rajatised'!H21*'Tab 6.Paisu tüüpmaht'!$E$4+'Tab 8.Likv.rajatised'!I21*'Tab 6.Paisu tüüpmaht'!$E$5 -> 0 | I18: =((C18+D18)*E18+G18)/10000 -> 0.2448
A19: 16 | B19: ='Tab 1.Kraavide param.'!A23 -> 121 | C19: 270 | D19: ='Tab 2.Kraavivalli param.'!C24 -> 0 | E19: 6 | F19: ='Tab 8.Likv.rajatised'!J22 -> 0 | G19: ='Tab 8.Likv.rajatised'!H22*'Tab 6.Paisu tüüpmaht'!$E$4+'Tab 8.Likv.rajatised'!I22*'Tab 6.Paisu tüüpmaht'!$E$5 -> 0 | I19: =((C19+D19)*E19+G19)/10000 -> 0.162
A20: 17 | B20: ='Tab 1.Kraavide param.'!A24 -> 122 | C20: 468 | D20: ='Tab 2.Kraavivalli param.'!C25 -> 0 | E20: 6 | F20: ='Tab 8.Likv.rajatised'!J23 -> 0 | G20: ='Tab 8.Likv.rajatised'!H23*'Tab 6.Paisu tüüpmaht'!$E$4+'Tab 8.Likv.rajatised'!I23*'Tab 6.Paisu tüüpmaht'!$E$5 -> 0 | I20: =((C20+D20)*E20+G20)/10000 -> 0.2808
A21: 18 | B21: ='Tab 1.Kraavide param.'!A25 -> 123 | C21: ='Tab 2.Kraavivalli param.'!B26 -> 0 | D21: 336 | E21: 6 | F21: ='Tab 8.Likv.rajatised'!J24 -> 0 | G21: ='Tab 8.Likv.rajatised'!H24*'Tab 6.Paisu tüüpmaht'!$E$4+'Tab 8.Likv.rajatised'!I24*'Tab 6.Paisu tüüpmaht'!$E$5 -> 0 | I21: =((C21+D21)*E21+G21)/10000 -> 0.2016
A22: 19 | B22: ='Tab 1.Kraavide param.'!A27 -> 125 | C22: 568 | D22: ='Tab 2.Kraavivalli param.'!C28 -> 0 | E22: 6 | F22: ='Tab 8.Likv.rajatised'!J25 -> 0 | G22: ='Tab 8.Likv.rajatised'!H25*'Tab 6.Paisu tüüpmaht'!$E$4+'Tab 8.Likv.rajatised'!I25*'Tab 6.Paisu tüüpmaht'!$E$5 -> 0 | I22: =((C22+D22)*E22+G22)/10000 -> 0.3408
A23: 20 | B23: ='Tab 1.Kraavide param.'!A29 -> 127 | C23: ='Tab 2.Kraavivalli param.'!B30 -> 0 | D23: 343 | E23: 6 | F23: ='Tab 8.Likv.rajatised'!J26 -> 0 | G23: ='Tab 8.Likv.rajatised'!H26*'Tab 6.Paisu tüüpmaht'!$E$4+'Tab 8.Likv.rajatised'!I26*'Tab 6.Paisu tüüpmaht'!$E$5 -> 0 | I23: =((C23+D23)*E23+G23)/10000 -> 0.2058
A24: 21 | B24: ='Tab 1.Kraavide param.'!A30 -> 128 | C24: ='Tab 2.Kraavivalli param.'!B31 -> 131 | D24: ='Tab 2.Kraavivalli param.'!C31 -> 0 | E24: 6 | F24: ='Tab 8.Likv.rajatised'!J27 -> 0 | G24: ='Tab 8.Likv.rajatised'!H27*'Tab 6.Paisu tüüpmaht'!$E$4+'Tab 8.Likv.rajatised'!I27*'Tab 6.Paisu tüüpmaht'!$E$5 -> 0 | I24: =((C24+D24)*E24+G24)/10000 -> 0.0786
A25: 22 | B25: ='Tab 1.Kraavide param.'!A31 -> 129 | C25: ='Tab 2.Kraavivalli param.'!B32 -> 0 | D25: 350 | E25: 6 | F25: ='Tab 8.Likv.rajatised'!J28 -> 0 | G25: ='Tab 8.Likv.rajatised'!H28*'Tab 6.Paisu tüüpmaht'!$E$4+'Tab 8.Likv.rajatised'!I28*'Tab 6.Paisu tüüpmaht'!$E$5 -> 0 | I25: =((C25+D25)*E25+G25)/10000 -> 0.21
A26: 23 | B26: ='Tab 1.Kraavide param.'!A32 -> 130 | C26: ='Tab 2.Kraavivalli param.'!B33 -> 0 | D26: ='Tab 2.Kraavivalli param.'!C33 -> 509 | E26: 6 | F26: ='Tab 8.Likv.rajatised'!J29 -> 0 | G26: ='Tab 8.Likv.rajatised'!H29*'Tab 6.Paisu tüüpmaht'!$E$4+'Tab 8.Likv.rajatised'!I29*'Tab 6.Paisu tüüpmaht'!$E$5 -> 0 | I26: =((C26+D26)*E26+G26)/10000 -> 0.3054
A27: 24 | B27: ='Tab 1.Kraavide param.'!A33 -> 131 | C27: 336 | D27: ='Tab 2.Kraavivalli param.'!C34 -> 0 | E27: 6 | F27: ='Tab 8.Likv.rajatised'!J30 -> 0 | G27: ='Tab 8.Likv.rajatised'!H30*'Tab 6.Paisu tüüpmaht'!$E$4+'Tab 8.Likv.rajatised'!I30*'Tab 6.Paisu tüüpmaht'!$E$5 -> 0 | I27: =((C27+D27)*E27+G27)/10000 -> 0.2016
A28: 25 | B28: ='Tab 1.Kraavide param.'!A34 -> 132 | D28: ='Tab 2.Kraavivalli param.'!C35 -> 190 | E28: 6 | F28: ='Tab 8.Likv.rajatised'!J31 -> 0 | G28: ='Tab 8.Likv.rajatised'!H31*'Tab 6.Paisu tüüpmaht'!$E$4+'Tab 8.Likv.rajatised'!I31*'Tab 6.Paisu tüüpmaht'!$E$5 -> 0 | I28: =((C28+D28)*E28+G28)/10000 -> 0.114
A29: 26 | B29: ='Tab 1.Kraavide param.'!A36 -> 134 | C29: 548 | D29: ='Tab 2.Kraavivalli param.'!C37 -> 0 | E29: 6 | F29: ='Tab 8.Likv.rajatised'!J32 -> 0 | G29: ='Tab 8.Likv.rajatised'!H32*'Tab 6.Paisu tüüpmaht'!$E$4+'Tab 8.Likv.rajatised'!I32*'Tab 6.Paisu tüüpmaht'!$E$5 -> 0 | I29: =((C29+D29)*E29+G29)/10000 -> 0.3288
A30: 27 | B30: ='Tab 1.Kraavide param.'!A37 -> 135 | C30: ='Tab 2.Kraavivalli param.'!B38 -> 0 | D30: 445 | E30: 6 | F30: ='Tab 8.Likv.rajatised'!J33 -> 0 | G30: ='Tab 8.Likv.rajatised'!H33*'Tab 6.Paisu tüüpmaht'!$E$4+'Tab 8.Likv.rajatised'!I33*'Tab 6.Paisu tüüpmaht'!$E$5 -> 0 | I30: =((C30+D30)*E30+G30)/10000 -> 0.267
A31: 28 | B31: ='Tab 1.Kraavide param.'!A38 -> 136 | C31: 240 | D31: ='Tab 2.Kraavivalli param.'!C39 -> 0 | E31: 6 | F31: ='Tab 8.Likv.rajatised'!J34 -> 0 | G31: ='Tab 8.Likv.rajatised'!H34*'Tab 6.Paisu tüüpmaht'!$E$4+'Tab 8.Likv.rajatised'!I34*'Tab 6.Paisu tüüpmaht'!$E$5 -> 0 | I31: =((C31+D31)*E31+G31)/10000 -> 0.144
A32: 29 | B32: ='Tab 1.Kraavide param.'!A39 -> 137 | C32: ='Tab 2.Kraavivalli param.'!B40 -> 0 | D32: 420 | E32: 6 | F32: ='Tab 8.Likv.rajatised'!J35 -> 0 | G32: ='Tab 8.Likv.rajatised'!H35*'Tab 6.Paisu tüüpmaht'!$E$4+'Tab 8.Likv.rajatised'!I35*'Tab 6.Paisu tüüpmaht'!$E$5 -> 0 | I32: =((C32+D32)*E32+G32)/10000 -> 0.252
A33: 30 | B33: ='Tab 1.Kraavide param.'!A41 -> 139 | C33: 199 | D33: ='Tab 2.Kraavivalli param.'!C42 -> 0 | E33: 6 | F33: ='Tab 8.Likv.rajatised'!J36 -> 0 | G33: ='Tab 8.Likv.rajatised'!H36*'Tab 6.Paisu tüüpmaht'!$E$4+'Tab 8.Likv.rajatised'!I36*'Tab 6.Paisu tüüpmaht'!$E$5 -> 0 | I33: =((C33+D33)*E33+G33)/10000 -> 0.1194
A34: 31 | B34: ='Tab 1.Kraavide param.'!A42 -> 140 | C34: ='Tab 2.Kraavivalli param.'!B43 -> 0 | D34: ='Tab 2.Kraavivalli param.'!C43 -> 152 | E34: 6 | F34: ='Tab 8.Likv.rajatised'!J37 -> 0 | G34: ='Tab 8.Likv.rajatised'!H37*'Tab 6.Paisu tüüpmaht'!$E$4+'Tab 8.Likv.rajatised'!I37*'Tab 6.Paisu tüüpmaht'!$E$5 -> 0 | I34: =((C34+D34)*E34+G34)/10000 -> 0.0912
A35: 32 | B35: ='Tab 1.Kraavide param.'!A43 -> 141 | C35: ='Tab 2.Kraavivalli param.'!B44 -> 0 | D35: ='Tab 2.Kraavivalli param.'!C44 -> 225 | E35: 6 | F35: ='Tab 8.Likv.rajatised'!J38 -> 0 | G35: ='Tab 8.Likv.rajatised'!H38*'Tab 6.Paisu tüüpmaht'!$E$4+'Tab 8.Likv.rajatised'!I38*'Tab 6.Paisu tüüpmaht'!$E$5 -> 0 | I35: =((C35+D35)*E35+G35)/10000 -> 0.135
A36: 33 | B36: ='Tab 1.Kraavide param.'!A44 -> 142 | C36: ='Tab 2.Kraavivalli param.'!B45 -> 0 | D36: 461 | E36: 6 | F36: ='Tab 8.Likv.rajatised'!J39 -> 0 | G36: ='Tab 8.Likv.rajatised'!H39*'Tab 6.Paisu tüüpmaht'!$E$4+'Tab 8.Likv.rajatised'!I39*'Tab 6.Paisu tüüpmaht'!$E$5 -> 0 | I36: =((C36+D36)*E36+G36)/10000 -> 0.2766
A37: 34 | B37: ='Tab 1.Kraavide param.'!A47 -> 145 | C37: ='Tab 2.Kraavivalli param.'!B48 -> 253 | D37: ='Tab 2.Kraavivalli param.'!C48 -> 0 | E37: 6 | F37: ='Tab 8.Likv.rajatised'!J40 -> 0 | G37: ='Tab 8.Likv.rajatised'!H40*'Tab 6.Paisu tüüpmaht'!$E$4+'Tab 8.Likv.rajatised'!I40*'Tab 6.Paisu tüüpmaht'!$E$5 -> 0 | I37: =((C37+D37)*E37+G37)/10000 -> 0.1518
A38: 35 | B38: ='Tab 1.Kraavide param.'!A48 -> 146 | C38: ='Tab 2.Kraavivalli param.'!B49 -> 384 | E38: 6 | F38: ='Tab 8.Likv.rajatised'!J41 -> 0 | G38: ='Tab 8.Likv.rajatised'!H41*'Tab 6.Paisu tüüpmaht'!$E$4+'Tab 8.Likv.rajatised'!I41*'Tab 6.Paisu tüüpmaht'!$E$5 -> 0 | I38: =((C38+D38)*E38+G38)/10000 -> 0.2304
A39: 36 | B39: ='Tab 1.Kraavide param.'!A49 -> 147 | C39: ='Tab 2.Kraavivalli param.'!B50 -> 336 | D39: ='Tab 2.Kraavivalli param.'!C50 -> 0 | E39: 6 | F39: ='Tab 8.Likv.rajatised'!J42 -> 0 | G39: ='Tab 8.Likv.rajatised'!H42*'Tab 6.Paisu tüüpmaht'!$E$4+'Tab 8.Likv.rajatised'!I42*'Tab 6.Paisu tüüpmaht'!$E$5 -> 0 | I39: =((C39+D39)*E39+G39)/10000 -> 0.2016
A40: 37 | B40: ='Tab 1.Kraavide param.'!A50 -> 148 | C40: ='Tab 2.Kraavivalli param.'!B51 -> 386 | D40: ='Tab 2.Kraavivalli param.'!C51 -> 0 | E40: 6 | F40: ='Tab 8.Likv.rajatised'!J43 -> 0 | G40: ='Tab 8.Likv.rajatised'!H43*'Tab 6.Paisu tüüpmaht'!$E$4+'Tab 8.Likv.rajatised'!I43*'Tab 6.Paisu tüüpmaht'!$E$5 -> 0 | I40: =((C40+D40)*E40+G40)/10000 -> 0.2316
A41: 38 | B41: ='Tab 1.Kraavide param.'!A51 -> 149 | C41: ='Tab 2.Kraavivalli param.'!B52 -> 292 | D41: ='Tab 2.Kraavivalli param.'!C52 -> 0 | E41: 6 | F41: ='Tab 8.Likv.rajatised'!J44 -> 0 | G41: ='Tab 8.Likv.rajatised'!H44*'Tab 6.Paisu tüüpmaht'!$E$4+'Tab 8.Likv.rajatised'!I44*'Tab 6.Paisu tüüpmaht'!$E$5 -> 0 | I41: =((C41+D41)*E41+G41)/10000 -> 0.1752
A42: 39 | B42: ='Tab 1.Kraavide param.'!A54 -> 152 | C42: ='Tab 2.Kraavivalli param.'!B55 -> 0 | D42: ='Tab 2.Kraavivalli param.'!C55 -> 359 | E42: 6 | F42: ='Tab 8.Likv.rajatised'!J45 -> 0 | G42: ='Tab 8.Likv.rajatised'!H45*'Tab 6.Paisu tüüpmaht'!$E$4+'Tab 8.Likv.rajatised'!I45*'Tab 6.Paisu tüüpmaht'!$E$5 -> 0 | I42: =((C42+D42)*E42+G42)/10000 -> 0.2154
A43: 40 | B43: ='Tab 1.Kraavide param.'!A57 -> 155 | C43: ='Tab 2.Kraavivalli param.'!B58 -> 0 | D43: 298 | E43: 6 | F43: ='Tab 8.Likv.rajatised'!J46 -> 0 | G43: ='Tab 8.Likv.rajatised'!H46*'Tab 6.Paisu tüüpmaht'!$E$4+'Tab 8.Likv.rajatised'!I46*'Tab 6.Paisu tüüpmaht'!$E$5 -> 0 | I43: =((C43+D43)*E43+G43)/10000 -> 0.1788
A44: 41 | B44: ='Tab 1.Kraavide param.'!A58 -> 156 | C44: ='Tab 2.Kraavivalli param.'!B59 -> 373 | D44: ='Tab 2.Kraavivalli param.'!C59 -> 0 | E44: 6 | F44: ='Tab 8.Likv.rajatised'!J47 -> 0 | G44: ='Tab 8.Likv.rajatised'!H47*'Tab 6.Paisu tüüpmaht'!$E$4+'Tab 8.Likv.rajatised'!I47*'Tab 6.Paisu tüüpmaht'!$E$5 -> 0 | I44: =((C44+D44)*E44+G44)/10000 -> 0.2238
A45: 42 | B45: ='Tab 1.Kraavide param.'!A60 -> 158 | C45: 191 | D45: ='Tab 2.Kraavivalli param.'!C61 -> 0 | E45: 6 | F45: ='Tab 8.Likv.rajatised'!J48 -> 0 | G45: ='Tab 8.Likv.rajatised'!H48*'Tab 6.Paisu tüüpmaht'!$E$4+'Tab 8.Likv.rajatised'!I48*'Tab 6.Paisu tüüpmaht'!$E$5 -> 0 | I45: =((C45+D45)*E45+G45)/10000 -> 0.1146
A46: 43 | B46: ='Tab 1.Kraavide param.'!A61 -> 159 | C46: 210 | D46: ='Tab 2.Kraavivalli param.'!C62 -> 0 | E46: 6 | F46: ='Tab 8.Likv.rajatised'!J49 -> 0 | G46: ='Tab 8.Likv.rajatised'!H49*'Tab 6.Paisu tüüpmaht'!$E$4+'Tab 8.Likv.rajatised'!I49*'Tab 6.Paisu tüüpmaht'!$E$5 -> 0 | I46: =((C46+D46)*E46+G46)/10000 -> 0.126
A47: 44 | B47: ='Tab 1.Kraavide param.'!A62 -> 160 | C47: 571 | D47: ='Tab 2.Kraavivalli param.'!C63 -> 0 | E47: 6 | F47: ='Tab 8.Likv.rajatised'!J50 -> 0 | G47: ='Tab 8.Likv.rajatised'!H50*'Tab 6.Paisu tüüpmaht'!$E$4+'Tab 8.Likv.rajatised'!I50*'Tab 6.Paisu tüüpmaht'!$E$5 -> 0 | I47: =((C47+D47)*E47+G47)/10000 -> 0.3426
A48: 45 | B48: ='Tab 1.Kraavide param.'!A63 -> 161 | C48: ='Tab 2.Kraavivalli param.'!B64 -> 281 | D48: ='Tab 2.Kraavivalli param.'!C64 -> 69 | E48: 6 | F48: ='Tab 8.Likv.rajatised'!J51 -> 0 | G48: ='Tab 8.Likv.rajatised'!H51*'Tab 6.Paisu tüüpmaht'!$E$4+'Tab 8.Likv.rajatised'!I51*'Tab 6.Paisu tüüpmaht'!$E$5 -> 0 | I48: =((C48+D48)*E48+G48)/10000 -> 0.21
A49: 46 | B49: ='Tab 1.Kraavide param.'!A64 -> 162 | C49: 380 | D49: ='Tab 2.Kraavivalli param.'!C65 -> 0 | E49: 6 | F49: ='Tab 8.Likv.rajatised'!J52 -> 0 | G49: ='Tab 8.Likv.rajatised'!H52*'Tab 6.Paisu tüüpmaht'!$E$4+'Tab 8.Likv.rajatised'!I52*'Tab 6.Paisu tüüpmaht'!$E$5 -> 0 | I49: =((C49+D49)*E49+G49)/10000 -> 0.228
A50: 47 | B50: ='Tab 1.Kraavide param.'!A65 -> 163 | C50: ='Tab 2.Kraavivalli param.'!B66 -> 0 | D50: 473 | E50: 6 | F50: ='Tab 8.Likv.rajatised'!J53 -> 2 | G50: ='Tab 8.Likv.rajatised'!H53*'Tab 6.Paisu tüüpmaht'!$E$4+'Tab 8.Likv.rajatised'!I53*'Tab 6.Paisu tüüpmaht'!$E$5 -> 106 | I50: =((C50+D50)*E50+G50)/10000 -> 0.2944
A51: 48 | B51: ='Tab 1.Kraavide param.'!A66 -> 164 | C51: ='Tab 2.Kraavivalli param.'!B67 -> 0 | D51: 187 | E51: 6 | F51: ='Tab 8.Likv.rajatised'!J54 -> 0 | G51: ='Tab 8.Likv.rajatised'!H54*'Tab 6.Paisu tüüpmaht'!$E$4+'Tab 8.Likv.rajatised'!I54*'Tab 6.Paisu tüüpmaht'!$E$5 -> 0 | I51: =((C51+D51)*E51+G51)/10000 -> 0.1122
A52: 49 | B52: ='Tab 1.Kraavide param.'!A67 -> 165 | C52: ='Tab 2.Kraavivalli param.'!B68 -> 0 | D52: ='Tab 2.Kraavivalli param.'!C68 -> 0 | E52: 6 | F52: ='Tab 8.Likv.rajatised'!J55 -> 1 | G52: ='Tab 8.Likv.rajatised'!H55*'Tab 6.Paisu tüüpmaht'!$E$4+'Tab 8.Likv.rajatised'!I55*'Tab 6.Paisu tüüpmaht'!$E$5 -> 53 | I52: =((C52+D52)*E52+G52)/10000 -> 0.0053
A53: 50 | B53: ='Tab 1.Kraavide param.'!A69 -> 167 | C53: 644 | E53: 6 | F53: ='Tab 8.Likv.rajatised'!J56 -> 0 | G53: ='Tab 8.Likv.rajatised'!H56*'Tab 6.Paisu tüüpmaht'!$E$4+'Tab 8.Likv.rajatised'!I56*'Tab 6.Paisu tüüpmaht'!$E$5 -> 0 | I53: =((C53+D53)*E53+G53)/10000 -> 0.3864
A54: 51 | B54: ='Tab 1.Kraavide param.'!A70 -> 168 (Lindi oja) | C54: ='Tab 2.Kraavivalli param.'!B71 -> 1431 | D54: ='Tab 2.Kraavivalli param.'!C71 -> 933 | E54: 6 | F54: ='Tab 8.Likv.rajatised'!J57 -> 0 | G54: ='Tab 8.Likv.rajatised'!H57*'Tab 6.Paisu tüüpmaht'!$E$4+'Tab 8.Likv.rajatised'!I57*'Tab 6.Paisu tüüpmaht'!$E$5 -> 0 | I54: =((C54*E54+G54+(546*3))/10000) -> 1.0224
A55: 52 | B55: ='Tab 1.Kraavide param.'!A71 -> 169 | C55: ='Tab 2.Kraavivalli param.'!B72 -> 210 | D55: ='Tab 2.Kraavivalli param.'!C72 -> 0 | E55: 6 | F55: ='Tab 8.Likv.rajatised'!J58 -> 0 | G55: ='Tab 8.Likv.rajatised'!H58*'Tab 6.Paisu tüüpmaht'!$E$4+'Tab 8.Likv.rajatised'!I58*'Tab 6.Paisu tüüpmaht'!$E$5 -> 0 | I55: =((C55+D55)*E55+G55)/10000 -> 0.126
A56: 53 | B56: ='Tab 1.Kraavide param.'!A72 -> 170 | C56: ='Tab 2.Kraavivalli param.'!B73 -> 0 | D56: ='Tab 2.Kraavivalli param.'!C73 -> 278 | E56: 6 | F56: ='Tab 8.Likv.rajatised'!J59 -> 0 | G56: ='Tab 8.Likv.rajatised'!H59*'Tab 6.Paisu tüüpmaht'!$E$4+'Tab 8.Likv.rajatised'!I59*'Tab 6.Paisu tüüpmaht'!$E$5 -> 0 | I56: =((C56+D56)*E56+G56)/10000 -> 0.1668
A57: 54 | B57: ='Tab 1.Kraavide param.'!A73 -> 171 | C57: 122 | D57: ='Tab 2.Kraavivalli param.'!C74 -> 0 | E57: 6 | F57: ='Tab 8.Likv.rajatised'!J60 -> 0 | G57: ='Tab 8.Likv.rajatised'!H60*'Tab 6.Paisu tüüpmaht'!$E$4+'Tab 8.Likv.rajatised'!I60*'Tab 6.Paisu tüüpmaht'!$E$5 -> 0 | I57: =((C57+D57)*E57+G57)/10000 -> 0.0732
A58: 55 | B58: ='Tab 1.Kraavide param.'!A74 -> 172 | C58: 545 | D58: ='Tab 2.Kraavivalli param.'!C75 -> 0 | E58: 6 | F58: ='Tab 8.Likv.rajatised'!J61 -> 0 | G58: ='Tab 8.Likv.rajatised'!H61*'Tab 6.Paisu tüüpmaht'!$E$4+'Tab 8.Likv.rajatised'!I61*'Tab 6.Paisu tüüpmaht'!$E$5 -> 0 | I58: =((C58+D58)*E58+G58)/10000 -> 0.327
A59: 56 | B59: ='Tab 1.Kraavide param.'!A75 -> 173 | C59: 783 | D59: ='Tab 2.Kraavivalli param.'!C76 -> 0 | E59: 6 | F59: ='Tab 8.Likv.rajatised'!J62 -> 0 | G59: ='Tab 8.Likv.rajatised'!H62*'Tab 6.Paisu tüüpmaht'!$E$4+'Tab 8.Likv.rajatised'!I62*'Tab 6.Paisu tüüpmaht'!$E$5 -> 0 | I59: =((C59+D59)*E59+G59)/10000 -> 0.4698
A60: 57 | B60: ='Tab 1.Kraavide param.'!A76 -> 174 | C60: ='Tab 2.Kraavivalli param.'!B77 -> 0 | D60: 442 | E60: 6 | F60: ='Tab 8.Likv.rajatised'!J63 -> 0 | G60: ='Tab 8.Likv.rajatised'!H63*'Tab 6.Paisu tüüpmaht'!$E$4+'Tab 8.Likv.rajatised'!I63*'Tab 6.Paisu tüüpmaht'!$E$5 -> 0 | I60: =((C60+D60)*E60+G60)/10000 -> 0.2652
A61: 58 | B61: ='Tab 1.Kraavide param.'!A77 -> 175 | C61: ='Tab 2.Kraavivalli param.'!B78 -> 0 | D61: 166 | E61: 6 | F61: ='Tab 8.Likv.rajatised'!J64 -> 0 | G61: ='Tab 8.Likv.rajatised'!H64*'Tab 6.Paisu tüüpmaht'!$E$4+'Tab 8.Likv.rajatised'!I64*'Tab 6.Paisu tüüpmaht'!$E$5 -> 0 | I61: =((C61+D61)*E61+G61)/10000 -> 0.0996
A62: 59 | B62: ='Tab 1.Kraavide param.'!A78 -> 176 | C62: ='Tab 2.Kraavivalli param.'!B79 -> 0 | D62: 403 | E62: 6 | F62: ='Tab 8.Likv.rajatised'!J65 -> 0 | G62: ='Tab 8.Likv.rajatised'!H65*'Tab 6.Paisu tüüpmaht'!$E$4+'Tab 8.Likv.rajatised'!I65*'Tab 6.Paisu tüüpmaht'!$E$5 -> 0 | I62: =((C62+D62)*E62+G62)/10000 -> 0.2418
A63: 60 | B63: ='Tab 1.Kraavide param.'!A79 -> 177 | C63: ='Tab 2.Kraavivalli param.'!B80 -> 0 | D63: 249 | E63: 6 | F63: ='Tab 8.Likv.rajatised'!J66 -> 0 | G63: ='Tab 8.Likv.rajatised'!H66*'Tab 6.Paisu tüüpmaht'!$E$4+'Tab 8.Likv.rajatised'!I66*'Tab 6.Paisu tüüpmaht'!$E$5 -> 0 | I63: =((C63+D63)*E63+G63)/10000 -> 0.1494
A64: 61 | B64: ='Tab 1.Kraavide param.'!A82 -> 180 | C64: ='Tab 2.Kraavivalli param.'!B83 -> 0 | D64: 468 | E64: 6 | F64: ='Tab 8.Likv.rajatised'!J67 -> 2 | G64: ='Tab 8.Likv.rajatised'!H67*'Tab 6.Paisu tüüpmaht'!$E$4+'Tab 8.Likv.rajatised'!I67*'Tab 6.Paisu tüüpmaht'!$E$5 -> 284 | I64: =((C64+D64)*E64+G64)/10000 -> 0.3092
A65: 62 | B65: ='Tab 1.Kraavide param.'!A83 -> 181 | C65: 175 | D65: ='Tab 2.Kraavivalli param.'!C84 -> 0 | E65: 6 | F65: ='Tab 8.Likv.rajatised'!J68 -> 3 | G65: ='Tab 8.Likv.rajatised'!H68*'Tab 6.Paisu tüüpmaht'!$E$4+'Tab 8.Likv.rajatised'!I68*'Tab 6.Paisu tüüpmaht'!$E$5 -> 426 | I65: =((C65+D65)*E65+G65)/10000 -> 0.1476
A66: 63 | B66: ='Tab 1.Kraavide param.'!A84 -> 182 | C66: ='Tab 2.Kraavivalli param.'!B85 -> 0 | D66: 307 | E66: 6 | F66: ='Tab 8.Likv.rajatised'!J69 -> 0 | G66: ='Tab 8.Likv.rajatised'!H69*'Tab 6.Paisu tüüpmaht'!$E$4+'Tab 8.Likv.rajatised'!I69*'Tab 6.Paisu tüüpmaht'!$E$5 -> 0 | I66: =((C66+D66)*E66+G66)/10000 -> 0.1842
A67: 64 | B67: ='Tab 1.Kraavide param.'!A85 -> 183 | C67: 107 | D67: ='Tab 2.Kraavivalli param.'!C86 -> 0 | E67: 6 | F67: ='Tab 8.Likv.rajatised'!J70 -> 0 | G67: ='Tab 8.Likv.rajatised'!H70*'Tab 6.Paisu tüüpmaht'!$E$4+'Tab 8.Likv.rajatised'!I70*'Tab 6.Paisu tüüpmaht'!$E$5 -> 0 | I67: =((C67+D67)*E67+G67)/10000 -> 0.0642
A68: 65 | B68: ='Tab 1.Kraavide param.'!A86 -> 184 | C68: ='Tab 2.Kraavivalli param.'!B87 -> 0 | D68: 107 | E68: 6 | F68: ='Tab 8.Likv.rajatised'!J71 -> 0 | G68: ='Tab 8.Likv.rajatised'!H71*'Tab 6.Paisu tüüpmaht'!$E$4+'Tab 8.Likv.rajatised'!I71*'Tab 6.Paisu tüüpmaht'!$E$5 -> 0 | I68: =((C68+D68)*E68+G68)/10000 -> 0.0642
A69: 66 | B69: ='Tab 1.Kraavide param.'!A87 -> 185 | C69: ='Tab 2.Kraavivalli param.'!B88 -> 0 | D69: 613 | E69: 6 | F69: ='Tab 8.Likv.rajatised'!J72 -> 4 | G69: ='Tab 8.Likv.rajatised'!H72*'Tab 6.Paisu tüüpmaht'!$E$4+'Tab 8.Likv.rajatised'!I72*'Tab 6.Paisu tüüpmaht'!$E$5 -> 568 | I69: =((C69+D69)*E69+G69)/10000 -> 0.4246
A70: 67 | B70: ='Tab 1.Kraavide param.'!A88 -> 186 | C70: 379 | D70: ='Tab 2.Kraavivalli param.'!C89 -> 0 | E70: 6 | F70: ='Tab 8.Likv.rajatised'!J73 -> 0 | G70: ='Tab 8.Likv.rajatised'!H73*'Tab 6.Paisu tüüpmaht'!$E$4+'Tab 8.Likv.rajatised'!I73*'Tab 6.Paisu tüüpmaht'!$E$5 -> 0 | I70: =((C70+D70)*E70+G70)/10000 -> 0.2274
A71: 68 | B71: ='Tab 1.Kraavide param.'!A89 -> 187 | C71: ='Tab 2.Kraavivalli param.'!B90 -> 0 | D71: 494 | E71: 6 | F71: ='Tab 8.Likv.rajatised'!J74 -> 0 | G71: ='Tab 8.Likv.rajatised'!H74*'Tab 6.Paisu tüüpmaht'!$E$4+'Tab 8.Likv.rajatised'!I74*'Tab 6.Paisu tüüpmaht'!$E$5 -> 0 | I71: =((C71+D71)*E71+G71)/10000 -> 0.2964
A72: 69 | B72: ='Tab 1.Kraavide param.'!A90 -> 188 | C72: ='Tab 2.Kraavivalli param.'!B91 -> 0 | D72: 274 | E72: 6 | F72: ='Tab 8.Likv.rajatised'!J75 -> 0 | G72: ='Tab 8.Likv.rajatised'!H75*'Tab 6.Paisu tüüpmaht'!$E$4+'Tab 8.Likv.rajatised'!I75*'Tab 6.Paisu tüüpmaht'!$E$5 -> 0 | I72: =((C72+D72)*E72+G72)/10000 -> 0.1644
A73: 70 | B73: ='Tab 1.Kraavide param.'!A91 -> 189 | C73: ='Tab 2.Kraavivalli param.'!B92 -> 0 | D73: 229 | E73: 6 | F73: ='Tab 8.Likv.rajatised'!J76 -> 0 | G73: ='Tab 8.Likv.rajatised'!H76*'Tab 6.Paisu tüüpmaht'!$E$4+'Tab 8.Likv.rajatised'!I76*'Tab 6.Paisu tüüpmaht'!$E$5 -> 0 | I73: =((C73+D73)*E73+G73)/10000 -> 0.1374
A74: 71 | B74: 190a | C74: 775 | E74: 6 | F74: ='Tab 8.Likv.rajatised'!J77 -> 0 | G74: ='Tab 8.Likv.rajatised'!H77*'Tab 6.Paisu tüüpmaht'!$E$4+'Tab 8.Likv.rajatised'!I77*'Tab 6.Paisu tüüpmaht'!$E$5 -> 0 | I74: =((C74+D74)*E74+G74)/10000 -> 0.465
A75: 72 | B75: 190b | D75: 242 | E75: 6 | F75: ='Tab 8.Likv.rajatised'!J78 -> 0 | G75: ='Tab 8.Likv.rajatised'!H78*'Tab 6.Paisu tüüpmaht'!$E$4+'Tab 8.Likv.rajatised'!I78*'Tab 6.Paisu tüüpmaht'!$E$5 -> 0 | I75: =((C75+D75)*E75+G75)/10000 -> 0.1452
A76: 73 | B76: ='Tab 1.Kraavide param.'!A95 -> 191 | C76: ='Tab 2.Kraavivalli param.'!B96 -> 0 | D76: 817 | E76: 6 | F76: ='Tab 8.Likv.rajatised'!J77 -> 0 | G76: ='Tab 8.Likv.rajatised'!H77*'Tab 6.Paisu tüüpmaht'!$E$4+'Tab 8.Likv.rajatised'!I77*'Tab 6.Paisu tüüpmaht'!$E$5 -> 0 | I76: =((C76+D76)*E76+G76)/10000 -> 0.4902
A77: 74 | B77: ='Tab 1.Kraavide param.'!A96 -> 192 | C77: ='Tab 2.Kraavivalli param.'!B97 -> 0 | D77: 459 | E77: 6 | F77: ='Tab 8.Likv.rajatised'!J78 -> 0 | G77: ='Tab 8.Likv.rajatised'!H78*'Tab 6.Paisu tüüpmaht'!$E$4+'Tab 8.Likv.rajatised'!I78*'Tab 6.Paisu tüüpmaht'!$E$5 -> 0 | I77: =((C77+D77)*E77+G77)/10000 -> 0.2754
A78: 75 | B78: ='Tab 1.Kraavide param.'!A97 -> 193 | C78: 439 | D78: ='Tab 2.Kraavivalli param.'!C98 -> 0 | E78: 6 | F78: ='Tab 8.Likv.rajatised'!J79 -> 0 | G78: ='Tab 8.Likv.rajatised'!H79*'Tab 6.Paisu tüüpmaht'!$E$4+'Tab 8.Likv.rajatised'!I79*'Tab 6.Paisu tüüpmaht'!$E$5 -> 0 | I78: =((C78+D78)*E78+G78)/10000 -> 0.2634
A79: 76 | B79: ='Tab 1.Kraavide param.'!A98 -> 194 | C79: 438 | D79: ='Tab 2.Kraavivalli param.'!C99 -> 0 | E79: 6 | F79: ='Tab 8.Likv.rajatised'!J80 -> 0 | G79: ='Tab 8.Likv.rajatised'!H80*'Tab 6.Paisu tüüpmaht'!$E$4+'Tab 8.Likv.rajatised'!I80*'Tab 6.Paisu tüüpmaht'!$E$5 -> 0 | I79: =((C79+D79)*E79+G79)/10000 -> 0.2628
A80: 77 | B80: ='Tab 1.Kraavide param.'!A100 -> 196 | C80: ='Tab 2.Kraavivalli param.'!B101 -> 0 | D80: 669 | E80: 6 | F80: ='Tab 8.Likv.rajatised'!J81 -> 0 | G80: ='Tab 8.Likv.rajatised'!H81*'Tab 6.Paisu tüüpmaht'!$E$4+'Tab 8.Likv.rajatised'!I81*'Tab 6.Paisu tüüpmaht'!$E$5 -> 0 | I80: =((C80+D80)*E80+G80)/10000 -> 0.4014
A81: 78 | B81: ='Tab 1.Kraavide param.'!A101 -> 197 | C81: ='Tab 2.Kraavivalli param.'!B102 -> 0 | D81: 351 | E81: 6 | F81: ='Tab 8.Likv.rajatised'!J82 -> 0 | G81: ='Tab 8.Likv.rajatised'!H82*'Tab 6.Paisu tüüpmaht'!$E$4+'Tab 8.Likv.rajatised'!I82*'Tab 6.Paisu tüüpmaht'!$E$5 -> 0 | I81: =((C81+D81)*E81+G81)/10000 -> 0.2106
A82: 79 | B82: ='Tab 1.Kraavide param.'!A102 -> 198 | C82: 402 | D82: ='Tab 2.Kraavivalli param.'!C103 -> 0 | E82: 6 | F82: ='Tab 8.Likv.rajatised'!J83 -> 0 | G82: ='Tab 8.Likv.rajatised'!H83*'Tab 6.Paisu tüüpmaht'!$E$4+'Tab 8.Likv.rajatised'!I83*'Tab 6.Paisu tüüpmaht'!$E$5 -> 0 | I82: =((C82+D82)*E82+G82)/10000 -> 0.2412
A83: 80 | B83: ='Tab 1.Kraavide param.'!A104 -> 200 | C83: 474 | D83: ='Tab 2.Kraavivalli param.'!C105 -> 0 | E83: 6 | F83: ='Tab 8.Likv.rajatised'!J84 -> 0 | G83: ='Tab 8.Likv.rajatised'!H84*'Tab 6.Paisu tüüpmaht'!$E$4+'Tab 8.Likv.rajatised'!I84*'Tab 6.Paisu tüüpmaht'!$E$5 -> 0 | I83: =((C83+D83)*E83+G83)/10000 -> 0.2844
A84: 81 | B84: ='Tab 1.Kraavide param.'!A109 -> 205 | C84: 535 | D84: ='Tab 2.Kraavivalli param.'!C110 -> 0 | E84: 6 | F84: ='Tab 8.Likv.rajatised'!J85 -> 0 | G84: ='Tab 8.Likv.rajatised'!H85*'Tab 6.Paisu tüüpmaht'!$E$4+'Tab 8.Likv.rajatised'!I85*'Tab 6.Paisu tüüpmaht'!$E$5 -> 0 | I84: =((C84+D84)*E84+G84)/10000 -> 0.321
A85: 82 | B85: ='Tab 1.Kraavide param.'!A113 -> 209 | C85: 581 | D85: ='Tab 2.Kraavivalli param.'!C114 -> 0 | E85: 6 | F85: ='Tab 8.Likv.rajatised'!J86 -> 0 | G85: ='Tab 8.Likv.rajatised'!H86*'Tab 6.Paisu tüüpmaht'!$E$4+'Tab 8.Likv.rajatised'!I86*'Tab 6.Paisu tüüpmaht'!$E$5 -> 0 | I85: =((C85+D85)*E85+G85)/10000 -> 0.3486
A86: 83 | B86: ='Tab 1.Kraavide param.'!A115 -> 211 | C86: 427 | D86: ='Tab 2.Kraavivalli param.'!C116 -> 0 | E86: 6 | F86: ='Tab 8.Likv.rajatised'!J87 -> 5 | G86: ='Tab 8.Likv.rajatised'!H87*'Tab 6.Paisu tüüpmaht'!$E$4+'Tab 8.Likv.rajatised'!I87*'Tab 6.Paisu tüüpmaht'!$E$5 -> 265 | I86: =((C86+D86)*E86+G86)/10000 -> 0.2827
A87: 84 | B87: ='Tab 1.Kraavide param.'!A121 -> 217 | C87: 343 | D87: ='Tab 2.Kraavivalli param.'!C122 -> 0 | E87: 6 | F87: ='Tab 8.Likv.rajatised'!J88 -> 2 | G87: ='Tab 8.Likv.rajatised'!H88*'Tab 6.Paisu tüüpmaht'!$E$4+'Tab 8.Likv.rajatised'!I88*'Tab 6.Paisu tüüpmaht'!$E$5 -> 106 | I87: =((C87+D87)*E87+G87)/10000 -> 0.2164
A88: 85 | B88: ='Tab 1.Kraavide param.'!A122 -> 218 | C88: ='Tab 2.Kraavivalli param.'!B123 -> 509 | D88: ='Tab 2.Kraavivalli param.'!C123 -> 0 | E88: 6 | F88: ='Tab 8.Likv.rajatised'!J89 -> 4 | G88: ='Tab 8.Likv.rajatised'!H89*'Tab 6.Paisu tüüpmaht'!$E$4+'Tab 8.Likv.rajatised'!I89*'Tab 6.Paisu tüüpmaht'!$E$5 -> 212 | I88: =((C88+D88)*E88+G88)/10000 -> 0.3266
A89: 86 | B89: ='Tab 1.Kraavide param.'!A123 -> 219 | C89: 154 | D89: ='Tab 2.Kraavivalli param.'!C124 -> 0 | E89: 6 | F89: ='Tab 8.Likv.rajatised'!J90 -> 4 | G89: ='Tab 8.Likv.rajatised'!H90*'Tab 6.Paisu tüüpmaht'!$E$4+'Tab 8.Likv.rajatised'!I90*'Tab 6.Paisu tüüpmaht'!$E$5 -> 212 | I89: =((C89+D89)*E89+G89)/10000 -> 0.1136
A90: 87 | B90: ='Tab 1.Kraavide param.'!A124 -> 220 | C90: 387 | D90: ='Tab 2.Kraavivalli param.'!C125 -> 0 | E90: 6 | F90: ='Tab 8.Likv.rajatised'!J91 -> 0 | G90: ='Tab 8.Likv.rajatised'!H91*'Tab 6.Paisu tüüpmaht'!$E$4+'Tab 8.Likv.rajatised'!I91*'Tab 6.Paisu tüüpmaht'!$E$5 -> 0 | I90: =((C90+D90)*E90+G90)/10000 -> 0.2322
A91: 88 | B91: ='Tab 1.Kraavide param.'!A125 -> 221 | C91: ='Tab 2.Kraavivalli param.'!B126 -> 0 | D91: 313 | E91: 6 | F91: ='Tab 8.Likv.rajatised'!J92 -> 0 | G91: ='Tab 8.Likv.rajatised'!H92*'Tab 6.Paisu tüüpmaht'!$E$4+'Tab 8.Likv.rajatised'!I92*'Tab 6.Paisu tüüpmaht'!$E$5 -> 0 | I91: =((C91+D91)*E91+G91)/10000 -> 0.1878
A92: 89 | B92: ='Tab 1.Kraavide param.'!A127 -> 223 | C92: 464 | D92: ='Tab 2.Kraavivalli param.'!C128 -> 0 | E92: 6 | F92: ='Tab 8.Likv.rajatised'!J93 -> 0 | G92: ='Tab 8.Likv.rajatised'!H93*'Tab 6.Paisu tüüpmaht'!$E$4+'Tab 8.Likv.rajatised'!I93*'Tab 6.Paisu tüüpmaht'!$E$5 -> 0 | I92: =((C92+D92)*E92+G92)/10000 -> 0.2784
A93: 90 | B93: ='Tab 1.Kraavide param.'!A128 -> 224 | C93: 663 | E93: 6 | F93: ='Tab 8.Likv.rajatised'!J94 -> 4 | G93: ='Tab 8.Likv.rajatised'!H94*'Tab 6.Paisu tüüpmaht'!$E$4+'Tab 8.Likv.rajatised'!I94*'Tab 6.Paisu tüüpmaht'!$E$5 -> 212 | I93: =((C93+D93)*E93+G93)/10000 -> 0.419
A94: 91 | B94: ='Tab 1.Kraavide param.'!A129 -> 225 | C94: 357 | D94: ='Tab 2.Kraavivalli param.'!C130 -> 0 | E94: 6 | F94: ='Tab 8.Likv.rajatised'!J95 -> 6 | G94: ='Tab 8.Likv.rajatised'!H95*'Tab 6.Paisu tüüpmaht'!$E$4+'Tab 8.Likv.rajatised'!I95*'Tab 6.Paisu tüüpmaht'!$E$5 -> 318 | I94: =((C94+D94)*E94+G94)/10000 -> 0.246
A95: 92 | B95: ='Tab 1.Kraavide param.'!A130 -> 226 | C95: ='Tab 2.Kraavivalli param.'!B131 -> 0 | D95: ='Tab 2.Kraavivalli param.'!C131 -> 351 | E95: 6 | F95: ='Tab 8.Likv.rajatised'!J96 -> 0 | G95: ='Tab 8.Likv.rajatised'!H96*'Tab 6.Paisu tüüpmaht'!$E$4+'Tab 8.Likv.rajatised'!I96*'Tab 6.Paisu tüüpmaht'!$E$5 -> 0 | I95: =((C95+D95)*E95+G95)/10000 -> 0.2106
A96: 93 | B96: ='Tab 1.Kraavide param.'!A131 -> 227 | C96: ='Tab 2.Kraavivalli param.'!B132 -> 0 | D96: 457 | E96: 6 | F96: ='Tab 8.Likv.rajatised'!J97 -> 6 | G96: ='Tab 8.Likv.rajatised'!H97*'Tab 6.Paisu tüüpmaht'!$E$4+'Tab 8.Likv.rajatised'!I97*'Tab 6.Paisu tüüpmaht'!$E$5 -> 318 | I96: =((C96+D96)*E96+G96)/10000 -> 0.306
A97: 94 | B97: ='Tab 1.Kraavide param.'!A132 -> 228 | C97: 441 | D97: ='Tab 2.Kraavivalli param.'!C133 -> 0 | E97: 6 | F97: ='Tab 8.Likv.rajatised'!J98 -> 8 | G97: ='Tab 8.Likv.rajatised'!H98*'Tab 6.Paisu tüüpmaht'!$E$4+'Tab 8.Likv.rajatised'!I98*'Tab 6.Paisu tüüpmaht'!$E$5 -> 424 | I97: =((C97+D97)*E97+G97)/10000 -> 0.307
A98: 95 | B98: ='Tab 1.Kraavide param.'!A136 -> 232 | C98: 814 | D98: ='Tab 2.Kraavivalli param.'!C137 -> 0 | E98: 6 | F98: ='Tab 8.Likv.rajatised'!J99 -> 6 | G98: ='Tab 8.Likv.rajatised'!H99*'Tab 6.Paisu tüüpmaht'!$E$4+'Tab 8.Likv.rajatised'!I99*'Tab 6.Paisu tüüpmaht'!$E$5 -> 318 | I98: =((C98+D98)*E98+G98)/10000 -> 0.5202
A99: 96 | B99: ='Tab 1.Kraavide param.'!A138 -> 234 | C99: 149 | D99: ='Tab 2.Kraavivalli param.'!C139 -> 0 | E99: 6 | F99: ='Tab 8.Likv.rajatised'!J100 -> 2 | G99: ='Tab 8.Likv.rajatised'!H100*'Tab 6.Paisu tüüpmaht'!$E$4+'Tab 8.Likv.rajatised'!I100*'Tab 6.Paisu tüüpmaht'!$E$5 -> 106 | I99: =((C99+D99)*E99+G99)/10000 -> 0.1
A100: 97 | B100: ='Tab 1.Kraavide param.'!A139 -> 235 | C100: ='Tab 2.Kraavivalli param.'!B140 -> 0 | D100: ='Tab 2.Kraavivalli param.'!C140 -> 0 | E100: 6 | F100: ='Tab 8.Likv.rajatised'!J101 -> 1 | G100: ='Tab 8.Likv.rajatised'!H101*'Tab 6.Paisu tüüpmaht'!$E$4+'Tab 8.Likv.rajatised'!I101*'Tab 6.Paisu tüüpmaht'!$E$5 -> 53 | I100: =((C100+D100)*E100+G100)/10000 -> 0.0053
...

Sheet Tab 6.Paisu tüüpmaht
A1: Tabel 6. Paisude rajamise tüüpmahud
A2: Paisu tüüp | B2: Paisu pikkus | C2: Paisu kõrgus | D2: Vajalik materjal (kohapealne pinnas) | E2: Raie paisu asukohas | F2: Sette/pinnase eemaldamine paisu alt | G2: Paisude arv kokku
B3: m | C3: m | D3: m3 | E3: m2 | F3: m3 | G3: tk
A4: 1 | B4: 4-8 | C4: 0.3 | D4: 20 | E4: 53 | F4: 5 | G4: =COUNTIF('Tab 7.Paisude raj.'!$C$4:$C$137,'Tab 6.Paisu tüüpmaht'!A4) -> 124
A5: 2 | B5: 14 | C5: 0.5 | D5: 66 | E5: 142 | F5: 5 | G5: =COUNTIF('Tab 7.Paisude raj.'!$C$4:$C$137,'Tab 6.Paisu tüüpmaht'!A5) -> 9
A6: KOKKU | G6: =SUM(G4:G5) -> 133

Sheet Tab 7.Paisude raj.
A1: Tabel 7. Paisude rajamise koondtabel
A2: Jrk. nr. | B2: Paisu tüüp | E2: Kraavi nr
B3: nr | C3: tüüp | D3: pikkus, m
A4: 1 | B4: P107-1 | C4: 1 | D4: 6 | E4: 107
A5: 2 | B5: P107-2 | C5: 1 | D5: 6 | E5: 107
A6: 3 | B6: P107-3 | C6: 1 | D6: 6 | E6: 107
A7: 4 | B7: P107-4 | C7: 1 | D7: 6 | E7: 107
A8: 5 | B8: P107-5 | C8: 1 | D8: 6 | E8: 107
A9: 6 | B9: P107-6 | C9: 1 | D9: 6 | E9: 107
A10: 7 | B10: P107-7 | C10: 1 | D10: 6 | E10: 107
A11: 8 | B11: P107-8 | C11: 1 | D11: 6 | E11: 107
A12: 9 | B12: P107-9 | C12: 1 | D12: 6 | E12: 107
A13: 10 | B13: P104-1 | C13: 1 | D13: 8 | E13: 104
A14: 11 | B14: P104-2 | C14: 1 | D14: 8 | E14: 104
A15: 12 | B15: P104-3 | C15: 1 | D15: 8 | E15: 104
... A136: 133 | B136: P103-21 | C136: 1 | D136: 8 | E136: 103
A138: PAISE KOKKU (TK) | E138: =COUNT(A4:A137) -> 133

Sheet Tab 8.Likv.rajatised
A1: Tabel 8. Suletavate kraavide, likvideeritavate kraavivallide ja ehitatavate paisude koondmahud
A2: Jrk. nr. | B2: Kraavi | H2: Paisu | K2: Likvideeritava valli | O2: Kraavide täitmise mullatööde arvestuslik maht | P2: Paisude ehita-miseks vajalik maht | Q2: Likvideeri-tava valli arvestuslik maht | R2: Märkused
B3: tähis | C3: pikkus | D3: mitte-suletava lõigu pikkus | E3: suletava lõigu pikkus | F3: keskmine sügavus | G3: keskmine pealt laius | H3: tüüp | J3: Kokku | K3: pikkus | M3: keskmine kõrgus | N3: keskmine laius
H4: 1 | I4: 2
K5: Vasak | L5: Parem
C6: m | D6: m | E6: m | F6: m | G6: m | H6: tk | I6: tk | J6: tk | K6: m | L6: m | M6: m | N6: m | O6: m3 | P6: m3 | Q6: m3
A7: 1 | B7: ='Tab 1.Kraavide param.'!A3 -> 101 | C7: ='Tab 1.Kraavide param.'!B3 -> 391 | E7: =C7 -> 391 | F7: ='Tab 1.Kraavide param.'!C3 -> 1 | G7: ='Tab 1.Kraavide param.'!D3 -> 5.5 | J7: =SUM(H7:I7) -> 0 | K7: ='Tab 2.Kraavivalli param.'!B4 -> 62 | L7: ='Tab 2.Kraavivalli param.'!C4 -> 336 | M7: ='Tab 2.Kraavivalli param.'!D4 -> 1 | N7: ='Tab 2.Kraavivalli param.'!E4 -> 4.5 | O7: =E7*(F7*G7/2) -> 1075.25 | P7: =H7*'Tab 6.Paisu tüüpmaht'!$D$4+I7*'Tab 6.Paisu tüüpmaht'!$D$5 -> 0 | Q7: =(K7+L7)*M7*N7 -> 1791 | R7: ='Tab 1.Kraavide param.'!F3 -> 0
A8: 2 | B8: ='Tab 1.Kraavide param.'!A4 -> 102 | C8: ='Tab 1.Kraavide param.'!B4 -> 433 | E8: =C8 -> 433 | F8: ='Tab 1.Kraavide param.'!C4 -> 0.8 | G8: ='Tab 1.Kraavide param.'!D4 -> 3 | J8: =SUM(H8:I8) -> 0 | K8: ='Tab 2.Kraavivalli param.'!B5 -> 0 | L8: ='Tab 2.Kraavivalli param.'!C5 -> 436 | M8: ='Tab 2.Kraavivalli param.'!D5 -> 0.4 | N8: ='Tab 2.Kraavivalli param.'!E5 -> 5 | O8: =E8*(F8*G8/2) -> 519.6 | P8: =H8*'Tab 6.Paisu tüüpmaht'!$D$4+I8*'Tab 6.Paisu tüüpmaht'!$D$5 -> 0 | Q8: =(K8+L8)*M8*N8 -> 872 | R8: ='Tab 1.Kraavide param.'!F4 -> 0
A9: 3 | B9: ='Tab 1.Kraavide param.'!A5 -> 103 | C9: ='Tab 1.Kraavide param.'!B5 -> 1352 | D9: 388 | E9: 964 | F9: ='Tab 1.Kraavide param.'!C5 -> 1.2 | G9: ='Tab 1.Kraavide param.'!D5 -> 4 | H9: 21 | J9: =SUM(H9:I9) -> 21 | K9: ='Tab 2.Kraavivalli param.'!B6 -> 0 | L9: ='Tab 2.Kraavivalli param.'!C6 -> 0 | M9: ='Tab 2.Kraavivalli param.'!D6 -> 0 | N9: ='Tab 2.Kraavivalli param.'!E6 -> 0 | P9: =H9*'Tab 6.Paisu tüüpmaht'!$D$4+I9*'Tab 6.Paisu tüüpmaht'!$D$5 -> 420 | Q9: =(K9+L9)*M9*N9 -> 0 | R9: paisuga suletav
A10: 4 | B10: ='Tab 1.Kraavide param.'!A6 -> 104 | C10: ='Tab 1.Kraavide param.'!B6 -> 970 | D10: 411 | E10: =C10-D10 -> 559 | F10: ='Tab 1.Kraavide param.'!C6 -> 0.9 | G10: ='Tab 1.Kraavide param.'!D6 -> 3.2 | H10: 5 | J10: =SUM(H10:I10) -> 5 | L10: 120 | M10: 0.4 | N10: 4 | O10: =L10*(F10*G10/2) -> 172.8 | P10: =H10*'Tab 6.Paisu tüüpmaht'!$D$4+I10*'Tab 6.Paisu tüüpmaht'!$D$5 -> 100 | Q10: =(K10+L10)*M10*N10 -> 192 | R10: osaliselt paisuga suletav
A11: 5 | B11: ='Tab 1.Kraavide param.'!A8 -> 106 | C11: ='Tab 1.Kraavide param.'!B8 -> 268 | E11: =C11 -> 268 | F11: ='Tab 1.Kraavide param.'!C8 -> 1 | G11: ='Tab 1.Kraavide param.'!D8 -> 3.5 | J11: =SUM(H11:I11) -> 0 | K11: ='Tab 2.Kraavivalli param.'!B9 -> 0 | L11: ='Tab 2.Kraavivalli param.'!C9 -> 268 | M11: ='Tab 2.Kraavivalli param.'!D9 -> 0.5 | N11: ='Tab 2.Kraavivalli param.'!E9 -> 5.3 | O11: =E11*(F11*G11/2) -> 469 | P11: =H11*'Tab 6.Paisu tüüpmaht'!$D$4+I11*'Tab 6.Paisu tüüpmaht'!$D$5 -> 0 | Q11: =(K11+L11)*M11*N11 -> 710.2 | R11: ='Tab 1.Kraavide param.'!F8 -> 0
A12: 6 | B12: ='Tab 1.Kraavide param.'!A9 -> 107 | C12: ='Tab 1.Kraavide param.'!B9 -> 418 | E12: =C12 -> 418 | F12: ='Tab 1.Kraavide param.'!C9 -> 1 | G12: ='Tab 1.Kraavide param.'!D9 -> 3 | H12: 9 | J12: =SUM(H12:I12) -> 9 | K12: ='Tab 2.Kraavivalli param.'!B10 -> 0 | L12: ='Tab 2.Kraavivalli param.'!C10 -> 0 | M12: ='Tab 2.Kraavivalli param.'!D10 -> 0 | N12: ='Tab 2.Kraavivalli param.'!E10 -> 0 | P12: =H12*'Tab 6.Paisu tüüpmaht'!$D$4+I12*'Tab 6.Paisu tüüpmaht'!$D$5 -> 180 | Q12: =(K12+L12)*M12*N12 -> 0 | R12: paisuga suletav
A13: 7 | B13: ='Tab 1.Kraavide param.'!A13 -> 111 | C13: ='Tab 1.Kraavide param.'!B13 -> 74 | E13: =C13 -> 74 | F13: ='Tab 1.Kraavide param.'!C13 -> 0.6 | G13: ='Tab 1.Kraavide param.'!D13 -> 3 | J13: =SUM(H13:I13) -> 0 | K13: ='Tab 2.Kraavivalli param.'!B14 -> 0 | L13: ='Tab 2.Kraavivalli param.'!C14 -> 66 | M13: ='Tab 2.Kraavivalli param.'!D14 -> 0.3 | N13: ='Tab 2.Kraavivalli param.'!E14 -> 4.5 | O13: =E13*(F13*G13/2) -> 66.6 | P13: =H13*'Tab 6.Paisu tüüpmaht'!$D$4+I13*'Tab 6.Paisu tüüpmaht'!$D$5 -> 0 | Q13: =(K13+L13)*M13*N13 -> 89.1 | R13: ='Tab 1.Kraavide param.'!F13 -> 0
A14: 8 | B14: ='Tab 1.Kraavide param.'!A14 -> 112 | C14: ='Tab 1.Kraavide param.'!B14 -> 251 | E14: =C14 -> 251 | F14: ='Tab 1.Kraavide param.'!C14 -> 0.8 | G14: ='Tab 1.Kraavide param.'!D14 -> 2.5 | J14: =SUM(H14:I14) -> 0 | K14: ='Tab 2.Kraavivalli param.'!B15 -> 255 | M14: ='Tab 2.Kraavivalli param.'!D15 -> 0.3 | N14: ='Tab 2.Kraavivalli param.'!E15 -> 5.8 | O14: =E14*(F14*G14/2) -> 251 | P14: =H14*'Tab 6.Paisu tüüpmaht'!$D$4+I14*'Tab 6.Paisu tüüpmaht'!$D$5 -> 0 | Q14: =(K14+L14)*M14*N14 -> 443.7 | R14: ='Tab 1.Kraavide param.'!F14 -> 0
A15: 9 | B15: ='Tab 1.Kraavide param.'!A15 -> 113 | C15: ='Tab 1.Kraavide param.'!B15 -> 211 | E15: =C15 -> 211 | F15: ='Tab 1.Kraavide param.'!C15 -> 0.9 | G15: ='Tab 1.Kraavide param.'!D15 -> 2.8 | J15: =SUM(H15:I15) -> 0 | K15: ='Tab 2.Kraavivalli param.'!B16 -> 194 | L15: ='Tab 2.Kraavivalli param.'!C16 -> 0 | M15: ='Tab 2.Kraavivalli param.'!D16 -> 0.3 | N15: ='Tab 2.Kraavivalli param.'!E16 -> 6 | O15: =E15*(F15*G15/2) -> 265.86 | P15: =H15*'Tab 6.Paisu tüüpmaht'!$D$4+I15*'Tab 6.Paisu tüüpmaht'!$D$5 -> 0 | Q15: =(K15+L15)*M15*N15 -> 349.2 | R15: ='Tab 1.Kraavide param.'!F15 -> 0
A16: 10 | B16: ='Tab 1.Kraavide param.'!A16 -> 114 | C16: ='Tab 1.Kraavide param.'!B16 -> 857 | E16: =C16 -> 857 | F16: ='Tab 1.Kraavide param.'!C16 -> 1.1 | G16: ='Tab 1.Kraavide param.'!D16 -> 3.5 | J16: =SUM(H16:I16) -> 0 | K16: ='Tab 2.Kraavivalli param.'!B17 -> 0 | L16: ='Tab 2.Kraavivalli param.'!C17 -> 858 | M16: ='Tab 2.Kraavivalli param.'!D17 -> 0.6 | N16: ='Tab 2.Kraavivalli param.'!E17 -> 5.5 | O16: =E16*(F16*G16/2) -> 1649.725 | P16: =H16*'Tab 6.Paisu tüüpmaht'!$D$4+I16*'Tab 6.Paisu tüüpmaht'!$D$5 -> 0 | Q16: =(K16+L16)*M16*N16 -> 2831.4 | R16: ='Tab 1.Kraavide param.'!F16 -> 0
A17: 11 | B17: ='Tab 1.Kraavide param.'!A17 -> 115 | C17: ='Tab 1.Kraavide param.'!B17 -> 646 | E17: =C17 -> 646 | F17: ='Tab 1.Kraavide param.'!C17 -> 0.9 | G17: ='Tab 1.Kraavide param.'!D17 -> 2.8 | J17: =SUM(H17:I17) -> 0 | K17: ='Tab 2.Kraavivalli param.'!B18 -> 0 | L17: ='Tab 2.Kraavivalli param.'!C18 -> 647 | M17: ='Tab 2.Kraavivalli param.'!D18 -> 0.3 | N17: ='Tab 2.Kraavivalli param.'!E18 -> 6 | O17: =E17*(F17*G17/2) -> 813.96 | P17: =H17*'Tab 6.Paisu tüüpmaht'!$D$4+I17*'Tab 6.Paisu tüüpmaht'!$D$5 -> 0 | Q17: =(K17+L17)*M17*N17 -> 1164.6 | R17: ='Tab 1.Kraavide param.'!F17 -> 0
A18: 12 | B18: ='Tab 1.Kraavide param.'!A18 -> 116 | C18: ='Tab 1.Kraavide param.'!B18 -> 64 | E18: =C18 -> 64 | F18: ='Tab 1.Kraavide param.'!C18 -> 1.1 | G18: ='Tab 1.Kraavide param.'!D18 -> 3 | J18: =SUM(H18:I18) -> 0 | K18: ='Tab 2.Kraavivalli param.'!B19 -> 0 | L18: ='Tab 2.Kraavivalli param.'!C19 -> 0 | M18: ='Tab 2.Kraavivalli param.'!D19 -> 0 | N18: ='Tab 2.Kraavivalli param.'!E19 -> 0 | O18: =E18*(F18*G18/2) -> 105.6 | P18: =H18*'Tab 6.Paisu tüüpmaht'!$D$4+I18*'Tab 6.Paisu tüüpmaht'!$D$5 -> 0 | Q18: =(K18+L18)*M18*N18 -> 0 | R18: ühine vall kraaviga 117
A19: 13 | B19: ='Tab 1.Kraavide param.'!A19 -> 117 | C19: ='Tab 1.Kraavide param.'!B19 -> 634 | E19: =C19 -> 634 | F19: ='Tab 1.Kraavide param.'!C19 -> 1.5 | G19: ='Tab 1.Kraavide param.'!D19 -> 4 | J19: =SUM(H19:I19) -> 0 | K19: ='Tab 2.Kraavivalli param.'!B20 -> 0 | L19: ='Tab 2.Kraavivalli param.'!C20 -> 629 | M19: ='Tab 2.Kraavivalli param.'!D20 -> 0.6 | N19: ='Tab 2.Kraavivalli param.'!E20 -> 6.5 | O19: =E19*(F19*G19/2) -> 1902 | P19: =H19*'Tab 6.Paisu tüüpmaht'!$D$4+I19*'Tab 6.Paisu tüüpmaht'!$D$5 -> 0 | Q19: =(K19+L19)*M19*N19 -> 2453.1 | R19: ='Tab 1.Kraavide param.'!F19 -> 0
A20: 14 | B20: ='Tab 1.Kraavide param.'!A20 -> 118 | C20: ='Tab 1.Kraavide param.'!B20 -> 264 | E20: =C20 -> 264 | F20: ='Tab 1.Kraavide param.'!C20 -> 1 | G20: ='Tab 1.Kraavide param.'!D20 -> 3 | J20: =SUM(H20:I20) -> 0 | K20: ='Tab 2.Kraavivalli param.'!B21 -> 270 | L20: ='Tab 2.Kraavivalli param.'!C21 -> 0 | M20: ='Tab 2.Kraavivalli param.'!D21 -> 0.4 | N20: ='Tab 2.Kraavivalli param.'!E21 -> 7 | O20: =E20*(F20*G20/2) -> 396 | P20: =H20*'Tab 6.Paisu tüüpmaht'!$D$4+I20*'Tab 6.Paisu tüüpmaht'!$D$5 -> 0 | Q20: =(K20+L20)*M20*N20 -> 756 | R20: ='Tab 1.Kraavide param.'!F20 -> 0
A21: 15 | B21: ='Tab 1.Kraavide param.'!A22 -> 120 | C21: ='Tab 1.Kraavide param.'!B22 -> 538 | D21: =C21-E21 -> 145 | E21: 393 | F21: ='Tab 1.Kraavide param.'!C22 -> 1.3 | G21: ='Tab 1.Kraavide param.'!D22 -> 4.1 | J21: =SUM(H21:I21) -> 0 | K21: 393 | L21: ='Tab 2.Kraavivalli param.'!C23 -> 0 | M21: ='Tab 2.Kraavivalli param.'!D23 -> 0.6 | N21: ='Tab 2.Kraavivalli param.'!E23 -> 5.2 | O21: =E21*(F21*G21/2) -> 1047.345 | P21: =H21*'Tab 6.Paisu tüüpmaht'!$D$4+I21*'Tab 6.Paisu tüüpmaht'!$D$5 -> 0 | Q21: =(K21+L21)*M21*N21 -> 1226.16 | R21: ='Tab 1.Kraavide param.'!F22 -> 0
A22: 16 | B22: ='Tab 1.Kraavide param.'!A23 -> 121 | C22: ='Tab 1.Kraavide param.'!B23 -> 262 | E22: =C22 -> 262 | F22: ='Tab 1.Kraavide param.'!C23 -> 1 | G22: ='Tab 1.Kraavide param.'!D23 -> 3.5 | J22: =SUM(H22:I22) -> 0 | K22: ='Tab 2.Kraavivalli param.'!B24 -> 260 | L22: ='Tab 2.Kraavivalli param.'!C24 -> 0 | M22: ='Tab 2.Kraavivalli param.'!D24 -> 0.3 | N22: ='Tab 2.Kraavivalli param.'!E24 -> 6 | O22: =E22*(F22*G22/2) -> 458.5 | P22: =H22*'Tab 6.Paisu tüüpmaht'!$D$4+I22*'Tab 6.Paisu tüüpmaht'!$D$5 -> 0 | Q22: =(K22+L22)*M22*N22 -> 468 | R22: ='Tab 1.Kraavide param.'!F23 -> 0
A23: 17 | B23: ='Tab 1.Kraavide param.'!A24 -> 122 | C23: ='Tab 1.Kraavide param.'!B24 -> 411 | E23: =C23 -> 411 | F23: ='Tab 1.Kraavide param.'!C24 -> 1 | G23: ='Tab 1.Kraavide param.'!D24 -> 3.5 | J23: =SUM(H23:I23) -> 0 | K23: ='Tab 2.Kraavivalli param.'!B25 -> 418 | L23: ='Tab 2.Kraavivalli param.'!C25 -> 0 | M23: ='Tab 2.Kraavivalli param.'!D25 -> 0.5 | N23: ='Tab 2.Kraavivalli param.'!E25 -> 5 | O23: =E23*(F23*G23/2) -> 719.25 | P23: =H23*'Tab 6.Paisu tüüpmaht'!$D$4+I23*'Tab 6.Paisu tüüpmaht'!$D$5 -> 0 | Q23: =(K23+L23)*M23*N23 -> 1045 | R23: ='Tab 1.Kraavide param.'!F24 -> 0
A24: 18 | B24: ='Tab 1.Kraavide param.'!A25 -> 123 | C24: ='Tab 1.Kraavide param.'!B25 -> 335 | E24: =C24 -> 335 | F24: ='Tab 1.Kraavide param.'!C25 -> 1.1 | G24: ='Tab 1.Kraavide param.'!D25 -> 3.5 | J24: =SUM(H24:I24) -> 0 | K24: ='Tab 2.Kraavivalli param.'!B26 -> 0 | L24: ='Tab 2.Kraavivalli param.'!C26 -> 332 | M24: ='Tab 2.Kraavivalli param.'!D26 -> 0.5 | N24: ='Tab 2.Kraavivalli param.'!E26 -> 5.2 | O24: =E24*(F24*G24/2) -> 644.875 | P24: =H24*'Tab 6.Paisu tüüpmaht'!$D$4+I24*'Tab 6.Paisu tüüpmaht'!$D$5 -> 0 | Q24: =(K24+L24)*M24*N24 -> 863.2 | R24: ='Tab 1.Kraavide param.'!F25 -> 0
A25: 19 | B25: ='Tab 1.Kraavide param.'!A27 -> 125 | C25: ='Tab 1.Kraavide param.'!B27 -> 210 | E25: =C25 -> 210 | F25: ='Tab 1.Kraavide param.'!C27 -> 1 | G25: ='Tab 1.Kraavide param.'!D27 -> 3.5 | J25: =SUM(H25:I25) -> 0 | K25: ='Tab 2.Kraavivalli param.'!B28 -> 206 | L25: ='Tab 2.Kraavivalli param.'!C28 -> 0 | M25: ='Tab 2.Kraavivalli param.'!D28 -> 0.6 | N25: ='Tab 2.Kraavivalli param.'!E28 -> 5.3 | O25: =E25*(F25*G25/2) -> 367.5 | P25: =H25*'Tab 6.Paisu tüüpmaht'!$D$4+I25*'Tab 6.Paisu tüüpmaht'!$D$5 -> 0 | Q25: =(K25+L25)*M25*N25 -> 655.08 | R25: ='Tab 1.Kraavide param.'!F27 -> 0
A26: 20 | B26: ='Tab 1.Kraavide param.'!A29 -> 127 | C26: ='Tab 1.Kraavide param.'!B29 -> 182 | E26: =C26 -> 182 | F26: ='Tab 1.Kraavide param.'!C29 -> 1.3 | G26: ='Tab 1.Kraavide param.'!D29 -> 4.5 | J26: =SUM(H26:I26) -> 0 | K26: ='Tab 2.Kraavivalli param.'!B30 -> 0 | L26: ='Tab 2.Kraavivalli param.'!C30 -> 183 | M26: ='Tab 2.Kraavivalli param.'!D30 -> 0.6 | N26: ='Tab 2.Kraavivalli param.'!E30 -> 5 | O26: =E26*(F26*G26/2) -> 532.35 | P26: =H26*'Tab 6.Paisu tüüpmaht'!$D$4+I26*'Tab 6.Paisu tüüpmaht'!$D$5 -> 0 | Q26: =(K26+L26)*M26*N26 -> 549 | R26: ='Tab 1.Kraavide param.'!F29 -> 0
A27: 21 | B27: ='Tab 1.Kraavide param.'!A30 -> 128 | C27: ='Tab 1.Kraavide param.'!B30 -> 129 | E27: =C27 -> 129 | F27: ='Tab 1.Kraavide param.'!C30 -> 1.3 | G27: ='Tab 1.Kraavide param.'!D30 -> 4.5 | J27: =SUM(H27:I27) -> 0 | K27: ='Tab 2.Kraavivalli param.'!B31 -> 131 | L27: ='Tab 2.Kraavivalli param.'!C31 -> 0 | M27: ='Tab 2.Kraavivalli param.'!D31 -> 0.6 | N27: ='Tab 2.Kraavivalli param.'!E31 -> 5 | O27: =E27*(F27*G27/2) -> 377.325 | P27: =H27*'Tab 6.Paisu tüüpmaht'!$D$4+I27*'Tab 6.Paisu tüüpmaht'!$D$5 -> 0 | Q27: =(K27+L27)*M27*N27 -> 393 | R27: ='Tab 1.Kraavide param.'!F30 -> 0
A28: 22 | B28: ='Tab 1.Kraavide param.'!A31 -> 129 | C28: ='Tab 1.Kraavide param.'!B31 -> 327 | E28: =C28 -> 327 | F28: ='Tab 1.Kraavide param.'!C31 -> 1.3 | G28: ='Tab 1.Kraavide param.'!D31 -> 4.3 | J28: =SUM(H28:I28) -> 0 | K28: ='Tab 2.Kraavivalli param.'!B32 -> 0 | L28: ='Tab 2.Kraavivalli param.'!C32 -> 320 | M28: ='Tab 2.Kraavivalli param.'!D32 -> 0.5 | N28: ='Tab 2.Kraavivalli param.'!E32 -> 5 | O28: =Q28 -> 800 | P28: =H28*'Tab 6.Paisu tüüpmaht'!$D$4+I28*'Tab 6.Paisu tüüpmaht'!$D$5 -> 0 | Q28: =(K28+L28)*M28*N28 -> 800 | R28: osaline kinniajamine
A29: 23 | B29: ='Tab 1.Kraavide param.'!A32 -> 130 | C29: ='Tab 1.Kraavide param.'!B32 -> 511 | E29: =C29 -> 511 | F29: ='Tab 1.Kraavide param.'!C32 -> 1.1 | G29: ='Tab 1.Kraavide param.'!D32 -> 3.8 | J29: =SUM(H29:I29) -> 0 | K29: ='Tab 2.Kraavivalli param.'!B33 -> 0 | L29: ='Tab 2.Kraavivalli param.'!C33 -> 509 | M29: ='Tab 2.Kraavivalli param.'!D33 -> 0.5 | N29: ='Tab 2.Kraavivalli param.'!E33 -> 5.8 | O29: =E29*(F29*G29/2) -> 1067.99 | P29: =H29*'Tab 6.Paisu tüüpmaht'!$D$4+I29*'Tab 6.Paisu tüüpmaht'!$D$5 -> 0 | Q29: =(K29+L29)*M29*N29 -> 1476.1 | R29: ='Tab 1.Kraavide param.'!F32 -> 0
A30: 24 | B30: ='Tab 1.Kraavide param.'!A33 -> 131 | C30: ='Tab 1.Kraavide param.'!B33 -> 464 | D30: =C30-E30 -> 127 | E30: 337 | F30: ='Tab 1.Kraavide param.'!C33 -> 1.2 | G30: ='Tab 1.Kraavide param.'!D33 -> 4 | J30: =SUM(H30:I30) -> 0 | K30: 334 | L30: ='Tab 2.Kraavivalli param.'!C34 -> 0 | M30: ='Tab 2.Kraavivalli param.'!D34 -> 0.7 | N30: ='Tab 2.Kraavivalli param.'!E34 -> 5.5 | O30: =E30*(F30*G30/2) -> 808.8 | P30: =H30*'Tab 6.Paisu tüüpmaht'!$D$4+I30*'Tab 6.Paisu tüüpmaht'!$D$5 -> 0 | Q30: =(K30+L30)*M30*N30 -> 1285.9
A31: 25 | B31: ='Tab 1.Kraavide param.'!A34 -> 132 | C31: ='Tab 1.Kraavide param.'!B34 -> 186 | E31: =C31 -> 186 | F31: ='Tab 1.Kraavide param.'!C34 -> 0.7 | G31: ='Tab 1.Kraavide param.'!D34 -> 1.9 | J31: =SUM(H31:I31) -> 0 | K31: ='Tab 2.Kraavivalli param.'!B35 -> 103 | L31: ='Tab 2.Kraavivalli param.'!C35 -> 190 | M31: ='Tab 2.Kraavivalli param.'!D35 -> 0.3 | N31: ='Tab 2.Kraavivalli param.'!E35 -> 1.8 | O31: =E31*(F31*G31/2) -> 123.69 | P31: =H31*'Tab 6.Paisu tüüpmaht'!$D$4+I31*'Tab 6.Paisu tüüpmaht'!$D$5 -> 0 | Q31: =(K31+L31)*M31*N31 -> 158.22 | R31: ='Tab 1.Kraavide param.'!F34 -> 0
A32: 26 | B32: ='Tab 1.Kraavide param.'!A36 -> 134 | C32: ='Tab 1.Kraavide param.'!B36 -> 509 | E32: =C32 -> 509 | F32: ='Tab 1.Kraavide param.'!C36 -> 1.1 | G32: ='Tab 1.Kraavide param.'!D36 -> 4 | J32: =SUM(H32:I32) -> 0 | K32: ='Tab 2.Kraavivalli param.'!B37 -> 520 | L32: ='Tab 2.Kraavivalli param.'!C37 -> 0 | M32: ='Tab 2.Kraavivalli param.'!D37 -> 0.8 | N32: ='Tab 2.Kraavivalli param.'!E37 -> 5 | O32: =E32*(F32*G32/2) -> 1119.8 | P32: =H32*'Tab 6.Paisu tüüpmaht'!$D$4+I32*'Tab 6.Paisu tüüpmaht'!$D$5 -> 0 | Q32: =(K32+L32)*M32*N32 -> 2080 | R32: ='Tab 1.Kraavide param.'!F36 -> 0
A33: 27 | B33: ='Tab 1.Kraavide param.'!A37 -> 135 | C33: ='Tab 1.Kraavide param.'!B37 -> 440 | E33: =C33 -> 440 | F33: ='Tab 1.Kraavide param.'!C37 -> 1.5 | G33: ='Tab 1.Kraavide param.'!D37 -> 5.5 | J33: =SUM(H33:I33) -> 0 | K33: ='Tab 2.Kraavivalli param.'!B38 -> 0 | L33: ='Tab 2.Kraavivalli param.'!C38 -> 434 | M33: ='Tab 2.Kraavivalli param.'!D38 -> 0.9 | N33: ='Tab 2.Kraavivalli param.'!E38 -> 5 | O33: =E33*(F33*G33/2) -> 1815 | P33: =H33*'Tab 6.Paisu tüüpmaht'!$D$4+I33*'Tab 6.Paisu tüüpmaht'!$D$5 -> 0 | Q33: =(K33+L33)*M33*N33 -> 1953 | R33: ='Tab 1.Kraavide param.'!F37 -> 0
A34: 28 | B34: ='Tab 1.Kraavide param.'!A38 -> 136 | C34: ='Tab 1.Kraavide param.'!B38 -> 241 | E34: =C34 -> 241 | F34: ='Tab 1.Kraavide param.'!C38 -> 0.6 | G34: ='Tab 1.Kraavide param.'!D38 -> 1.8 | J34: =SUM(H34:I34) -> 0 | K34: ='Tab 2.Kraavivalli param.'!B39 -> 238 | L34: ='Tab 2.Kraavivalli param.'!C39 -> 0 | M34: ='Tab 2.Kraavivalli param.'!D39 -> 0.2 | N34: ='Tab 2.Kraavivalli param.'!E39 -> 2.5 | O34: =E34*(F34*G34/2) -> 130.14 | P34: =H34*'Tab 6.Paisu tüüpmaht'!$D$4+I34*'Tab 6.Paisu tüüpmaht'!$D$5 -> 0 | Q34: =(K34+L34)*M34*N34 -> 119 | R34: ='Tab 1.Kraavide param.'!F38 -> 0
A35: 29 | B35: ='Tab 1.Kraavide param.'!A39 -> 137 | C35: ='Tab 1.Kraavide param.'!B39 -> 430 | E35: =C35 -> 430 | F35: ='Tab 1.Kraavide param.'!C39 -> 1.1 | G35: ='Tab 1.Kraavide param.'!D39 -> 3.8 | J35: =SUM(H35:I35) -> 0 | K35: ='Tab 2.Kraavivalli param.'!B40 -> 0 | L35: ='Tab 2.Kraavivalli param.'!C40 -> 415 | M35: ='Tab 2.Kraavivalli param.'!D40 -> 0.7 | N35: ='Tab 2.Kraavivalli param.'!E40 -> 5.5 | O35: =E35*(F35*G35/2) -> 898.7 | P35: =H35*'Tab 6.Paisu tüüpmaht'!$D$4+I35*'Tab 6.Paisu tüüpmaht'!$D$5 -> 0 | Q35: =(K35+L35)*M35*N35 -> 1597.75 | R35: ='Tab 1.Kraavide param.'!F39 -> 0
A36: 30 | B36: ='Tab 1.Kraavide param.'!A41 -> 139 | C36: ='Tab 1.Kraavide param.'!B41 -> 115 | E36: =C36 -> 115 | F36: ='Tab 1.Kraavide param.'!C41 -> 1.4 | G36: ='Tab 1.Kraavide param.'!D41 -> 4 | J36: =SUM(H36:I36) -> 0 | K36: ='Tab 2.Kraavivalli param.'!B42 -> 109 | L36: ='Tab 2.Kraavivalli param.'!C42 -> 0 | M36: ='Tab 2.Kraavivalli param.'!D42 -> 0.6 | N36: ='Tab 2.Kraavivalli param.'!E42 -> 5 | O36: =E36*(F36*G36/2) -> 322 | P36: =H36*'Tab 6.Paisu tüüpmaht'!$D$4+I36*'Tab 6.Paisu tüüpmaht'!$D$5 -> 0 | Q36: =(K36+L36)*M36*N36 -> 327 | R36: ='Tab 1.Kraavide param.'!F41 -> 0
A37: 31 | B37: ='Tab 1.Kraavide param.'!A42 -> 140 | C37: ='Tab 1.Kraavide param.'!B42 -> 156 | E37: =C37 -> 156 | F37: ='Tab 1.Kraavide param.'!C42 -> 1.3 | G37: ='Tab 1.Kraavide param.'!D42 -> 4.5 | J37: =SUM(H37:I37) -> 0 | K37: ='Tab 2.Kraavivalli param.'!B43 -> 0 | L37: ='Tab 2.Kraavivalli param.'!C43 -> 152 | M37: ='Tab 2.Kraavivalli param.'!D43 -> 0.6 | N37: ='Tab 2.Kraavivalli param.'!E43 -> 6 | O37: =E37*(F37*G37/2) -> 456.3 | P37: =H37*'Tab 6.Paisu tüüpmaht'!$D$4+I37*'Tab 6.Paisu tüüpmaht'!$D$5 -> 0 | Q37: =(K37+L37)*M37*N37 -> 547.2 | R37: ='Tab 1.Kraavide param.'!F42 -> 0
A38: 32 | B38: ='Tab 1.Kraavide param.'!A43 -> 141 | C38: ='Tab 1.Kraavide param.'!B43 -> 255 | E38: =C38 -> 255 | F38: ='Tab 1.Kraavide param.'!C43 -> 1.1 | G38: ='Tab 1.Kraavide param.'!D43 -> 4 | J38: =SUM(H38:I38) -> 0 | K38: ='Tab 2.Kraavivalli param.'!B44 -> 0 | L38: ='Tab 2.Kraavivalli param.'!C44 -> 225 | M38: ='Tab 2.Kraavivalli param.'!D44 -> 0.5 | N38: ='Tab 2.Kraavivalli param.'!E44 -> 5 | O38: =E38*(F38*G38/2) -> 561 | P38: =H38*'Tab 6.Paisu tüüpmaht'!$D$4+I38*'Tab 6.Paisu tüüpmaht'!$D$5 -> 0 | Q38: =(K38+L38)*M38*N38 -> 562.5 | R38: ='Tab 1.Kraavide param.'!F43 -> 0
A39: 33 | B39: ='Tab 1.Kraavide param.'!A44 -> 142 | C39: ='Tab 1.Kraavide param.'!B44 -> 453 | E39: =C39 -> 453 | F39: ='Tab 1.Kraavide param.'!C44 -> 1 | G39: ='Tab 1.Kraavide param.'!D44 -> 3.5 | J39: =SUM(H39:I39) -> 0 | K39: ='Tab 2.Kraavivalli param.'!B45 -> 0 | L39: ='Tab 2.Kraavivalli param.'!C45 -> 457 | M39: ='Tab 2.Kraavivalli param.'!D45 -> 0.5 | N39: ='Tab 2.Kraavivalli param.'!E45 -> 4.8 | O39: =E39*(F39*G39/2) -> 792.75 | P39: =H39*'Tab 6.Paisu tüüpmaht'!$D$4+I39*'Tab 6.Paisu tüüpmaht'!$D$5 -> 0 | Q39: =(K39+L39)*M39*N39 -> 1096.8 | R39: ='Tab 1.Kraavide param.'!F44 -> 0
A40: 34 | B40: ='Tab 1.Kraavide param.'!A47 -> 145 | C40: ='Tab 1.Kraavide param.'!B47 -> 258 | E40: =C40 -> 258 | F40: ='Tab 1.Kraavide param.'!C47 -> 0.8 | G40: ='Tab 1.Kraavide param.'!D47 -> 2.5 | J40: =SUM(H40:I40) -> 0 | K40: ='Tab 2.Kraavivalli param.'!B48 -> 253 | L40: ='Tab 2.Kraavivalli param.'!C48 -> 0 | M40: ='Tab 2.Kraavivalli param.'!D48 -> 0.3 | N40: ='Tab 2.Kraavivalli param.'!E48 -> 4.8 | O40: =E40*(F40*G40/2) -> 258 | P40: =H40*'Tab 6.Paisu tüüpmaht'!$D$4+I40*'Tab 6.Paisu tüüpmaht'!$D$5 -> 0 | Q40: =(K40+L40)*M40*N40 -> 364.32 | R40: ='Tab 1.Kraavide param.'!F47 -> 0
A41: 35 | B41: ='Tab 1.Kraavide param.'!A48 -> 146 | C41: ='Tab 1.Kraavide param.'!B48 -> 369 | E41: =C41 -> 369 | F41: ='Tab 1.Kraavide param.'!C48 -> 0.8 | G41: ='Tab 1.Kraavide param.'!D48 -> 2 | J41: =SUM(H41:I41) -> 0 | K41: ='Tab 2.Kraavivalli param.'!B49 -> 384 | M41: ='Tab 2.Kraavivalli param.'!D49 -> 0.2 | N41: ='Tab 2.Kraavivalli param.'!E49 -> 4.5 | O41: =E41*(F41*G41/2) -> 295.2 | P41: =H41*'Tab 6.Paisu tüüpmaht'!$D$4+I41*'Tab 6.Paisu tüüpmaht'!$D$5 -> 0 | Q41: =(K41+L41)*M41*N41 -> 345.6 | R41: ='Tab 1.Kraavide param.'!F48 -> 0
A42: 36 | B42: ='Tab 1.Kraavide param.'!A49 -> 147 | C42: ='Tab 1.Kraavide param.'!B49 -> 340 | E42: =C42 -> 340 | F42: ='Tab 1.Kraavide param.'!C49 -> 0.6 | G42: ='Tab 1.Kraavide param.'!D49 -> 2 | J42: =SUM(H42:I42) -> 0 | K42: ='Tab 2.Kraavivalli param.'!B50 -> 336 | L42: ='Tab 2.Kraavivalli param.'!C50 -> 0 | M42: ='Tab 2.Kraavivalli param.'!D50 -> 0.3 | N42: ='Tab 2.Kraavivalli param.'!E50 -> 4.8 | O42: =E42*(F42*G42/2) -> 204 | P42: =H42*'Tab 6.Paisu tüüpmaht'!$D$4+I42*'Tab 6.Paisu tüüpmaht'!$D$5 -> 0 | Q42: =(K42+L42)*M42*N42 -> 483.84 | R42: ='Tab 1.Kraavide param.'!F49 -> 0
A43: 37 | B43: ='Tab 1.Kraavide param.'!A50 -> 148 | C43: ='Tab 1.Kraavide param.'!B50 -> 391 | E43: =C43 -> 391 | F43: ='Tab 1.Kraavide param.'!C50 -> 0.8 | G43: ='Tab 1.Kraavide param.'!D50 -> 2.5 | J43: =SUM(H43:I43) -> 0 | K43: ='Tab 2.Kraavivalli param.'!B51 -> 386 | L43: ='Tab 2.Kraavivalli param.'!C51 -> 0 | M43: ='Tab 2.Kraavivalli param.'!D51 -> 0.4 | N43: ='Tab 2.Kraavivalli param.'!E51 -> 5.8 | O43: =E43*(F43*G43/2) -> 391 | P43: =H43*'Tab 6.Paisu tüüpmaht'!$D$4+I43*'Tab 6.Paisu tüüpmaht'!$D$5 -> 0 | Q43: =(K43+L43)*M43*N43 -> 895.52 | R43: ='Tab 1.Kraavide param.'!F50 -> 0
A44: 38 | B44: ='Tab 1.Kraavide param.'!A51 -> 149 | C44: ='Tab 1.Kraavide param.'!B51 -> 297 | E44: =C44 -> 297 | F44: ='Tab 1.Kraavide param.'!C51 -> 0.9 | G44: ='Tab 1.Kraavide param.'!D51 -> 3 | J44: =SUM(H44:I44) -> 0 | K44: ='Tab 2.Kraavivalli param.'!B52 -> 292 | L44: ='Tab 2.Kraavivalli param.'!C52 -> 0 | M44: ='Tab 2.Kraavivalli param.'!D52 -> 0.3 | N44: ='Tab 2.Kraavivalli param.'!E52 -> 5.3 | O44: =E44*(F44*G44/2) -> 400.95 | P44: =H44*'Tab 6.Paisu tüüpmaht'!$D$4+I44*'Tab 6.Paisu tüüpmaht'!$D$5 -> 0 | Q44: =(K44+L44)*M44*N44 -> 464.28 | R44: ='Tab 1.Kraavide param.'!F51 -> 0
A45: 39 | B45: ='Tab 1.Kraavide param.'!A54 -> 152 | C45: ='Tab 1.Kraavide param.'!B54 -> 366 | E45: =C45 -> 366 | F45: ='Tab 1.Kraavide param.'!C54 -> 1.2 | G45: ='Tab 1.Kraavide param.'!D54 -> 3 | J45: =SUM(H45:I45) -> 0 | K45: ='Tab 2.Kraavivalli param.'!B55 -> 0 | L45: ='Tab 2.Kraavivalli param.'!C55 -> 359 | M45: ='Tab 2.Kraavivalli param.'!D55 -> 0.3 | N45: ='Tab 2.Kraavivalli param.'!E55 -> 5.5 | O45: =Q45 -> 592.35 | P45: =H45*'Tab 6.Paisu tüüpmaht'!$D$4+I45*'Tab 6.Paisu tüüpmaht'!$D$5 -> 0 | Q45: =(K45+L45)*M45*N45 -> 592.35 | R45: osaline kinniajamine
A46: 40 | B46: ='Tab 1.Kraavide param.'!A57 -> 155 | C46: ='Tab 1.Kraavide param.'!B57 -> 538 | D46: =C46-E46 -> 236 | E46: 302 | F46: ='Tab 1.Kraavide param.'!C57 -> 0.8 | G46: ='Tab 1.Kraavide param.'!D57 -> 3 | J46: =SUM(H46:I46) -> 0 | K46: ='Tab 2.Kraavivalli param.'!B58 -> 0 | L46: 298 | M46: ='Tab 2.Kraavivalli param.'!D58 -> 0.3 | N46: ='Tab 2.Kraavivalli param.'!E58 -> 6 | O46: =E46*(F46*G46/2) -> 362.4 | P46: =H46*'Tab 6.Paisu tüüpmaht'!$D$4+I46*'Tab 6.Paisu tüüpmaht'!$D$5 -> 0 | Q46: =(K46+L46)*M46*N46 -> 536.4 | R46: ='Tab 1.Kraavide param.'!F57 -> 0
A47: 41 | B47: ='Tab 1.Kraavide param.'!A58 -> 156 | C47: ='Tab 1.Kraavide param.'!B58 -> 379 | E47: =C47 -> 379 | F47: ='Tab 1.Kraavide param.'!C58 -> 1 | G47: ='Tab 1.Kraavide param.'!D58 -> 3 | J47: =SUM(H47:I47) -> 0 | K47: ='Tab 2.Kraavivalli param.'!B59 -> 373 | L47: ='Tab 2.Kraavivalli param.'!C59 -> 0 | M47: ='Tab 2.Kraavivalli param.'!D59 -> 0.5 | N47: ='Tab 2.Kraavivalli param.'!E59 -> 5.8 | O47: =E47*(F47*G47/2) -> 568.5 | P47: =H47*'Tab 6.Paisu tüüpmaht'!$D$4+I47*'Tab 6.Paisu tüüpmaht'!$D$5 -> 0 | Q47: =(K47+L47)*M47*N47 -> 1081.7 | R47: ='Tab 1.Kraavide param.'!F58 -> 0
A48: 42 | B48: ='Tab 1.Kraavide param.'!A60 -> 158 | C48: ='Tab 1.Kraavide param.'!B60 -> 195 | E48: =C48 -> 195 | F48: ='Tab 1.Kraavide param.'!C60 -> 1 | G48: ='Tab 1.Kraavide param.'!D60 -> 4 | J48: =SUM(H48:I48) -> 0 | K48: ='Tab 2.Kraavivalli param.'!B61 -> 187 | L48: ='Tab 2.Kraavivalli param.'!C61 -> 0 | M48: ='Tab 2.Kraavivalli param.'!D61 -> 0.8 | N48: ='Tab 2.Kraavivalli param.'!E61 -> 5 | O48: =E48*(F48*G48/2) -> 390 | P48: =H48*'Tab 6.Paisu tüüpmaht'!$D$4+I48*'Tab 6.Paisu tüüpmaht'!$D$5 -> 0 | Q48: =(K48+L48)*M48*N48 -> 748 | R48: ='Tab 1.Kraavide param.'!F60 -> 0
A49: 43 | B49: ='Tab 1.Kraavide param.'!A61 -> 159 | C49: ='Tab 1.Kraavide param.'!B61 -> 194 | E49: =C49 -> 194 | F49: ='Tab 1.Kraavide param.'!C61 -> 0.9 | G49: ='Tab 1.Kraavide param.'!D61 -> 3 | J49: =SUM(H49:I49) -> 0 | K49: ='Tab 2.Kraavivalli param.'!B62 -> 184 | L49: ='Tab 2.Kraavivalli param.'!C62 -> 0 | M49: ='Tab 2.Kraavivalli param.'!D62 -> 0.5 | N49: ='Tab 2.Kraavivalli param.'!E62 -> 4.8 | O49: =E49*(F49*G49/2) -> 261.9 | P49: =H49*'Tab 6.Paisu tüüpmaht'!$D$4+I49*'Tab 6.Paisu tüüpmaht'!$D$5 -> 0 | Q49: =(K49+L49)*M49*N49 -> 441.6 | R49: ='Tab 1.Kraavide param.'!F61 -> 0
A50: 44 | B50: ='Tab 1.Kraavide param.'!A62 -> 160 | C50: ='Tab 1.Kraavide param.'!B62 -> 577 | E50: =C50 -> 577 | F50: ='Tab 1.Kraavide param.'!C62 -> 1.1 | G50: ='Tab 1.Kraavide param.'!D62 -> 4 | J50: =SUM(H50:I50) -> 0 | K50: ='Tab 2.Kraavivalli param.'!B63 -> 566 | L50: ='Tab 2.Kraavivalli param.'!C63 -> 0 | M50: ='Tab 2.Kraavivalli param.'!D63 -> 0.6 | N50: ='Tab 2.Kraavivalli param.'!E63 -> 4.2 | O50: =E50*(F50*G50/2) -> 1269.4 | P50: =H50*'Tab 6.Paisu tüüpmaht'!$D$4+I50*'Tab 6.Paisu tüüpmaht'!$D$5 -> 0 | Q50: =(K50+L50)*M50*N50 -> 1426.32 | R50: ='Tab 1.Kraavide param.'!F62 -> 0
A51: 45 | B51: ='Tab 1.Kraavide param.'!A63 -> 161 | C51: ='Tab 1.Kraavide param.'!B63 -> 355 | E51: =C51 -> 355 | F51: ='Tab 1.Kraavide param.'!C63 -> 1 | G51: ='Tab 1.Kraavide param.'!D63 -> 3.5 | J51: =SUM(H51:I51) -> 0 | K51: ='Tab 2.Kraavivalli param.'!B64 -> 281 | L51: ='Tab 2.Kraavivalli param.'!C64 -> 69 | M51: ='Tab 2.Kraavivalli param.'!D64 -> 0.8 | N51: ='Tab 2.Kraavivalli param.'!E64 -> 5 | O51: =E51*(F51*G51/2) -> 621.25 | P51: =H51*'Tab 6.Paisu tüüpmaht'!$D$4+I51*'Tab 6.Paisu tüüpmaht'!$D$5 -> 0 | Q51: =(K51+L51)*M51*N51 -> 1400 | R51: ='Tab 1.Kraavide param.'!F63 -> 0
A52: 46 | B52: ='Tab 1.Kraavide param.'!A64 -> 162 | C52: ='Tab 1.Kraavide param.'!B64 -> 376 | E52: =C52 -> 376 | F52: ='Tab 1.Kraavide param.'!C64 -> 1.1 | G52: ='Tab 1.Kraavide param.'!D64 -> 4.5 | J52: =SUM(H52:I52) -> 0 | K52: ='Tab 2.Kraavivalli param.'!B65 -> 366 | L52: ='Tab 2.Kraavivalli param.'!C65 -> 0 | M52: ='Tab 2.Kraavivalli param.'!D65 -> 0.6 | N52: ='Tab 2.Kraavivalli param.'!E65 -> 5 | O52: =E52*(F52*G52/2) -> 930.6 | P52: =H52*'Tab 6.Paisu tüüpmaht'!$D$4+I52*'Tab 6.Paisu tüüpmaht'!$D$5 -> 0 | Q52: =(K52+L52)*M52*N52 -> 1098 | R52: ='Tab 1.Kraavide param.'!F64 -> 0
A53: 47 | B53: ='Tab 1.Kraavide param.'!A65 -> 163 | C53: ='Tab 1.Kraavide param.'!B65 -> 936 | E53: =C53 -> 936 | F53: ='Tab 1.Kraavide param.'!C65 -> 0.7 | G53: ='Tab 1.Kraavide param.'!D65 -> 2.2 | H53: 2 | J53: =SUM(H53:I53) -> 2 | K53: ='Tab 2.Kraavivalli param.'!B66 -> 0 | L53: ='Tab 2.Kraavivalli param.'!C66 -> 463 | M53: ='Tab 2.Kraavivalli param.'!D66 -> 0.3 | N53: ='Tab 2.Kraavivalli param.'!E66 -> 2 | O53: =Q53 -> 277.8 | P53: =H53*'Tab 6.Paisu tüüpmaht'!$D$4+I53*'Tab 6.Paisu tüüpmaht'!$D$5 -> 40 | Q53: =(K53+L53)*M53*N53 -> 277.8 | R53: kombineeritud meetod (kinniajamine+paisud)
A54: 48 | B54: ='Tab 1.Kraavide param.'!A66 -> 164 | C54: ='Tab 1.Kraavide param.'!B66 -> 178 | E54: =C54 -> 178 | F54: ='Tab 1.Kraavide param.'!C66 -> 1.3 | G54: ='Tab 1.Kraavide param.'!D66 -> 5 | J54: =SUM(H54:I54) -> 0 | K54: ='Tab 2.Kraavivalli param.'!B67 -> 0 | L54: ='Tab 2.Kraavivalli param.'!C67 -> 176 | M54: ='Tab 2.Kraavivalli param.'!D67 -> 0.7 | N54: ='Tab 2.Kraavivalli param.'!E67 -> 5 | O54: =E54*(F54*G54/2) -> 578.5 | P54: =H54*'Tab 6.Paisu tüüpmaht'!$D$4+I54*'Tab 6.Paisu tüüpmaht'!$D$5 -> 0 | Q54: =(K54+L54)*M54*N54 -> 616 | R54: ='Tab 1.Kraavide param.'!F66 -> 0
A55: 49 | B55: ='Tab 1.Kraavide param.'!A67 -> 165 | C55: ='Tab 1.Kraavide param.'!B67 -> 531 | D55: 297 | E55: 234 | F55: ='Tab 1.Kraavide param.'!C67 -> 0.4 | G55: ='Tab 1.Kraavide param.'!D67 -> 1.7 | H55: 1 | J55: =SUM(H55:I55) -> 1 | K55: ='Tab 2.Kraavivalli param.'!B68 -> 0 | L55: ='Tab 2.Kraavivalli param.'!C68 -> 0 | M55: ='Tab 2.Kraavivalli param.'!D68 -> 0 | N55: ='Tab 2.Kraavivalli param.'!E68 -> 0 | P55: =H55*'Tab 6.Paisu tüüpmaht'!$D$4+I55*'Tab 6.Paisu tüüpmaht'!$D$5 -> 20 | Q55: =(K55+L55)*M55*N55 -> 0 | R55: paisuga suletav
A56: 50 | B56: ='Tab 1.Kraavide param.'!A69 -> 167 | C56: ='Tab 1.Kraavide param.'!B69 -> 644 | E56: =C56 -> 644 | F56: ='Tab 1.Kraavide param.'!C69 -> 0.7 | G56: ='Tab 1.Kraavide param.'!D69 -> 2.5 | J56: =SUM(H56:I56) -> 0 | K56: ='Tab 2.Kraavivalli param.'!B70 -> 641 | L56: ='Tab 2.Kraavivalli param.'!C70 -> 638 | M56: ='Tab 2.Kraavivalli param.'!D70 -> 0.3 | N56: ='Tab 2.Kraavivalli param.'!E70 -> 1.5 | O56: =E56*(F56*G56/2) -> 563.5 | P56: =H56*'Tab 6.Paisu tüüpmaht'!$D$4+I56*'Tab 6.Paisu tüüpmaht'!$D$5 -> 0 | Q56: =(K56+L56)*M56*N56 -> 575.55 | R56: ='Tab 1.Kraavide param.'!F69 -> 0
A57: 51 | B57: ='Tab 1.Kraavide param.'!A70 -> 168 (Lindi oja) | C57: ='Tab 1.Kraavide param.'!B70 -> 1438 | E57: =C57 -> 1438 | F57: ='Tab 1.Kraavide param.'!C70 -> 1.5 | G57: ='Tab 1.Kraavide param.'!D70 -> 5 | J57: =SUM(H57:I57) -> 0 | K57: ='Tab 2.Kraavivalli param.'!B71 -> 1431 | L57: ='Tab 2.Kraavivalli param.'!C71 -> 933 | M57: ='Tab 2.Kraavivalli param.'!D71 -> 0.637 | N57: ='Tab 2.Kraavivalli param.'!E71 -> 5 | O57: =E57*(F57*G57/2) -> 5392.5 | P57: =H57*'Tab 6.Paisu tüüpmaht'!$D$4+I57*'Tab 6.Paisu tüüpmaht'!$D$5 -> 0 | Q57: =K57*M57*N57+0.3*L57*3 -> 5397.435 | R57: ='Tab 1.Kraavide param.'!F70 -> 0
A58: 52 | B58: ='Tab 1.Kraavide param.'!A71 -> 169 | C58: ='Tab 1.Kraavide param.'!B71 -> 205 | E58: =C58 -> 205 | F58: ='Tab 1.Kraavide param.'!C71 -> 0.7 | G58: ='Tab 1.Kraavide param.'!D71 -> 2 | J58: =SUM(H58:I58) -> 0 | K58: ='Tab 2.Kraavivalli param.'!B72 -> 210 | L58: ='Tab 2.Kraavivalli param.'!C72 -> 0 | M58: ='Tab 2.Kraavivalli param.'!D72 -> 0.3 | N58: ='Tab 2.Kraavivalli param.'!E72 -> 1.5 | O58: =Q58 -> 94.5 | P58: =H58*'Tab 6.Paisu tüüpmaht'!$D$4+I58*'Tab 6.Paisu tüüpmaht'!$D$5 -> 0 | Q58: =(K58+L58)*M58*N58 -> 94.5 | R58: osaline kinniajamine
A59: 53 | B59: ='Tab 1.Kraavide param.'!A72 -> 170 | C59: ='Tab 1.Kraavide param.'!B72 -> 286 | E59: =C59 -> 286 | F59: ='Tab 1.Kraavide param.'!C72 -> 1.1 | G59: ='Tab 1.Kraavide param.'!D72 -> 4 | J59: =SUM(H59:I59) -> 0 | K59: ='Tab 2.Kraavivalli param.'!B73 -> 0 | L59: ='Tab 2.Kraavivalli param.'!C73 -> 278 | M59: ='Tab 2.Kraavivalli param.'!D73 -> 0.8 | N59: ='Tab 2.Kraavivalli param.'!E73 -> 4.5 | O59: =E59*(F59*G59/2) -> 629.2 | P59: =H59*'Tab 6.Paisu tüüpmaht'!$D$4+I59*'Tab 6.Paisu tüüpmaht'!$D$5 -> 0 | Q59: =(K59+L59)*M59*N59 -> 1000.8 | R59: ='Tab 1.Kraavide param.'!F72 -> 0
A60: 54 | B60: ='Tab 1.Kraavide param.'!A73 -> 171 | C60: ='Tab 1.Kraavide param.'!B73 -> 122 | E60: =C60 -> 122 | F60: ='Tab 1.Kraavide param.'!C73 -> 1.5 | G60: ='Tab 1.Kraavide param.'!D73 -> 4.5 | J60: =SUM(H60:I60) -> 0 | K60: ='Tab 2.Kraavivalli param.'!B74 -> 118 | L60: ='Tab 2.Kraavivalli param.'!C74 -> 0 | M60: ='Tab 2.Kraavivalli param.'!D74 -> 0.8 | N60: ='Tab 2.Kraavivalli param.'!E74 -> 4.5 | O60: =E60*(F60*G60/2) -> 411.75 | P60: =H60*'Tab 6.Paisu tüüpmaht'!$D$4+I60*'Tab 6.Paisu tüüpmaht'!$D$5 -> 0 | Q60: =(K60+L60)*M60*N60 -> 424.8 | R60: ='Tab 1.Kraavide param.'!F73 -> 0
A61: 55 | B61: ='Tab 1.Kraavide param.'!A74 -> 172 | C61: ='Tab 1.Kraavide param.'!B74 -> 586 | D61: 58 | E61: 528 | F61: ='Tab 1.Kraavide param.'!C74 -> 1 | G61: ='Tab 1.Kraavide param.'!D74 -> 4.2 | J61: =SUM(H61:I61) -> 0 | K61: 531 | L61: ='Tab 2.Kraavivalli param.'!C75 -> 0 | M61: ='Tab 2.Kraavivalli param.'!D75 -> 0.8 | N61: ='Tab 2.Kraavivalli param.'!E75 -> 4.3 | O61: =E61*(F61*G61/2) -> 1108.8 | P61: =H61*'Tab 6.Paisu tüüpmaht'!$D$4+I61*'Tab 6.Paisu tüüpmaht'!$D$5 -> 0 | Q61: =(K61+L61)*M61*N61 -> 1826.64 | R61: ='Tab 1.Kraavide param.'!F74 -> 0
A62: 56 | B62: ='Tab 1.Kraavide param.'!A75 -> 173 | C62: ='Tab 1.Kraavide param.'!B75 -> 777 | E62: =C62 -> 777 | F62: ='Tab 1.Kraavide param.'!C75 -> 1.3 | G62: ='Tab 1.Kraavide param.'!D75 -> 5 | J62: =SUM(H62:I62) -> 0 | K62: ='Tab 2.Kraavivalli param.'!B76 -> 772 | L62: ='Tab 2.Kraavivalli param.'!C76 -> 0 | M62: ='Tab 2.Kraavivalli param.'!D76 -> 0.6 | N62: ='Tab 2.Kraavivalli param.'!E76 -> 5 | O62: =Q62 -> 2316 | P62: =H62*'Tab 6.Paisu tüüpmaht'!$D$4+I62*'Tab 6.Paisu tüüpmaht'!$D$5 -> 0 | Q62: =(K62+L62)*M62*N62 -> 2316 | R62: osaline kinniajamine
A63: 57 | B63: ='Tab 1.Kraavide param.'!A76 -> 174 | C63: ='Tab 1.Kraavide param.'!B76 -> 443 | D63: 292 | E63: 151 | F63: ='Tab 1.Kraavide param.'!C76 -> 1.3 | G63: ='Tab 1.Kraavide param.'!D76 -> 4 | J63: =SUM(H63:I63) -> 0 | K63: ='Tab 2.Kraavivalli param.'!B77 -> 0 | L63: 149 | M63: ='Tab 2.Kraavivalli param.'!D77 -> 0.4 | N63: ='Tab 2.Kraavivalli param.'!E77 -> 5 | O63: =Q63 -> 298 | P63: =H63*'Tab 6.Paisu tüüpmaht'!$D$4+I63*'Tab 6.Paisu tüüpmaht'!$D$5 -> 0 | Q63: =(K63+L63)*M63*N63 -> 298 | R63: osaline kinniajamine
A64: 58 | B64: ='Tab 1.Kraavide param.'!A77 -> 175 | C64: ='Tab 1.Kraavide param.'!B77 -> 404 | D64: 250 | E64: 154 | F64: ='Tab 1.Kraavide param.'!C77 -> 1.1 | G64: ='Tab 1.Kraavide param.'!D77 -> 3.5 | J64: =SUM(H64:I64) -> 0 | K64: ='Tab 2.Kraavivalli param.'!B78 -> 0 | L64: 154 | M64: ='Tab 2.Kraavivalli param.'!D78 -> 0.3 | N64: ='Tab 2.Kraavivalli param.'!E78 -> 5 | O64: =Q64 -> 231 | P64: =H64*'Tab 6.Paisu tüüpmaht'!$D$4+I64*'Tab 6.Paisu tüüpmaht'!$D$5 -> 0 | Q64: =(K64+L64)*M64*N64 -> 231 | R64: osaline kinniajamine
A65: 59 | B65: ='Tab 1.Kraavide param.'!A78 -> 176 | C65: ='Tab 1.Kraavide param.'!B78 -> 389 | D65: 115 | E65: 274 | F65: ='Tab 1.Kraavide param.'!C78 -> 1.1 | G65: ='Tab 1.Kraavide param.'!D78 -> 3.5 | J65: =SUM(H65:I65) -> 0 | K65: ='Tab 2.Kraavivalli param.'!B79 -> 0 | L65: 272 | M65: ='Tab 2.Kraavivalli param.'!D79 -> 0.3 | N65: ='Tab 2.Kraavivalli param.'!E79 -> 5 | O65: =Q65 -> 408 | P65: =H65*'Tab 6.Paisu tüüpmaht'!$D$4+I65*'Tab 6.Paisu tüüpmaht'!$D$5 -> 0 | Q65: =(K65+L65)*M65*N65 -> 408 | R65: osaline kinniajamine
A66: 60 | B66: ='Tab 1.Kraavide param.'!A79 -> 177 | C66: ='Tab 1.Kraavide param.'!B79 -> 394 | D66: 157 | E66: 237 | F66: ='Tab 1.Kraavide param.'!C79 -> 1.2 | G66: ='Tab 1.Kraavide param.'!D79 -> 4.5 | J66: =SUM(H66:I66) -> 0 | K66: ='Tab 2.Kraavivalli param.'!B80 -> 0 | L66: 238 | M66: ='Tab 2.Kraavivalli param.'!D80 -> 0.5 | N66: ='Tab 2.Kraavivalli param.'!E80 -> 5 | O66: =Q66 -> 595 | Q66: =(K66+L66)*M66*N66 -> 595 | R66: osaline kinniajamine
A67: 61 | B67: ='Tab 1.Kraavide param.'!A82 -> 180 | C67: ='Tab 1.Kraavide param.'!B82 -> 598 | E67: =C67 -> 598 | F67: ='Tab 1.Kraavide param.'!C82 -> 1.4 | G67: ='Tab 1.Kraavide param.'!D82 -> 4 | I67: 2 | J67: =SUM(H67:I67) -> 2 | K67: ='Tab 2.Kraavivalli param.'!B83 -> 0 | L67: ='Tab 2.Kraavivalli param.'!C83 -> 314 | M67: ='Tab 2.Kraavivalli param.'!D83 -> 0.3 | N67: ='Tab 2.Kraavivalli param.'!E83 -> 5.8 | O67: =Q67 -> 546.36 | P67: =H67*'Tab 6.Paisu tüüpmaht'!$D$4+I67*'Tab 6.Paisu tüüpmaht'!$D$5 -> 132 | Q67: =(K67+L67)*M67*N67 -> 546.36 | R67: osaliselt paisuga suletav
A68: 62 | B68: ='Tab 1.Kraavide param.'!A83 -> 181 | C68: ='Tab 1.Kraavide param.'!B83 -> 231 | E68: =C68 -> 231 | F68: ='Tab 1.Kraavide param.'!C83 -> 1.3 | G68: ='Tab 1.Kraavide param.'!D83 -> 3.5 | I68: 3 | J68: =SUM(H68:I68) -> 3 | K68: 163 | L68: ='Tab 2.Kraavivalli param.'!C84 -> 0 | M68: ='Tab 2.Kraavivalli param.'!D84 -> 0.2 | N68: ='Tab 2.Kraavivalli param.'!E84 -> 6 | P68: =H68*'Tab 6.Paisu tüüpmaht'!$D$4+I68*'Tab 6.Paisu tüüpmaht'!$D$5 -> 198 | Q68: =(K68+L68)*M68*N68 -> 195.6 | R68: paisuga suletav
A69: 63 | B69: ='Tab 1.Kraavide param.'!A84 -> 182 | C69: ='Tab 1.Kraavide param.'!B84 -> 608 | D69: 314 | E69: 294 | F69: ='Tab 1.Kraavide param.'!C84 -> 1.3 | G69: ='Tab 1.Kraavide param.'!D84 -> 4 | J69: =SUM(H69:I69) -> 0 | K69: ='Tab 2.Kraavivalli param.'!B85 -> 0 | L69: 293 | M69: ='Tab 2.Kraavivalli param.'!D85 -> 0.4 | N69: ='Tab 2.Kraavivalli param.'!E85 -> 5 | O69: =Q69 -> 586 | P69: =H69*'Tab 6.Paisu tüüpmaht'!$D$4+I69*'Tab 6.Paisu tüüpmaht'!$D$5 -> 0 | Q69: =(K69+L69)*M69*N69 -> 586 | R69: osaline kinniajamine
A70: 64 | B70: ='Tab 1.Kraavide param.'!A85 -> 183 | C70: ='Tab 1.Kraavide param.'!B85 -> 93 | E70: =C70 -> 93 | F70: ='Tab 1.Kraavide param.'!C85 -> 1 | G70: ='Tab 1.Kraavide param.'!D85 -> 3 | J70: =SUM(H70:I70) -> 0 | K70: ='Tab 2.Kraavivalli param.'!B86 -> 90 | L70: ='Tab 2.Kraavivalli param.'!C86 -> 0 | M70: ='Tab 2.Kraavivalli param.'!D86 -> 0.4 | N70: ='Tab 2.Kraavivalli param.'!E86 -> 5.5 | O70: =E70*(F70*G70/2) -> 139.5 | P70: =H70*'Tab 6.Paisu tüüpmaht'!$D$4+I70*'Tab 6.Paisu tüüpmaht'!$D$5 -> 0 | Q70: =(K70+L70)*M70*N70 -> 198 | R70: ='Tab 1.Kraavide param.'!F85 -> 0
A71: 65 | B71: ='Tab 1.Kraavide param.'!A86 -> 184 | C71: ='Tab 1.Kraavide param.'!B86 -> 365 | D71: 260 | E71: 105 | F71: ='Tab 1.Kraavide param.'!C86 -> 1.2 | G71: ='Tab 1.Kraavide param.'!D86 -> 4 | J71: =SUM(H71:I71) -> 0 | K71: ='Tab 2.Kraavivalli param.'!B87 -> 0 | L71: 107 | M71: ='Tab 2.Kraavivalli param.'!D87 -> 0.4 | N71: ='Tab 2.Kraavivalli param.'!E87 -> 6.8 | O71: =E71*(F71*G71/2) -> 252 | P71: =H71*'Tab 6.Paisu tüüpmaht'!$D$4+I71*'Tab 6.Paisu tüüpmaht'!$D$5 -> 0 | Q71: =(K71+L71)*M71*N71 -> 291.04 | R71: ='Tab 1.Kraavide param.'!F86 -> 0
A72: 66 | B72: ='Tab 1.Kraavide param.'!A87 -> 185 | C72: ='Tab 1.Kraavide param.'!B87 -> 612 | E72: =C72 -> 612 | F72: ='Tab 1.Kraavide param.'!C87 -> 1.5 | G72: ='Tab 1.Kraavide param.'!D87 -> 4 | I72: 4 | J72: =SUM(H72:I72) -> 4 | K72: ='Tab 2.Kraavivalli param.'!B88 -> 0 | L72: ='Tab 2.Kraavivalli param.'!C88 -> 610 | M72: ='Tab 2.Kraavivalli param.'!D88 -> 0.4 | N72: ='Tab 2.Kraavivalli param.'!E88 -> 5.3 | O72: =Q72 -> 1293.2 | P72: =H72*'Tab 6.Paisu tüüpmaht'!$D$4+I72*'Tab 6.Paisu tüüpmaht'!$D$5 -> 264 | Q72: =(K72+L72)*M72*N72 -> 1293.2 | R72: kombineeritud meetod (kinniajamine+paisud)
A73: 67 | B73: ='Tab 1.Kraavide param.'!A88 -> 186 | C73: ='Tab 1.Kraavide param.'!B88 -> 373 | E73: =C73 -> 373 | F73: ='Tab 1.Kraavide param.'!C88 -> 1.3 | G73: ='Tab 1.Kraavide param.'!D88 -> 3.5 | J73: =SUM(H73:I73) -> 0 | K73: ='Tab 2.Kraavivalli param.'!B89 -> 367 | L73: ='Tab 2.Kraavivalli param.'!C89 -> 0 | M73: ='Tab 2.Kraavivalli param.'!D89 -> 0.421 | N73: ='Tab 2.Kraavivalli param.'!E89 -> 5.5 | O73: =E73*(F73*G73/2) -> 848.575 | P73: =H73*'Tab 6.Paisu tüüpmaht'!$D$4+I73*'Tab 6.Paisu tüüpmaht'!$D$5 -> 0 | Q73: =(K73+L73)*M73*N73 -> 849.7885 | R73: ='Tab 1.Kraavide param.'!F88 -> 0
A74: 68 | B74: ='Tab 1.Kraavide param.'!A89 -> 187 | C74: ='Tab 1.Kraavide param.'!B89 -> 489 | E74: =C74 -> 489 | F74: ='Tab 1.Kraavide param.'!C89 -> 1.5 | G74: ='Tab 1.Kraavide param.'!D89 -> 3.5 | J74: =SUM(H74:I74) -> 0 | K74: ='Tab 2.Kraavivalli param.'!B90 -> 0 | L74: ='Tab 2.Kraavivalli param.'!C90 -> 478 | M74: ='Tab 2.Kraavivalli param.'!D90 -> 0.6 | N74: ='Tab 2.Kraavivalli param.'!E90 -> 5.5 | O74: =E74*(F74*G74/2) -> 1283.625 | P74: =H74*'Tab 6.Paisu tüüpmaht'!$D$4+I74*'Tab 6.Paisu tüüpmaht'!$D$5 -> 0 | Q74: =(K74+L74)*M74*N74 -> 1577.4 | R74: ='Tab 1.Kraavide param.'!F89 -> 0
A75: 69 | B75: ='Tab 1.Kraavide param.'!A90 -> 188 | C75: ='Tab 1.Kraavide param.'!B90 -> 419 | D75: 156 | E75: 263 | F75: ='Tab 1.Kraavide param.'!C90 -> 1.2 | G75: ='Tab 1.Kraavide param.'!D90 -> 3 | J75: =SUM(H75:I75) -> 0 | K75: ='Tab 2.Kraavivalli param.'!B91 -> 0 | L75: 264 | M75: ='Tab 2.Kraavivalli param.'!D91 -> 0.5 | N75: ='Tab 2.Kraavivalli param.'!E91 -> 5 | O75: =E75*(F75*G75/2) -> 473.4 | P75: =H75*'Tab 6.Paisu tüüpmaht'!$D$4+I75*'Tab 6.Paisu tüüpmaht'!$D$5 -> 0 | Q75: =(K75+L75)*M75*N75 -> 660 | R75: ='Tab 1.Kraavide param.'!F90 -> 0
A76: 70 | B76: ='Tab 1.Kraavide param.'!A91 -> 189 | C76: ='Tab 1.Kraavide param.'!B91 -> 352 | D76: 136 | E76: 216 | F76: ='Tab 1.Kraavide param.'!C91 -> 1.2 | G76: ='Tab 1.Kraavide param.'!D91 -> 4 | J76: =SUM(H76:I76) -> 0 | K76: ='Tab 2.Kraavivalli param.'!B92 -> 0 | L76: 215 | M76: ='Tab 2.Kraavivalli param.'!D92 -> 0.5 | N76: ='Tab 2.Kraavivalli param.'!E92 -> 5.5 | O76: =E76*(F76*G76/2) -> 518.4 | P76: =H76*'Tab 6.Paisu tüüpmaht'!$D$4+I76*'Tab 6.Paisu tüüpmaht'!$D$5 -> 0 | Q76: =(K76+L76)*M76*N76 -> 591.25 | R76: ='Tab 1.Kraavide param.'!F91 -> 0
A77: 71 | B77: ='Tab 1.Kraavide param.'!A95 -> 191 | C77: ='Tab 1.Kraavide param.'!B95 -> 822 | E77: =C77 -> 822 | F77: ='Tab 1.Kraavide param.'!C95 -> 1.2 | G77: ='Tab 1.Kraavide param.'!D95 -> 4.3 | J77: =SUM(H77:I77) -> 0 | K77: ='Tab 2.Kraavivalli param.'!B96 -> 0 | L77: ='Tab 2.Kraavivalli param.'!C96 -> 802 | M77: ='Tab 2.Kraavivalli param.'!D96 -> 0.6 | N77: ='Tab 2.Kraavivalli param.'!E96 -> 5.3 | O77: =E77*(F77*G77/2) -> 2120.76 | P77: =H77*'Tab 6.Paisu tüüpmaht'!$D$4+I77*'Tab 6.Paisu tüüpmaht'!$D$5 -> 0 | Q77: =(K77+L77)*M77*N77 -> 2550.36 | R77: ='Tab 1.Kraavide param.'!F95 -> 0
A78: 72 | B78: ='Tab 1.Kraavide param.'!A96 -> 192 | C78: ='Tab 1.Kraavide param.'!B96 -> 463 | E78: =C78 -> 463 | F78: ='Tab 1.Kraavide param.'!C96 -> 1.3 | G78: ='Tab 1.Kraavide param.'!D96 -> 4.5 | J78: =SUM(H78:I78) -> 0 | K78: ='Tab 2.Kraavivalli param.'!B97 -> 0 | L78: ='Tab 2.Kraavivalli param.'!C97 -> 455 | M78: ='Tab 2.Kraavivalli param.'!D97 -> 0.6 | N78: ='Tab 2.Kraavivalli param.'!E97 -> 5 | O78: =E78*(F78*G78/2) -> 1354.275 | P78: =H78*'Tab 6.Paisu tüüpmaht'!$D$4+I78*'Tab 6.Paisu tüüpmaht'!$D$5 -> 0 | Q78: =(K78+L78)*M78*N78 -> 1365 | R78: ='Tab 1.Kraavide param.'!F96 -> 0
A79: 73 | B79: ='Tab 1.Kraavide param.'!A97 -> 193 | C79: ='Tab 1.Kraavide param.'!B97 -> 433 | E79: =C79 -> 433 | F79: ='Tab 1.Kraavide param.'!C97 -> 1.4 | G79: ='Tab 1.Kraavide param.'!D97 -> 4.5 | J79: =SUM(H79:I79) -> 0 | K79: ='Tab 2.Kraavivalli param.'!B98 -> 434 | L79: ='Tab 2.Kraavivalli param.'!C98 -> 0 | M79: ='Tab 2.Kraavivalli param.'!D98 -> 0.5 | N79: ='Tab 2.Kraavivalli param.'!E98 -> 5.3 | O79: =Q79 -> 1150.1 | P79: =H79*'Tab 6.Paisu tüüpmaht'!$D$4+I79*'Tab 6.Paisu tüüpmaht'!$D$5 -> 0 | Q79: =(K79+L79)*M79*N79 -> 1150.1 | R79: osaline kinniajamine
A80: 74 | B80: ='Tab 1.Kraavide param.'!A98 -> 194 | C80: ='Tab 1.Kraavide param.'!B98 -> 433 | E80: =C80 -> 433 | F80: ='Tab 1.Kraavide param.'!C98 -> 1.3 | G80: ='Tab 1.Kraavide param.'!D98 -> 4 | J80: =SUM(H80:I80) -> 0 | K80: ='Tab 2.Kraavivalli param.'!B99 -> 433 | L80: ='Tab 2.Kraavivalli param.'!C99 -> 0 | M80: ='Tab 2.Kraavivalli param.'!D99 -> 0.5 | N80: ='Tab 2.Kraavivalli param.'!E99 -> 5.8 | O80: =E80*(F80*G80/2) -> 1125.8 | P80: =H80*'Tab 6.Paisu tüüpmaht'!$D$4+I80*'Tab 6.Paisu tüüpmaht'!$D$5 -> 0 | Q80: =(K80+L80)*M80*N80 -> 1255.7 | R80: ='Tab 1.Kraavide param.'!F98 -> 0
A81: 75 | B81: ='Tab 1.Kraavide param.'!A100 -> 196 | C81: ='Tab 1.Kraavide param.'!B100 -> 671 | E81: =C81 -> 671 | F81: ='Tab 1.Kraavide param.'!C100 -> 1.4 | G81: ='Tab 1.Kraavide param.'!D100 -> 4 | J81: =SUM(H81:I81) -> 0 | K81: ='Tab 2.Kraavivalli param.'!B101 -> 0 | L81: ='Tab 2.Kraavivalli param.'!C101 -> 663 | M81: ='Tab 2.Kraavivalli param.'!D101 -> 0.5 | N81: ='Tab 2.Kraavivalli param.'!E101 -> 6 | O81: =E81*(F81*G81/2) -> 1878.8 | P81: =H81*'Tab 6.Paisu tüüpmaht'!$D$4+I81*'Tab 6.Paisu tüüpmaht'!$D$5 -> 0 | Q81: =(K81+L81)*M81*N81 -> 1989 | R81: ='Tab 1.Kraavide param.'!F100 -> 0
A82: 76 | B82: ='Tab 1.Kraavide param.'!A101 -> 197 | C82: ='Tab 1.Kraavide param.'!B101 -> 348 | E82: =C82 -> 348 | F82: ='Tab 1.Kraavide param.'!C101 -> 0.8 | G82: ='Tab 1.Kraavide param.'!D101 -> 2.8 | J82: =SUM(H82:I82) -> 0 | K82: ='Tab 2.Kraavivalli param.'!B102 -> 0 | L82: ='Tab 2.Kraavivalli param.'!C102 -> 345 | M82: ='Tab 2.Kraavivalli param.'!D102 -> 0.4 | N82: ='Tab 2.Kraavivalli param.'!E102 -> 5 | O82: =E82*(F82*G82/2) -> 389.76 | P82: =H82*'Tab 6.Paisu tüüpmaht'!$D$4+I82*'Tab 6.Paisu tüüpmaht'!$D$5 -> 0 | Q82: =(K82+L82)*M82*N82 -> 690 | R82: ='Tab 1.Kraavide param.'!F101 -> 0
A83: 77 | B83: ='Tab 1.Kraavide param.'!A102 -> 198 | C83: ='Tab 1.Kraavide param.'!B102 -> 400 | E83: =C83 -> 400 | F83: ='Tab 1.Kraavide param.'!C102 -> 1 | G83: ='Tab 1.Kraavide param.'!D102 -> 4 | J83: =SUM(H83:I83) -> 0 | K83: ='Tab 2.Kraavivalli param.'!B103 -> 398 | L83: ='Tab 2.Kraavivalli param.'!C103 -> 0 | M83: ='Tab 2.Kraavivalli param.'!D103 -> 0.6 | N83: ='Tab 2.Kraavivalli param.'!E103 -> 4 | O83: =E83*(F83*G83/2) -> 800 | P83: =H83*'Tab 6.Paisu tüüpmaht'!$D$4+I83*'Tab 6.Paisu tüüpmaht'!$D$5 -> 0 | Q83: =(K83+L83)*M83*N83 -> 955.2 | R83: ='Tab 1.Kraavide param.'!F102 -> 0
A84: 78 | B84: ='Tab 1.Kraavide param.'!A104 -> 200 | C84: ='Tab 1.Kraavide param.'!B104 -> 454 | E84: =C84 -> 454 | F84: ='Tab 1.Kraavide param.'!C104 -> 1.2 | G84: ='Tab 1.Kraavide param.'!D104 -> 4 | J84: =SUM(H84:I84) -> 0 | K84: ='Tab 2.Kraavivalli param.'!B105 -> 449 | L84: ='Tab 2.Kraavivalli param.'!C105 -> 0 | M84: ='Tab 2.Kraavivalli param.'!D105 -> 0.5 | N84: ='Tab 2.Kraavivalli param.'!E105 -> 5.5 | O84: =E84*(F84*G84/2) -> 1089.6 | P84: =H84*'Tab 6.Paisu tüüpmaht'!$D$4+I84*'Tab 6.Paisu tüüpmaht'!$D$5 -> 0 | Q84: =(K84+L84)*M84*N84 -> 1234.75 | R84: ='Tab 1.Kraavide param.'!F104 -> 0
A85: 79 | B85: ='Tab 1.Kraavide param.'!A109 -> 205 | C85: ='Tab 1.Kraavide param.'!B109 -> 518 | E85: =C85 -> 518 | F85: ='Tab 1.Kraavide param.'!C109 -> 1.4 | G85: ='Tab 1.Kraavide param.'!D109 -> 4.2 | J85: =SUM(H85:I85) -> 0 | K85: ='Tab 2.Kraavivalli param.'!B110 -> 512 | L85: ='Tab 2.Kraavivalli param.'!C110 -> 0 | M85: ='Tab 2.Kraavivalli param.'!D110 -> 0.5 | N85: ='Tab 2.Kraavivalli param.'!E110 -> 5.3 | O85: =Q85 -> 1356.8 | P85: =H85*'Tab 6.Paisu tüüpmaht'!$D$4+I85*'Tab 6.Paisu tüüpmaht'!$D$5 -> 0 | Q85: =(K85+L85)*M85*N85 -> 1356.8 | R85: osaline kinniajamine
A86: 80 | B86: ='Tab 1.Kraavide param.'!A113 -> 209 | C86: ='Tab 1.Kraavide param.'!B113 -> 564 | E86: =C86 -> 564 | F86: ='Tab 1.Kraavide param.'!C113 -> 1.5 | G86: ='Tab 1.Kraavide param.'!D113 -> 4.2 | J86: =SUM(H86:I86) -> 0 | K86: ='Tab 2.Kraavivalli param.'!B114 -> 558 | L86: ='Tab 2.Kraavivalli param.'!C114 -> 0 | M86: ='Tab 2.Kraavivalli param.'!D114 -> 0.5 | N86: ='Tab 2.Kraavivalli param.'!E114 -> 5.3 | O86: =Q86 -> 1478.7 | P86: =H86*'Tab 6.Paisu tüüpmaht'!$D$4+I86*'Tab 6.Paisu tüüpmaht'!$D$5 -> 0 | Q86: =(K86+L86)*M86*N86 -> 1478.7 | R86: osaline kinniajamine
A87: 81 | B87: ='Tab 1.Kraavide param.'!A115 -> 211 | C87: ='Tab 1.Kraavide param.'!B115 -> 461 | E87: =C87 -> 461 | F87: ='Tab 1.Kraavide param.'!C115 -> 0.9 | G87: ='Tab 1.Kraavide param.'!D115 -> 2.5 | H87: 5 | J87: =SUM(H87:I87) -> 5 | K87: ='Tab 2.Kraavivalli param.'!B116 -> 0 | L87: ='Tab 2.Kraavivalli param.'!C116 -> 0 | M87: ='Tab 2.Kraavivalli param.'!D116 -> 0 | N87: ='Tab 2.Kraavivalli param.'!E116 -> 0 | P87: =H87*'Tab 6.Paisu tüüpmaht'!$D$4+I87*'Tab 6.Paisu tüüpmaht'!$D$5 -> 100 | Q87: =(K87+L87)*M87*N87 -> 0 | R87: paisuga suletav
A88: 82 | B88: ='Tab 1.Kraavide param.'!A121 -> 217 | C88: ='Tab 1.Kraavide param.'!B121 -> 344 | E88: =C88 -> 344 | F88: ='Tab 1.Kraavide param.'!C121 -> 1.5 | G88: ='Tab 1.Kraavide param.'!D121 -> 4.2 | H88: 2 | J88: =SUM(H88:I88) -> 2 | K88: ='Tab 2.Kraavivalli param.'!B122 -> 338 | L88: ='Tab 2.Kraavivalli param.'!C122 -> 0 | M88: ='Tab 2.Kraavivalli param.'!D122 -> 0.5 | N88: ='Tab 2.Kraavivalli param.'!E122 -> 5 | O88: =Q88 -> 845 | P88: =H88*'Tab 6.Paisu tüüpmaht'!$D$4+I88*'Tab 6.Paisu tüüpmaht'!$D$5 -> 40 | Q88: =(K88+L88)*M88*N88 -> 845 | R88: kombineeritud meetod (kinniajamine+paisud)
A89: 83 | B89: ='Tab 1.Kraavide param.'!A122 -> 218 | C89: ='Tab 1.Kraavide param.'!B122 -> 527 | E89: =C89 -> 527 | F89: ='Tab 1.Kraavide param.'!C122 -> 1.3 | G89: ='Tab 1.Kraavide param.'!D122 -> 4 | H89: 4 | J89: =SUM(H89:I89) -> 4 | K89: ='Tab 2.Kraavivalli param.'!B123 -> 509 | L89: ='Tab 2.Kraavivalli param.'!C123 -> 0 | M89: ='Tab 2.Kraavivalli param.'!D123 -> 0.3 | N89: ='Tab 2.Kraavivalli param.'!E123 -> 5.8 | O89: =Q89 -> 885.66 | P89: =H89*'Tab 6.Paisu tüüpmaht'!$D$4+I89*'Tab 6.Paisu tüüpmaht'!$D$5 -> 80 | Q89: =(K89+L89)*M89*N89 -> 885.66 | R89: kombineeritud meetod (kinniajamine+paisud)
A90: 84 | B90: ='Tab 1.Kraavide param.'!A123 -> 219 | C90: ='Tab 1.Kraavide param.'!B123 -> 146 | E90: =C90 -> 146 | F90: ='Tab 1.Kraavide param.'!C123 -> 1.2 | G90: ='Tab 1.Kraavide param.'!D123 -> 3.5 | H90: 4 | J90: =SUM(H90:I90) -> 4 | K90: ='Tab 2.Kraavivalli param.'!B124 -> 141 | L90: ='Tab 2.Kraavivalli param.'!C124 -> 0 | M90: ='Tab 2.Kraavivalli param.'!D124 -> 0.2 | N90: ='Tab 2.Kraavivalli param.'!E124 -> 4.5 | O90: =Q90 -> 126.9 | P90: =H90*'Tab 6.Paisu tüüpmaht'!$D$4+I90*'Tab 6.Paisu tüüpmaht'!$D$5 -> 80 | Q90: =(K90+L90)*M90*N90 -> 126.9 | R90: kombineeritud meetod (kinniajamine+paisud)
A91: 85 | B91: ='Tab 1.Kraavide param.'!A124 -> 220 | C91: ='Tab 1.Kraavide param.'!B124 -> 388 | E91: =C91 -> 388 | F91: ='Tab 1.Kraavide param.'!C124 -> 1.4 | G91: ='Tab 1.Kraavide param.'!D124 -> 3 | J91: =SUM(H91:I91) -> 0 | K91: ='Tab 2.Kraavivalli param.'!B125 -> 375 | L91: ='Tab 2.Kraavivalli param.'!C125 -> 0 | M91: ='Tab 2.Kraavivalli param.'!D125 -> 0.6 | N91: ='Tab 2.Kraavivalli param.'!E125 -> 5.5 | O91: =E91*(F91*G91/2) -> 814.8 | P91: =H91*'Tab 6.Paisu tüüpmaht'!$D$4+I91*'Tab 6.Paisu tüüpmaht'!$D$5 -> 0 | Q91: =(K91+L91)*M91*N91 -> 1237.5 | R91: ='Tab 1.Kraavide param.'!F124 -> 0
A92: 86 | B92: ='Tab 1.Kraavide param.'!A125 -> 221 | C92: ='Tab 1.Kraavide param.'!B125 -> 304 | E92: =C92 -> 304 | F92: ='Tab 1.Kraavide param.'!C125 -> 1.4 | G92: ='Tab 1.Kraavide param.'!D125 -> 4.5 | J92: =SUM(H92:I92) -> 0 | K92: ='Tab 2.Kraavivalli param.'!B126 -> 0 | L92: ='Tab 2.Kraavivalli param.'!C126 -> 300 | M92: ='Tab 2.Kraavivalli param.'!D126 -> 0.6 | N92: ='Tab 2.Kraavivalli param.'!E126 -> 5.8 | O92: =E92*(F92*G92/2) -> 957.6 | P92: =H92*'Tab 6.Paisu tüüpmaht'!$D$4+I92*'Tab 6.Paisu tüüpmaht'!$D$5 -> 0 | Q92: =(K92+L92)*M92*N92 -> 1044 | R92: ='Tab 1.Kraavide param.'!F125 -> 0
A93: 87 | B93: ='Tab 1.Kraavide param.'!A127 -> 223 | C93: ='Tab 1.Kraavide param.'!B127 -> 472 | E93: =C93 -> 472 | F93: ='Tab 1.Kraavide param.'!C127 -> 0.9 | G93: ='Tab 1.Kraavide param.'!D127 -> 3.5 | J93: =SUM(H93:I93) -> 0 | K93: ='Tab 2.Kraavivalli param.'!B128 -> 463 | L93: ='Tab 2.Kraavivalli param.'!C128 -> 0 | M93: ='Tab 2.Kraavivalli param.'!D128 -> 0.4 | N93: ='Tab 2.Kraavivalli param.'!E128 -> 5 | O93: =E93*(F93*G93/2) -> 743.4 | P93: =H93*'Tab 6.Paisu tüüpmaht'!$D$4+I93*'Tab 6.Paisu tüüpmaht'!$D$5 -> 0 | Q93: =(K93+L93)*M93*N93 -> 926 | R93: ='Tab 1.Kraavide param.'!F127 -> 0
A94: 88 | B94: ='Tab 1.Kraavide param.'!A128 -> 224 | C94: ='Tab 1.Kraavide param.'!B128 -> 671 | E94: =C94 -> 671 | F94: ='Tab 1.Kraavide param.'!C128 -> 0.9 | G94: ='Tab 1.Kraavide param.'!D128 -> 3 | H94: 4 | J94: =SUM(H94:I94) -> 4 | K94: ='Tab 2.Kraavivalli param.'!B129 -> 666 | L94: ='Tab 2.Kraavivalli param.'!C129 -> 663 | M94: ='Tab 2.Kraavivalli param.'!D129 -> 0.2 | N94: ='Tab 2.Kraavivalli param.'!E129 -> 2.8 | P94: =H94*'Tab 6.Paisu tüüpmaht'!$D$4+I94*'Tab 6.Paisu tüüpmaht'!$D$5 -> 80 | R94: paisuga suletav
A95: 89 | B95: ='Tab 1.Kraavide param.'!A129 -> 225 | C95: ='Tab 1.Kraavide param.'!B129 -> 444 | E95: =C95 -> 444 | F95: ='Tab 1.Kraavide param.'!C129 -> 1.4 | G95: ='Tab 1.Kraavide param.'!D129 -> 3 | H95: 6 | J95: =SUM(H95:I95) -> 6 | K95: ='Tab 2.Kraavivalli param.'!B130 -> 292 | L95: ='Tab 2.Kraavivalli param.'!C130 -> 0 | M95: ='Tab 2.Kraavivalli param.'!D130 -> 0.2 | N95: ='Tab 2.Kraavivalli param.'!E130 -> 3.5 | P95: =H95*'Tab 6.Paisu tüüpmaht'!$D$4+I95*'Tab 6.Paisu tüüpmaht'!$D$5 -> 120 | R95: ='Tab 1.Kraavide param.'!F129 -> 0
A96: 90 | B96: ='Tab 1.Kraavide param.'!A130 -> 226 | C96: ='Tab 1.Kraavide param.'!B130 -> 348 | E96: =C96 -> 348 | F96: ='Tab 1.Kraavide param.'!C130 -> 1.4 | G96: ='Tab 1.Kraavide param.'!D130 -> 4.5 | J96: =SUM(H96:I96) -> 0 | K96: ='Tab 2.Kraavivalli param.'!B131 -> 0 | L96: ='Tab 2.Kraavivalli param.'!C131 -> 351 | M96: ='Tab 2.Kraavivalli param.'!D131 -> 0.54 | N96: ='Tab 2.Kraavivalli param.'!E131 -> 5.8 | O96: =E96*(F96*G96/2) -> 1096.2 | P96: =H96*'Tab 6.Paisu tüüpmaht'!$D$4+I96*'Tab 6.Paisu tüüpmaht'!$D$5 -> 0 | Q96: =(K96+L96)*M96*N96 -> 1099.332 | R96: ='Tab 1.Kraavide param.'!F130 -> 0
A97: 91 | B97: ='Tab 1.Kraavide param.'!A131 -> 227 | C97: ='Tab 1.Kraavide param.'!B131 -> 444 | E97: =C97 -> 444 | F97: ='Tab 1.Kraavide param.'!C131 -> 1.4 | G97: ='Tab 1.Kraavide param.'!D131 -> 3.8 | H97: 6 | J97: =SUM(H97:I97) -> 6 | K97: ='Tab 2.Kraavivalli param.'!B132 -> 0 | L97: ='Tab 2.Kraavivalli param.'!C132 -> 445 | M97: ='Tab 2.Kraavivalli param.'!D132 -> 0.3 | N97: ='Tab 2.Kraavivalli param.'!E132 -> 5.3 | O97: =Q97 -> 707.55 | P97: =H97*'Tab 6.Paisu tüüpmaht'!$D$4+I97*'Tab 6.Paisu tüüpmaht'!$D$5 -> 120 | Q97: =(K97+L97)*M97*N97 -> 707.55 | R97: kombineeritud meetod (kinniajamine+paisud)
A98: 92 | B98: ='Tab 1.Kraavide param.'!A132 -> 228 | C98: ='Tab 1.Kraavide param.'!B132 -> 422 | E98: =C98 -> 422 | F98: ='Tab 1.Kraavide param.'!C132 -> 1.5 | G98: ='Tab 1.Kraavide param.'!D132 -> 4.5 | H98: 8 | J98: =SUM(H98:I98) -> 8 | K98: ='Tab 2.Kraavivalli param.'!B133 -> 417 | L98: ='Tab 2.Kraavivalli param.'!C133 -> 0 | M98: ='Tab 2.Kraavivalli param.'!D133 -> 0.3 | N98: ='Tab 2.Kraavivalli param.'!E133 -> 5 | O98: =Q98 -> 625.5 | P98: =H98*'Tab 6.Paisu tüüpmaht'!$D$4+I98*'Tab 6.Paisu tüüpmaht'!$D$5 -> 160 | Q98: =(K98+L98)*M98*N98 -> 625.5 | R98: kombineeritud meetod (kinniajamine+paisud)
A99: 93 | B99: ='Tab 1.Kraavide param.'!A136 -> 232 | C99: ='Tab 1.Kraavide param.'!B136 -> 807 | E99: =C99 -> 807 | F99: ='Tab 1.Kraavide param.'!C136 -> 1.3 | G99: ='Tab 1.Kraavide param.'!D136 -> 4 | H99: 6 | J99: =SUM(H99:I99) -> 6 | K99: ='Tab 2.Kraavivalli param.'!B137 -> 800 | L99: ='Tab 2.Kraavivalli param.'!C137 -> 0 | M99: 0.4 | N99: 4 | O99: =Q99 -> 1280 | P99: =H99*'Tab 6.Paisu tüüpmaht'!$D$4+I99*'Tab 6.Paisu tüüpmaht'!$D$5 -> 120 | Q99: =(K99+L99)*M99*N99 -> 1280 | R99: kombineeritud meetod (kinniajamine+paisud)
A100: 94 | B100: ='Tab 1.Kraavide param.'!A138 -> 234 | C100: ='Tab 1.Kraavide param.'!B138 -> 214 | E100: =C100 -> 214 | F100: ='Tab 1.Kraavide param.'!C138 -> 0.9 | G100: ='Tab 1.Kraavide param.'!D138 -> 3 | H100: 2 | J100: =SUM(H100:I100) -> 2 | K100: ='Tab 2.Kraavivalli param.'!B139 -> 146 | L100: ='Tab 2.Kraavivalli param.'!C139 -> 0 | M100: ='Tab 2.Kraavivalli param.'!D139 -> 0.2 | N100: ='Tab 2.Kraavivalli param.'!E139 -> 4.5 | P100: =H100*'Tab 6.Paisu tüüpmaht'!$D$4+I100*'Tab 6.Paisu tüüpmaht'!$D$5 -> 40 | R100: paisuga suletav
...

Sheet Tab 9.Ligipääsud
A1: Tabel 9. Ligipääsud
A2: Ligipääs | B2: Pikkus, m | C2: Trassiraie vajadus jah/ei - mahud on kirjeldatud trassiraie tabelis | D2: Märkused
A3: LP1 | B3: 910 | C3: jah | D3: Maa-ja Ruumiamet
A4: LP2 | B4: 310 | C4: jah | D4: RMK
A5: LP3 | B5: 135 | C5: jah | D5: RMK
A6: LP4 | B6: 220 | C6: ei | D6: RMK
A7: LP5 | B7: 120 | C7: ei | D7: RMK
A8: LP6 | B8: 140 | C8: ei | D8: RMK
A9: LP7 | B9: 590 | C9: ei | D9: RMK
A10: LP8 | B10: 715 | C10: ei | D10: RMK
A11: LP9 | B11: 70 | C11: ei | D11: RMK
A12: LP10 | B12: 310 | C12: jah (1/3 pikksusest) | D12: RMK
A13: LP11 | B13: 475 | C13: ei | D13: RMK
A14: LP12 | B14: 855 | C14: jah (2/3 pikksusest) | D14: RMK
... A20: LP18 | B20: 492 | C20: jah | D20: RMK
A21: AJ 1 | B21: - | C21: ei | D21: RMK (kraavist ajutine ülepääs)
A22: AJ 2 | B22: - | C22: ei | D22: Eramaa/RMK (kraavist ajutine ülepääs)
A23: AJ 3 | B23: - | C23: ei | D23: RMK (kraavist ajutine ülepääs)
A24: AJ 4 | B24: - | C24: ei | D24: RMK (kraavist ajutine ülepääs)
A25: AJ 5 | B25: - | C25: ei | D25: RMK (kraavist ajutine ülepääs)
A26: AJ 7 | B26: - | C26: ei | D26: RMK (kraavist ajutine ülepääs)
A27: AJ 8 | B27: - | C27: ei | D27: RMK (kraavist ajutine ülepääs)
A28: AJ 9 | B28: - | C28: ei | D28: RMK (kraavist ajutine ülepääs)
A29: AJ 10 | B29: - | C29: ei | D29: RMK (kraavist ajutine ülepääs)
A30: AJ 11 | B30: - | C30: ei | D30: RMK (kraavist ajutine ülepääs)

Sheet Tab 10a-10b.Truubid
A1: Tabel 10a. Likvideeritavate truupide tööde mahud
A2: Jrk. nr | B2: Truubi nr | C2: Veejuhtme nimetus | D2: Likvideeritava truubi andmed | H2: Märkused
D3: Läbimõõt | E3: Materjal | F3: Pikkus | G3: Otsaku tüüp
D4: cm | F4: m
A5: 1 | B5: T1 | C5: 101 | D5: ='Tab 3.Uur.truubid'!B3 -> 50 | E5: ='Tab 3.Uur.truubid'!C3 -> PT | F5: ='Tab 3.Uur.truubid'!D3 -> 10 | G5: ='Tab 3.Uur.truubid'!E3 -> 0
A6: 2 | B6: T16 | C6: 140 | D6: ='Tab 3.Uur.truubid'!B18 -> 30 | E6: ='Tab 3.Uur.truubid'!C18 -> BT | F6: ='Tab 3.Uur.truubid'!D18 -> 8 | G6: ='Tab 3.Uur.truubid'!E18 -> 0
A7: 3 | B7: T17 | C7: 141 | D7: ='Tab 3.Uur.truubid'!B19 -> 30 | E7: ='Tab 3.Uur.truubid'!C19 -> BT | F7: ='Tab 3.Uur.truubid'!D19 -> 8 | G7: ='Tab 3.Uur.truubid'!E19 -> 0
A8: 4 | B8: T12 | C8: 130 | D8: ='Tab 3.Uur.truubid'!B14 -> 75 | E8: ='Tab 3.Uur.truubid'!C14 -> BT | F8: ='Tab 3.Uur.truubid'!D14 -> 7 | G8: ='Tab 3.Uur.truubid'!E14 -> 0
A9: 5 | B9: T8 | C9: 104 | D9: ='Tab 3.Uur.truubid'!B10 -> 75 | E9: ='Tab 3.Uur.truubid'!C10 -> BT | F9: ='Tab 3.Uur.truubid'!D10 -> 6 | G9: ='Tab 3.Uur.truubid'!E10 -> 0
A10: 6 | B10: T9 | C10: 113 | D10: ='Tab 3.Uur.truubid'!B11 -> 50 | E10: ='Tab 3.Uur.truubid'!C11 -> BT | F10: ='Tab 3.Uur.truubid'!D11 -> 6 | G10: ='Tab 3.Uur.truubid'!E11 -> 0
A11: 7 | B11: T6 | C11: 103 | D11: ='Tab 3.Uur.truubid'!B8 -> 120 | E11: ='Tab 3.Uur.truubid'!C8 -> BT | F11: ='Tab 3.Uur.truubid'!D8 -> 6 | G11: ='Tab 3.Uur.truubid'!E8 -> 0
A12: 8 | B12: T31 | C12: 173 | D12: ='Tab 3.Uur.truubid'!B33 -> 30 | E12: ='Tab 3.Uur.truubid'!C33 -> BT | F12: ='Tab 3.Uur.truubid'!D33 -> 8 | G12: ='Tab 3.Uur.truubid'!E33 -> 0
A13: 9 | B13: T42 | C13: 179 | D13: ='Tab 3.Uur.truubid'!B44 -> 30 | E13: ='Tab 3.Uur.truubid'!C44 -> BT | F13: ='Tab 3.Uur.truubid'!D44 -> 6 | G13: ='Tab 3.Uur.truubid'!E44 -> 0
A14: 10 | B14: T46 | C14: 184 | D14: ='Tab 3.Uur.truubid'!B48 -> 30 | E14: ='Tab 3.Uur.truubid'!C48 -> BT | F14: ='Tab 3.Uur.truubid'!D48 -> 6 | G14: ='Tab 3.Uur.truubid'!E48 -> 0
A15: 11 | B15: T34 | C15: 158 | D15: ='Tab 3.Uur.truubid'!B36 -> 50 | E15: ='Tab 3.Uur.truubid'!C36 -> BT | F15: ='Tab 3.Uur.truubid'!D36 -> 7 | G15: ='Tab 3.Uur.truubid'!E36 -> 0
A16: 12 | B16: T35 | C16: 161 | D16: ='Tab 3.Uur.truubid'!B37 -> 30 | E16: ='Tab 3.Uur.truubid'!C37 -> BT | F16: ='Tab 3.Uur.truubid'!D37 -> 7 | G16: ='Tab 3.Uur.truubid'!E37 -> 0
A17: 13 | B17: T36 | C17: 159 | D17: ='Tab 3.Uur.truubid'!B38 -> 30 | E17: ='Tab 3.Uur.truubid'!C38 -> BT | F17: ='Tab 3.Uur.truubid'!D38 -> 6 | G17: ='Tab 3.Uur.truubid'!E38 -> 0
A18: 14 | B18: T52 | C18: 218 | D18: ='Tab 3.Uur.truubid'!B54 -> 30 | E18: ='Tab 3.Uur.truubid'!C54 -> BT | F18: ='Tab 3.Uur.truubid'!D54 -> 6 | G18: ='Tab 3.Uur.truubid'!E54 -> 0
A19: 15 | B19: T54 | C19: 225 | D19: ='Tab 3.Uur.truubid'!B56 -> 30 | E19: ='Tab 3.Uur.truubid'!C56 -> BT | F19: ='Tab 3.Uur.truubid'!D56 -> 6 | G19: ='Tab 3.Uur.truubid'!E56 -> 0
A20: 16 | B20: T53 | C20: 224 | D20: ='Tab 3.Uur.truubid'!B55 -> 50 | E20: ='Tab 3.Uur.truubid'!C55 -> BT | F20: ='Tab 3.Uur.truubid'!D55 -> 8 | G20: ='Tab 3.Uur.truubid'!E55 -> 0
A21: 17 | B21: T5 | C21: 103 | D21: ='Tab 3.Uur.truubid'!B7 -> 120 | E21: ='Tab 3.Uur.truubid'!C7 -> BT | F21: ='Tab 3.Uur.truubid'!D7 -> 6 | G21: ='Tab 3.Uur.truubid'!E7 -> 0
A22: 18 | B22: T14 | C22: 252a | D22: ='Tab 3.Uur.truubid'!B16 -> 50 | E22: ='Tab 3.Uur.truubid'!C16 -> PT | F22: ='Tab 3.Uur.truubid'!D16 -> 12 | G22: ='Tab 3.Uur.truubid'!E16 -> 0
A24: KOKKU | F24: =SUM(F5:F23) -> 129 | I24: KOK | J24: MAOK | K24: BET
A26: Tabel 10b. Ehitatavate truupide tööde mahud
A27: Jrk. nr | B27: Truubi nr | C27: Veejuhtme nimetus | D27: Ehitatava truubi andmed | L27: Märkused
D28: Läbimõõt | E28: Materjal | F28: Pikkus | G28: Otsaku tüüp | H28: sügavus | I28: tee/mahasõidu katte taastamine (h=10 cm; kruus, fr 0/31,5 mm) | J28: täiendav kaeve | K28: kaeviku täitepinnas (liiv)
D29: cm | F29: m | H29: m | I29: m³ | J29: m³ | K29: m³
A30: 1 | B30: T101 | C30: 252b | D30: 50 | E30: PT | F30: 12 | G30: MAO | H30: 1.5 | I30: 6 | J30: 40 | K30: 22 | L30: 252b ja 253a ühendamiseks
A32: KOKKU | F32: =SUM(F30:F31) -> 12 | I32: =SUM(I30:I31) -> 6 | J32: =SUM(J30:J31) -> 40 | K32: =SUM(K30:K31) -> 22

Sheet Tab 11.Veejuhtmed
A1: Tabel 11. Veejuhtmete kaevetööde mahud
A3: Jrk. nr | B3: Veejuhtme | J3: Märkused
B4: nimetus | C4: liigi tähis | D4: pikkus | E4: põhja laius | F4: nõlvus-tegur | G4: sügavus | H4: Kaeve ristlõige | I4: Kaeve-maht
D7: m | E7: m | G7: m | H7: m3 | I7: m3
A8: 1 | B8: 251c | C8: EK | D8: 20 | E8: 0.4 | F8: 1.5 | G8: 1.4 | H8: 3.5 | I8: =H8*D8 -> 70 | J8: 251a ja 251b ühendatav lõik
A9: 2 | B9: 252c | C9: EK | D9: 26 | E9: 0.4 | F9: 1.5 | G9: 2.05 | H9: 6.4 | I9: =H9*D9 -> 166.4 | J9: 252a ja 252b ühendatav lõik
A10: 3 | B10: 252a | C10: RK | D10: 187 | E10: 0.4 | F10: 1.5 | G10: 1.7 | H10: 1.2 | I10: =H10*D10 -> 224.4
A11: 4 | B11: 252b | C11: RK | D11: 75 | E11: 0.4 | F11: 1.5 | G11: 1.4 | H11: 1 | I11: =H11*D11 -> 75
A13: Kokku | C13: EK | D13: =SUMIF($C$8:$C$12,$C13,D$8:D$12) -> 46 | I13: =SUMIF($C$8:$C$12,$C13,I$8:I$12) -> 236.4
A14: Kokku | C14: RK | D14: =SUMIF($C$8:$C$12,$C14,D$8:D$12) -> 262 | I14: =SUMIF($C$8:$C$12,$C14,I$8:I$12) -> 299.4
A15: KÕIK KOKKU | D15: =SUM(D13:D14) -> 308 | I15: =SUM(I13:I14) -> 535.8
A16: Märkused:
A17: EK - Ehitatav kraav (olemasolevate teekraavide ühendamine)
A18: RK - Rekonstrueeritav kraav (voolusuuna muutmine)

Sheet Tab 12.Tööde maksumus
A1: Tabel 12. Kavandatud tööde hinnanguline maksumus
A2: Jrk. nr. | B2: Töö nimetus | C2: Ühiku maksumus, € | D2: Mõõtühik | E2: Töömaht | F2: Maksumus, €
A3: 1 | B3: ='Tab 4.Kav.tööd'!B3 -> Ettevalmistustööd
A4: 2 | B4: ='Tab 4.Kav.tööd'!B4 -> Raadatavate trasside mahamärkimine | C4: 65 | D4: ='Tab 4.Kav.tööd'!C4 -> km | E4: ='Tab 4.Kav.tööd'!D4 -> 48.51 | F4: =C4*E4 -> 3153.15
A5: 3 | B5: ='Tab 4.Kav.tööd'!B5 -> Puittaimestiku raie trassidel ja paisude asukohas | C5: 1190 | D5: ='Tab 4.Kav.tööd'!C5 -> ha | E5: ='Tab 4.Kav.tööd'!D5 -> 26.591 | F5: =C5*E5 -> 31643.29
A6: 4 | B6: ='Tab 4.Kav.tööd'!B6 -> Tüveste vedu trassidelt veokaugus kuni 1 km | C6: 1333 | D6: ='Tab 4.Kav.tööd'!C6 -> ha | E6: ='Tab 4.Kav.tööd'!D6 -> 5.3182 | F6: =C6*E6 -> 7089.1606
A7: 5 | B7: ='Tab 4.Kav.tööd'!B7 -> Kändude juurimine paisude aluselt alalt | C7: 383 | D7: ='Tab 4.Kav.tööd'!C7 -> ha | E7: ='Tab 4.Kav.tööd'!D7 -> 0.785 | F7: =C7*E7 -> 300.655
A8: 6 | B8: ='Tab 4.Kav.tööd'!B8 -> Koprapaisude likvideerimine | C8: 183.9 | D8: ='Tab 4.Kav.tööd'!C8 -> tk | E8: ='Tab 4.Kav.tööd'!D8 -> 6 | F8: =C8*E8 -> 1103.4
A9: 7 | B9: ='Tab 4.Kav.tööd'!B9 -> Setteekraanide rajamine | C9: 250 | D9: ='Tab 4.Kav.tööd'!C9 -> tk | E9: ='Tab 4.Kav.tööd'!D9 -> 8 | F9: =C9*E9 -> 2000
A10: 8 | B10: ='Tab 4.Kav.tööd'!B12 -> Mullatööd ja paisud
A11: 9 | B11: ='Tab 4.Kav.tööd'!B13 -> Kraavivallide likvideerimine (I-II gr. pinnas) | C11: 0.7 | D11: ='Tab 4.Kav.tööd'!C13 -> m3 | E11: ='Tab 4.Kav.tööd'!D13 -> 85720.355 | F11: =C11*E11 -> 60004.249
A12: 10 | B12: ='Tab 4.Kav.tööd'!B14 -> Kraavide täitmine kohapealse pinnasega (I-II gr. pinnas) | C12: 0.7 | D12: ='Tab 4.Kav.tööd'!C14 -> m3 | E12: ='Tab 4.Kav.tööd'!D14 -> 70423.525 | F12: =C12*E12 -> 49296.468
A13: 11 | B13: ='Tab 4.Kav.tööd'!B15 -> Paisude mahamärkimine | C13: 25 | D13: ='Tab 4.Kav.tööd'!C15 -> tk | E13: ='Tab 4.Kav.tööd'!D15 -> 133 | F13: =C13*E13 -> 3325
A14: 12 | B14: ='Tab 4.Kav.tööd'!B16 -> Sette/pinnase eemaldamine pinnaspaisude alt (I-II gr. pinnas 5 m3/pais) | C14: 0.7 | D14: ='Tab 4.Kav.tööd'!C16 -> m3 | E14: ='Tab 4.Kav.tööd'!D16 -> 620 | F14: =C14*E14 -> 434
A15: 13 | B15: ='Tab 4.Kav.tööd'!B17 -> Pinnaspaisude ehitamine kohapealsest pinnasest (I-II gr. pinnas), sh pinnase tihendamine mehhanismidega | C15: 1 | D15: ='Tab 4.Kav.tööd'!C17 -> m3 | E15: ='Tab 4.Kav.tööd'!D17 -> 3074 | F15: =C15*E15 -> 3074
A16: 14 | B16: ='Tab 4.Kav.tööd'!B18 -> Truubid
A17: 15 | B17: ='Tab 4.Kav.tööd'!B19 -> Ø 30-120 cm (r/b / plast / teras) truubi torude väljatõstmine ja utiliseerimine | C17: 160 | D17: ='Tab 4.Kav.tööd'!C19 -> m | E17: ='Tab 4.Kav.tööd'!D19 -> 129 | F17: =C17*E17 -> 20640
A18: 16 | B18: ='Tab 4.Kav.tööd'!B20 -> Plasttruubi ehitus; Ø50 cm, tüüp 50PT, SN8 | C18: 60 | D18: ='Tab 4.Kav.tööd'!C20 -> m | E18: ='Tab 4.Kav.tööd'!D20 -> 12 | F18: =C18*E18 -> 720
A19: 17 | B19: ='Tab 4.Kav.tööd'!B21 -> Ø50MAO. Truubi mattotsaku ehitus | C19: 131 | D19: ='Tab 4.Kav.tööd'!C21 -> 2 otsakut | E19: ='Tab 4.Kav.tööd'!D21 -> 1 | F19: =C19*E19 -> 131
A20: 18 | B20: ='Tab 4.Kav.tööd'!B22 -> Tee/mahasõidu katte taastamine (h=10 cm; kruus, fr 0/31,5 mm) | C20: 15 | D20: ='Tab 4.Kav.tööd'!C22 -> m3 | E20: ='Tab 4.Kav.tööd'!D22 -> 6 | F20: =C20*E20 -> 90
A21: 19 | B21: ='Tab 4.Kav.tööd'!B23 -> Täitepinnas truubikaeviku täitmiseks (liivpinnas) | C21: 5 | D21: ='Tab 4.Kav.tööd'!C23 -> m3 | E21: ='Tab 4.Kav.tööd'!D23 -> 22 | F21: =C21*E21 -> 110
A22: 20 | B22: ='Tab 4.Kav.tööd'!B24 -> Täiendav kaeve truubi ehitamiseks | C22: 0.5 | D22: ='Tab 4.Kav.tööd'!C24 -> m3 | E22: ='Tab 4.Kav.tööd'!D24 -> 40 | F22: =C22*E22 -> 20
A23: 21 | B23: ='Tab 4.Kav.tööd'!B25 -> Uued veejuhtmed
A24: 22 | B24: ='Tab 4.Kav.tööd'!B26 -> Veejuhtmete kaevamine (I-II gr. pinnas) | C24: 0.5 | D24: ='Tab 4.Kav.tööd'!C26 -> m3 | E24: ='Tab 4.Kav.tööd'!D26 -> 535.8 | F24: =C24*E24 -> 267.9
A25: 23 | B25: ='Tab 4.Kav.tööd'!B27 -> Mullavallide laialiajamine ja tasandamine | C25: 0.3 | D25: ='Tab 4.Kav.tööd'!C27 -> m3 | E25: ='Tab 4.Kav.tööd'!D27 -> 321.48 | F25: =C25*E25 -> 96.444
A26: 24 | B26: ='Tab 4.Kav.tööd'!B28 -> Muud tööd
A27: 25 | B27: ='Tab 4.Kav.tööd'!B29 -> Ajutiste ülepääsude rajamine ja likvideerimine | C27: 50 | D27: ='Tab 4.Kav.tööd'!C29 -> tk | E27: ='Tab 4.Kav.tööd'!D29 -> 10 | F27: =C27*E27 -> 500
B28: KOKKU | F28: =SUM(F4:F27) -> 183998.72
B29: KM, 24% | F29: =F28*0.24 -> 44159.692
B30: KÕIK KOKKU | F30: =SUM(F28:F29) -> 228158.41

Sheet Tab 13a-13c.Mõju analüüs
A1: Tabel 13a. Taastamistööde eeldatav mõju tööalal esinevatele ja alaga piirnevatele elupaigatüüpidele
A2: Elupaigatüübi kood | B2: Mõju suund | C2: Mõju suurus ja esinemistõenäosus* | D2: Kommentaar
A3: 6270* | B3: puudub | C3: puudub | D3: Tööd ei mõjuta antud elupaika
A4: 6510 | B4: puudub | C4: puudub | D4: Tööd ei mõjuta antud elupaika
A5: 6530* | B5: neutraalne | C5: A1 | D5: Tööd tõenäoliselt ei mõjuta antud elupaika
A6: 7110* | B6: positiivne | C6: B2 | D6: Luuakse eeldused kooslusele omase veerežiimi taastumiseks
A7: 7140 | B7: positiivne | C7: B2 | D7: Luuakse eeldused kooslusele omase veerežiimi taastumiseks
A8: 7230 | B8: positiivne | C8: B2 | D8: Luuakse eeldused kooslusele omase veerežiimi taastumiseks
A9: 9010* | B9: positiivne | C9: B2 | D9: Luuakse eeldused kooslusele omase veerežiimi säilimiseks
A10: 9020* | B10: positiivne | C10: B2 | D10: Luuakse eeldused kooslusele omase veerežiimi säilimiseks
A11: 9050 | B11: positiivne | C11: B2 | D11: Luuakse eeldused kooslusele omase veerežiimi säilimiseks
A12: 9080 | B12: positiivne | C12: B2 | D12: Luuakse eeldused kooslusele omase veerežiimi taastumiseks
A13: 91D0* | B13: positiivne | C13: B2 | D13: Luuakse eeldused kooslusele omase veerežiimi taastumiseks
A15: Tabel 13b. Taastamisaladel ja nende lähiümbruses (200 m raadiuses taastamisaladest) leiduvad kaitsealused liigid
A16: Liik | B16: Takson | C16: Kaitsekategooria
A17: Kaljukotkas (Aquila chrysaetos) | B17: loom | C17: I
A18: Merikotkas (Haliaeetus albicilla) | B18: loom | C18: I
A19: Must-toonekurg (Ciconia nigra) | B19: loom | C19: I
A20: Väike-konnakotkas (Clanga pomarin) | B20: loom | C20: I
A21: Õõnetuvi (Columba oenas) | B21: loom | C21: II
A22: Lõopistrik (Falco subbuteo) | B22: loom | C22: III
A23: Mudatilder (Tringa glareola) | B23: loom | C23: III
A24: Punajalg-tilder (Tringa totanus) | B24: loom | C24: III
A25: Punaselg-õgija (Lanius collurio) | C25: III
A26: Väike-kirjurähn (Dryobates minor) | B26: loom | C26: III
A27: Teder (Lyrurus tetrix) | B27: loom | C27: III
A28: Hoburästas (Turdus viscivorus) | B28: loom | C28: III
A29: Rüüt (Pluvialis apricaria) | B29: loom | C29: III
A30: Sookurg (Grus grus) | B30: loom | C30: III
A31: Väike-kärbsenäpp (Ficedula parva) | B31: loom | C31: III
A32: Laanepüü (Tetrastes bonasia) | B32: loom | C32: III
A33: Händkakk (Strix uralensis) | B33: loom | C33: III
A34: Musträhn (Dryocopus martius) | B34: loom | C34: III
A35: Hallpea-rähn (Picus canus) | B35: loom | C35: III
A36: Värbkakk (Glaucidium passerinum) | B36: loom | C36: III
A37: Suur nööpsamblik (Megalaria grossa) | B37: seen | C37: III
... A52: Sulgjas õhik (Neckera pennata) | B52: taim | C52: III
A54: Tabel 13c. Taastamistööde eeldatav mõju tööaladel ja nende lähiümbruses (200 m raadiuses taastamisaladest) leiduvatele kaitsealustele liikidele
A55: Liik | B55: Mõju suund | C55: Mõju suurus ja esinemis-tõenäosus* | D55: Kommentaar
A56: Kaljukotkas | B56: positiivne | C56: B2 | D56: Pesitseb kõrvalistes soo- ja metsamassiivides, toitumisalad avamaastikul, ka lagerabas. Taastamistööde tulemusel toitumisalade kvaliteet paraneb.
A57: Merikotkas | B57: positiivne | C57: B2 | D57: Pesitseb mõne põlise männi või haava ladvaosas, enamasti häilu või lageraide servas, soosaarel või säilikpuul. Toitumisalad avamaastikus. Taastamistööde tulemusel toitumisalade kvaliteet paraneb.
A58: Must-toonekurg | B58: positiivne | C58: B2 | D58: Elutseb suurtes metsamassiivides enamasti vooluveekogude või madalsoode ja rabade läheduses. Veerežiimi taastamine aitab tagada sobiva elupaigatüübi säilimise ja omab positiivset mõju.
A59: Väike-konnakotkas | B59: positiivne | C59: B1 | D59: Elutseb mosaiikses maastikus, kus looduslikud rohumaad vahelduvad metsatukkadega. Toitub avamaastikes. Veerežiimi taastamine aitab tagada sobiva elupaigatüübi säilimise ja omab positiivset mõju.
A60: Õõnetuvi | B60: positiivne | C60: A2 | D60: Elutseb metsa ja avamaastiku piirialadel. Pesapuistus peab kasvama vanu puid, milles leiduks sobivaid pesaõõnsusi. Asustab mh rähnide pesaõõnsusi. Veerežiimi taastamine aitab tagada sobiva elupaigatüübi säilimise ja omab positiivset mõju.
A61: Lõopistrik | B61: neutraalne | C61: neutraalne | D61: Pesitseb peamiselt männikutes. Toitub avamaastikes. Taastamistööde mõju pigem neutraalne.
A62: Mudatilder | B62: positiivne | C62: B2 | D62: Tavaline haudelind rabades ja siirdesoodes. Veerežiimi taastamine aitab tagada sobiva elupaigatüübi säilimise ja avaldab positiivset mõju.
A63: Punajalg-tilder | B63: positiivne | C63: B2 | D63: Elutseb niisketel või soostunud kõrge rohukasvuga aladel. Toitub lompide või muude veekogude kaldaäärsetel. Veerežiimi taastamine aitab tagada sobiva elupaigatüübi säilimise ja avaldab positiivset mõju. Paraneb nii toitumisala kui ka pesitsusala seisund.
A64: Punaselg-õgija | B64: puudub | C64: puudub | D64: Pesitseb avatud või poolavatud maastikes. Toitub avatud aladel pesitsuskoha ümbruses. Pesitseb peamiselt põõsastikes.
D65: Veerežiimi taastamine pigem neutraalse mõjuga.
A66: Väike-kirjurähn | B66: neutraalne | C66: neutraalne | D66: Eelistab vahelduva iseloomuga leht- ja segametsi, tegutseda selliste metsade äärealadel. Veerežiimi taastamine pigem neutraalse mõjuga.
A67: Teder | B67: positiivne | C67: B2 | D67: Pesitseb madal- ja siirdesoodes ning soometsade servades. Taastamistöödel on positiivne mõju, kuna elupaigaks sobivate metsade veerežiim stabiliseerub/taastub.
A68: Hoburästas | B68: puudub | C68: puudub | D68: Elab nõmme- ja rabamännikutes, männi-kuuse segametsades, puisniitudel. Taastamistöödel ajutine tööde aegne negatiivne mõju häiringu näol, muidu mõju puudub.
A69: Rüüt | B69: positiivne | C69: B2 | D69: Rabade haudelind, kes käib toitumas pesitsusalasid ümbritsevatel niitudel ja põldudel. Taastamistöödel on positiivne mõju, kuna elupaigaks sobivate koosluste veerežiim stabiliseerub/taastub.
A70: Sookurg | B70: positiivne | C70: B2 | D70: Pesitseb märgaladel, soometsade lagendikel ja sisemaa järvede ning rannikuveekogude ääres. Taastamistööde tulemusel paraneb nii toitumisala kui ka pesitsusala seisund.
A71: Väike-kärbsenäpp | B71: neutraalne | C71: neutraalne | D71: Asustab vanades okas- ja segametsi. Toitub peamiselt putukatest. Pesitseb puuõõnsuses või tüveharude vahel. Veerežiimi taastamine pigem neutraalse mõjuga.
A72: Laanepüü | B72: neutraalne | C72: neutraalne | D72: Elutseb kuusepuistutes. Marjade valmimisel kasutab erinevat tüüpi metsi, talve veedab lepa- ja kasepuistutes. Pesitseb peamiselt maapinnal. Veerežiimi taastamine pigem neutraalse mõjuga.
A73: Händkakk | B73: puudub | C73: puudub | D73: Elutseb peamiselt suuremates metsamassiivides. Taastamistöödel ajutine tööde aegne negatiivne mõju häiringu näol, muidu mõju puudub.
A74: Musträhn | B74: positiivne | C74: A2 | D74: Elutseb vanemates valgusküllastes männikutes ning leht- ja segametsades, raielankidel ja muudel servaaladel nagu rabaservad, jõeäärsed. Pesitseb haava- või männitüves. Veerežiimi taastamine aitab tagada sobiva elupaigatüübi säilimise ja omab positiivset mõju.
A75: Hallpea-rähn | B75: positiivne | C75: A2 | D75: Elupaigana eelistab hõredaid leht- ja segametsi. Pesitseb pehkinud lehtpuutüvedes. Veerežiimi taastamine aitab tagada sobiva elupaigatüübi säilimise ja omab positiivset mõju.
A76: Värbkakk | B76: positiivne | C76: A2 | D76: Elutseb vanades kuusikutes või kuuse ülekaaluga segametsades, vahel ka männikutes. Kasutab suur-kirjurähni ja laanerähni vanu pesaõõnsusi. Veerežiimi taastamine aitab tagada sobiva elupaigatüübi säilimise ja omab positiivset mõju.
A77: Suur nööpsamblik | B77: puudub | C77: puudub | D77: Kasvab peamiselt leht- ja segametsades vanematel puudel. Kõige sagedasem haaval ja saarel. Kui elupaigas ei raiuta, siis lühemas perspektiivis olulist mõju pole.
... A90: Sulgjas õhik | B90: neutraalne | C90: neutraalne | D90: Kasvab vanades loodusmetsades puutüvedel. Veerežiimi taastamine pigem neutraalse mõjuga.

Sheet Tab 14.Maaomanikud
A1: Tabel 14. Taastamise mõjualasse jäävad maaomanikud
A2: Jrk. nr. | B2: Katastriüksuse nimi | C2: Katastriüksuse tunnus | D2: Tegevusest mõjutatud maaomanikud (alal/piirnev / kaugemal, aga tegevustest mõjutatud) | E2: Omanik | F2: Kontaktandmed | G2: Kooskõlastus (jah/ei)
A3: 1 | B3: Audru metskond 100 | C3: 82603:004:0187 | D3: alal | E3: RMK
A4: 2 | B4: Audru metskond 52 | C4: 62401:001:2178 | D4: alal | E4: RKIK
A5: 3 | B5: Audru metskond 21 | C5: 82603:002:0210 | D5: alal | E5: RMK
A6: 4 | B6: Audru metskond 101 | C6: 82603:004:0188 | D6: alal | E6: RMK
A7: 5 | B7: Audru metskond 66 | C7: 15905:004:0090 | D7: alal | E7: RMK
A8: 6 | B8: Uuehansu | C8: 15905:004:0008 | D8: alal | E8: RMK
A9: 7 | B9: Audru metskond 68 | C9: 15905:004:0257 | D9: alal | E9: RMK
A10: 8 | B10: Audru metskond 124 | C10: 15905:004:0671 | D10: alal | E10: RMK
A11: 9 | B11: Lindi looduskaitseala 2 | C11: 15905:004:1044 | D11: alal | E11: RMK
A12: 10 | B12: Lindi looduskaitseala 4 | C12: 15905:004:0617 | D12: alal | E12: RMK
A13: 11 | B13: Piiri | C13: 15905:004:0514 | D13: alal | E13: RMK
A14: 12 | B14: Lindi looduskaitseala 3 | C14: 15905:004:1019 | D14: alal | E14: RMK
... A27: 25 | B27: Riiva | C27: 15905:004:0127 | D27: juurdepääsutee (Taltsi - Lindi tee) on kinnistu sees | E27: eraomandis olev

Sheet Tab 15.Infrastruktuur
A1: Tabel 15. Taastamise mõjualasse jääv infrastruktuur
A2: Jrk. nr. | B2: Teed (nimi) | C2: Tee number | D2: Tee liik | E2: Võimaliku mõju lühikirjeldus
A3: 1 | B3: Kõima-Seliste kõrvalmaantee | C3: 19107 | D3: riigitee | E3: Kraav 138, 133 ja osaliselt 131 jäävad olemasolevasse seisundisse, truubist T2 läbivool tagatud. Mõju on välistatud.
A4: 2 | B4: Karuga-Kõpu tee | C4: 1590705 | D4: metsatee | E4: Teekraavid jäävad avatuks. Projekteeritud 3 uut kraavilõiku (251a, 251b, 251c) ning 2 kraavi (252a, 252b) rekonstrueerimist (voolusuuna muutmine). Kraav nr 119 ning osaliselt 120 ja 104 on jäetud olemasolevasse seisundisse. Mõju on välistatud.
A5: 3 | B5: Männikoja - Taltsi tee | C5: 8260730 | D5: metsatee | E5: Teekraavid jäävad avatuks. Äravoolu tagav kraav 153 ja 151 jäävad avatuks. Mõju on välistatud.
A6: 4 | B6: Potsepa -Kõpu tee | C6: 1519706 | D6: metsatee | E6: Teekraavid jäävad avatuks. Tee-alune truup T4 jääb puutumata, truubist allavoolu kraav 103 jääb avatuks. Kraavil paiknev koprapais mõju teele ei avalda. Mõju on välistatud.
A7: 5 | B7: Maaparandussüsteemid (nimi) | C7: Süsteemi kood | D7: Ehitise kood | E7: Võimaliku mõju lühikirjeldus
A8: 6 | B8: Potsepa(PÜ-79) | C8: 6112170020120 | D8: 001 | E8: Potsepa ja Läänepoolse tööaldest allavoolu asuv maaparandussüsteemi kraavivõrk jääb puutumata. Eesvool jääb puutumata. Lindi soo piirikraavid jäävad puutumata. Negatiivne mõju puudub.
A9: 7 | B9: Potsepa(PÜ-79) | C9: 6112150030030 | D9: 001 | E9: Väljaspool tööala kraavivõrk ja olulised piirikraavid jäävad puutumata, MPS toimimisele negatiivne mõju puudub. Kraavid suletakse Natura elupaikade aladel.
A10: 8 | B10: Tõstamaa (PÜ-79) | C10: 6112150020010 | D10: 002 | E10: Väljaspool tööala kraavivõrk jääb puutumata, olulised piirikraavid jäävad puutumata vältimaks MPS kraavivõrgule ja selle toimimisele mõju avaldamist. MPS toimimisele negatiivne mõju on välistatud.
A11: 9 | B11: Tõstamaa (PÜ-79) | C11: 6112140020060 | D11: 001 | E11: Väljaspool tööala kraavivõrk jääb puutumata. Kraavivõrgu voolusuund on tööaladest eemale (lääne suunas). Negatiivne mõju puudub.
A12: 10 | B12: Potsepa(PÜ-79) | C12: 6112180030080 | D12: 001 | E12: Väljaspool tööala kraavivõrk jääb puutumata. Suletakse tööala piires kraavivõrgust ülesvoolu paiknevad kraavid 101 ja 102. Negatiivne mõju puudub.
A13: 11 | B13: Lindi oja | C13: 6112170020000 | D13: 001 | E13: Algab Lindi soo tööala piirist allavoolu. Eesvool jääb puutumata. Negatiivne mõju puudub.
